Workbook

Sheet Principale
A1: Nome del personaggio
B4: Nome giocatore | K4: Nome giocatore | X4: Master | AA4: Nome Master
B6: Razza | D6: Razza | K6: Sottorazza | O6: Sottorazza | U6: Taglia | W6: =IF(D6="Asura",3,4) -> 4 | X6: Sesso | Z6: M/F | AC6: Età | AE6: 100
B8: Altezza | E8: 200 | G8: cm | I8: Peso | K8: 100 | M8: Kg | O8: Occhi | Q8: Colore | U8: Capelli | X8: Colore | AB8: Pelle | AD8: Colore
B10: Nato a | E10: Città di nascita | O10: Luogo di origine | U10: Luogo di origine
B12: Studi | D12: Studi | Q12: Status | T12: Status sociale | AC12: Mano | AE12: Des/Sin | BM12: Avanzamento Livello | BT12: Modifiche taglia | CC12: Bonus Qualità
B14: Carattere | F14: Comportamento del personaggio | BM14: 1 | BN14: 1000 | BU14: Schivata | BV14: Tempra | BW14: Forza | BX14: Agilità | BY14: Manualità | BZ14: Costituzione | CC14: Barriera magica | CH14: =IF(ISERROR(CI14)=TRUE,0,1) -> 0 | CI14: =IF(VLOOKUP("Barriera magica",Abilità!C216:K228,1,FALSE)="Barriera magica",1,0) -> #N/A
BM15: 2 | BN15: 3000 | CC15: Barriera psichica | CH15: =IF(ISERROR(CI15)=TRUE,0,1) -> 0 | CI15: =IF(VLOOKUP("Barriera psichica",Abilità!C216:K228,1,FALSE)="Barriera psichica",1,0) -> #N/A
BM16: 3 | BN16: 5000
BM17: 4 | BN17: 8000 | BT17: 1 | BU17: 6 | BV17: -4 | BW17: -4 | BX17: 2 | BY17: 3 | BZ17: -3
BI18: Coefficenti CARAT. per tabella abilità | BK18: Numeri per il calcolo dell'energia | BM18: 5 | BN18: 12000 | BT18: 2 | BU18: 3 | BV18: -2 | BW18: -2 | BX18: 1 | BY18: 1 | BZ18: -1
BM19: 6 | BN19: 16500 | BT19: 3 | BU19: 1 | BV19: -1 | BW19: -1 | BX19: 0 | BY19: 0 | BZ19: 0
B20: LIVELLO | F20: =LOOKUP(N20,BN14:BN33,BM14:BM33) -> 1 | J20: Punti abilità (PA) | N20: 1000 | S20: Punti azione (PAz) | W20: =M36+M44+FLOOR((M36+M44)/8,1)*FLOOR(F20/4,1)+AI69+CJ44 -> 20 | Y20: 0 | AA20: Movimento | AE20: =Equipaggiamento!BA3+Equipaggiamento!AT3+Y71+AI71 -> 14 | BM20: 7 | BN20: 21500 | BT20: 4 | BU20: 0 | BV20: 0 | BW20: 0 | BX20: 0 | BY20: 0 | BZ20: 0
AA21: PAz per 1 m | AE21: =W20/AE20 -> 1.4285714 | BM21: 8 | BN21: 27000 | BT21: 5 | BU21: -1 | BV21: 1 | BW21: 1 | BX21: 0 | BY21: -1 | BZ21: 1
BM22: 9 | BN22: 33000 | BT22: 6 | BU22: -3 | BV22: 2 | BW22: 3 | BX22: -1 | BY22: -2 | BZ22: 2
B23: ENERGIA | F23: =(M32+M40+M46)*2+SUM(BK32,BK40,BK46)+AO67 -> 60 | H23: 0 | J23: MANA | N23: =M50*4+M50*FLOOR(F20/4,1)+AO69 -> 40 | P23: 0 | S23: MENTE | W23: =M52*4+M52*FLOOR(F20/4,1)+AO71 -> 40 | Y23: 0 | AA23: INIZIATIVA | AE23: =M36+BP50 -> 10 | BM23: 10 | BN23: 40000 | BT23: 7 | BU23: -6 | BV23: 4 | BW23: 6 | BX23: -1 | BY23: -4 | BZ23: 4
BM24: 11 | BN24: 48000 | BT24: 8 | BU24: -9 | BV24: 6 | BW24: 9 | BX24: -2 | BY24: -7 | BZ24: 6
BM25: 12 | BN25: 57000 | BT25: 9 | BU25: -12 | BV25: 8 | BW25: 12 | BX25: -3 | BY25: -10 | BZ25: 9
BM26: 13 | BN26: 67000
B27: CARATTERISTICHE | AH27: DIFESE | BM27: 14 | BN27: 78000
BM28: 15 | BN28: 90000
B29: CARATTERISTICA | J29: DADO | M29: VALORI BASE | R29: VALORI TEMPORANEI | W29: MOD. RAZZA | Y29: MOD. TAGLIA | AA29: AUMENTI | BM29: 16 | BN29: 103000
AA30: 3° | AB30: 6° | AC30: 9° | AD30: 12° | AE30: 15° | AF30: 18° | BM30: 17 | BN30: 117000
BM31: 18 | BN31: 132000 | CB31: =IF(VLOOKUP("Schivata prodigiosa",Abilità!C216:K228,1,FALSE)="Schivata prodigiosa",1,0) -> #N/A | CC31: =IF(VLOOKUP("Schivata suprema",Abilità!C216:K228,1,FALSE)="Schivata suprema",1,0) -> #N/A | CD31: =IF(VLOOKUP("Mulo da trasporto",Abilità!C216:K228,1,FALSE)="Mulo da trasporto",1,0) -> #N/A | CE31: =IF(VLOOKUP("Iniziativa migliorata",Abilità!C216:K228,1,FALSE)="Iniziativa migliorata",1,0) -> #N/A | CF31: =IF(VLOOKUP("Infaticabile",Abilità!C216:K228,1,FALSE)="Infaticabile",1,0) -> #N/A
B32: FORZA (For) | J32: 10 | M32: =IF(J32="","",J32+W32+Y32+SUM(AA32:AF32)) -> 10 | O32: =IF(M32<6,"x0,7",IF(M32>15,"x1,3",IF(M32>13,"x1,2",IF(M32>11,"x1,1",IF(M32>11,"x1,1",IF(M32>9,"x1,0",IF(M32>7,"x0,9","x0,8"))))))) -> x1,0 | T32: x0,0 | W32: =IF(O6="Reaniano",1,IF(O6="O. di superficie",-1,IF(D6="Mezzo-demone",1,IF(D6="Elfo scuro",-1,IF(O6="Olba",1,IF(O6="Lótë",-1,IF(O6="Atan",1,IF(D6="Asura",-1,IF(D6="Mezzo-umano",2,0))))))))) -> 0 | Y32: =VLOOKUP($W$6,BT17:BZ25,4) -> 0 | AH32: SCHIVATA | AM32: =FLOOR((M34+M36)/2,1)+FLOOR((F20-11)/3,1)+(VLOOKUP($W$6,BT17:BZ25,2))+AI67 -> 6 | AO32: =AM32+BP44 -> 6 | AR32: Punti Vita (PV) | AU32: =M46*6+M46*FLOOR(F20/5,1) -> 60 | BI32: =VALUE(MID(O32,2,4)) -> 1 | BK32: =IF(M32>10,(M32-10)*FLOOR($F$20/5,1),0) -> 0 | BM32: 19 | BN32: 148000 | BP32: =SUM(BR32:CD32) -> 0 | BR32: =IF(BS32<>0,0,IF(Abilità!AP216="SI",IF(CF32=2,0,-1),0)) -> 0 | BS32: =IF(Abilità!AP218="SI",IF(CF32=2,-1,-3),0) -> 0 | BT32: =IF(Abilità!AP222="SI",-10,0) -> 0 | BU32: =IF(Abilità!AP226="SI","SI","NO") -> NO | BW32: =IF(BY32<>0,0,IF(BX32<>0,0,IF(Abilità!BC216="SI",-1,0))) -> 0 | BX32: =IF(BY32<>0,0,IF(Abilità!BC218="SI",-3,0)) -> 0 | BY32: =IF(Abilità!BC220="SI",-6,0) -> 0 | BZ32: =IF(Abilità!BC222="SI",-5,0) -> 0 | CA32: =IF(Abilità!AP220="SI","SI","NO") -> NO | CF32: =IF(ISERROR(CF31)=TRUE,0,2) -> 0 | CG32: Pen. prove
BM33: 20 | BN33: 165000
B34: AGILITÀ (Agi) | J34: 10 | M34: =IF(J34="","",J34+W34+Y34+SUM(AA34:AF34)) -> 10 | O34: =IF(M34<6,"x0,7",IF(M34>15,"x1,3",IF(M34>13,"x1,2",IF(M34>11,"x1,1",IF(M34>11,"x1,1",IF(M34>9,"x1,0",IF(M34>7,"x0,9","x0,8"))))))) -> x1,0 | T34: x0,0 | W34: =IF(O6="Reaniano",-1,IF(D6="Elfo scuro",1,IF(O6="Lassemista",-1,IF(O6="Lótë",1,0)))) -> 0 | Y34: =VLOOKUP($W$6,BT17:BZ25,5) -> 0 | AH34: TEMPRA | AM34: =1+FLOOR(F20/3,1)+FLOOR(M46/2,1)+(VLOOKUP($W$6,BT17:BZ25,3))+AU67 -> 6 | BI34: =VALUE(MID(O34,2,4)) -> 1 | BR34: Affaticato | BS34: Stremato | BT34: Cieco | BU34: Sordo | BV34: Penalità ING | BW34: Scosso | BX34: Impaurito | BY34: Terrorizzato | BZ34: Confuso | CA34: Addormentato | CB34: Schivata Prodigiosa | CC34: Schivata suprema | CD34: Mulo da trasporto | CE34: Iniziativa Migliorata | CF34: Infaticabile
B36: RIFLESSI (Rif) | J36: 10 | M36: =IF(J36="","",J36+W36+Y36+SUM(AA36:AF36)) -> 10 | O36: =IF(M36<6,"x0,7",IF(M36>15,"x1,3",IF(M36>13,"x1,2",IF(M36>11,"x1,1",IF(M36>11,"x1,1",IF(M36>9,"x1,0",IF(M36>7,"x0,9","x0,8"))))))) -> x1,0 | T36: x0,0 | W36: =IF(D6="Elfo scuro",1,IF(D6="Dampiro",2,IF(D6="Mezzo-umano",1,0))) -> 0 | Y36: 0 | AH36: VOLONTÀ MAGICO | AM36: =1+FLOOR(F20/3,1)+AU50+CH14+AU69 -> 6 | BI36: =VALUE(MID(O36,2,4)) -> 1
B38: MANUALITÀ (Man) | J38: 10 | M38: =IF(J38="","",J38+W38+Y38+SUM(AA38:AF38)) -> 10 | O38: =IF(M38<6,"x0,7",IF(M38>15,"x1,3",IF(M38>13,"x1,2",IF(M38>11,"x1,1",IF(M38>11,"x1,1",IF(M38>9,"x1,0",IF(M38>7,"x0,9","x0,8"))))))) -> x1,0 | T38: x0,0 | W38: =IF(D6="Elfo scuro",1,IF(D6="Asura",1,0)) -> 0 | Y38: =VLOOKUP($W$6,BT17:BZ25,6) -> 0 | AH38: VOLONTÀ PSICHICO | AM38: =1+FLOOR(F20/3,1)+AU52+CH15+AU71 -> 6 | AR38: Resistenze | BI38: =VALUE(MID(O38,2,4)) -> 1
B40: INTELLIGENZA (Int) | J40: 10 | M40: =IF(J40="","",J40+W40+Y40+SUM(AA40:AF40)) -> 10 | O40: =IF(M40<6,"x0,7",IF(M40>15,"x1,3",IF(M40>13,"x1,2",IF(M40>11,"x1,1",IF(M40>11,"x1,1",IF(M40>9,"x1,0",IF(M40>7,"x0,9","x0,8"))))))) -> x1,0 | T40: x0,0 | W40: =IF(O6="Valariano",1,IF(O6="Nárë",1,IF(D6="Asura",2,IF(D6="Mezzo-umano",2,0)))) -> 0 | Y40: 0 | AH40: Corpo | AK40: PV | AO40: Arm. | AR40: FISICO | AU40: 5 | BI40: =VALUE(MID(O40,2,4)) -> 1 | BK40: =IF(M40>10,(M40-10)*FLOOR($F$20/5,1),0) -> 0 | CJ40: ç PAz
B42: MEMORIA (Mem) | J42: 10 | M42: =IF(J42="","",J42+W42+Y42+SUM(AA42:AF42)) -> 10 | O42: =IF(M42<6,"x0,7",IF(M42>15,"x1,3",IF(M42>13,"x1,2",IF(M42>11,"x1,1",IF(M42>11,"x1,1",IF(M42>9,"x1,0",IF(M42>7,"x0,9","x0,8"))))))) -> x1,0 | T42: x0,0 | W42: =IF(O6="Valariano",-1,IF(O6="Olba",1,IF(O6="Lótë",-1,IF(D6="Asura",1,IF(D6="Mezzo-umano",-1,0))))) -> 0 | Y42: 0 | AH42: TESTA | AK42: =VLOOKUP($AU$32,BP56:CD107,4) -> 6 | AM42: 0 | AO42: 0 | AR42: FUOCO | AU42: 5 | BI42: =VALUE(MID(O42,2,4)) -> 1 | BP42: =SUM(BR42:CD42) -> 0 | BR42: =IF(BS32<>0,0,IF(Abilità!AP216="SI",IF(CF32=2,0,-2),0)) -> 0 | BS42: =IF(Abilità!AP218="SI",IF(CF32=2,-3,-5),0) -> 0 | BT42: =IF(Abilità!AP222="SI",0,0) -> 0 | BU42: =IF(Abilità!AP226="SI",0,0) -> 0 | BV42: 0 | BZ42: =IF(Abilità!BC222="SI",0,0) -> 0 | CD42: =IF(ISERROR(CD31)=TRUE,0,2) -> 0 | CG42: Penalità ING
B44: INTUITO (Itu) | J44: 10 | M44: =IF(J44="","",J44+W44+Y44+SUM(AA44:AF44)) -> 10 | O44: =IF(M44<6,"x0,7",IF(M44>15,"x1,3",IF(M44>13,"x1,2",IF(M44>11,"x1,1",IF(M44>11,"x1,1",IF(M44>9,"x1,0",IF(M44>7,"x0,9","x0,8"))))))) -> x1,0 | T44: x0,0 | W44: =IF(O6="O. di superficie",1,IF(D6="Mezzo-demone",-1,IF(O6="Lassemista",1,IF(O6="Lótë",-1,0)))) -> 0 | Y44: 0 | AH44: TRONCO | AK44: =VLOOKUP($AU$32,BP56:CD107,6) -> 22 | AM44: 0 | AO44: 0 | AR44: FREDDO | AU44: 5 | BI44: =VALUE(MID(O44,2,4)) -> 1 | BP44: =SUM(BR44:CD44) -> 0 | BR44: =IF(BS32<>0,0,IF(Abilità!AP216="SI",IF(CF32=2,0,-1),0)) -> 0 | BS44: =IF(Abilità!AP218="SI",IF(CF32=2,-1,-3),0) -> 0 | BT44: =IF(Abilità!AP222="SI",-10,0) -> 0 | BU44: =IF(Abilità!AP226="SI",-2,0) -> 0 | BV44: =Equipaggiamento!AQ3 -> 0 | BW44: =IF(BY32<>0,0,IF(BX32<>0,0,IF(Abilità!BC216="SI",-1,0))) -> 0 | BX44: =IF(BY32<>0,0,IF(Abilità!BC218="SI",-3,0)) -> 0 | BY44: =IF(Abilità!BC220="SI",-6,0) -> 0 | BZ44: =IF(Abilità!BC222="SI",-5,0) -> 0 | CB44: =IF(ISERROR(CB31)=TRUE,0,1) -> 0 | CC44: =IF(ISERROR(CC31)=TRUE,0,1) -> 0 | CG44: Pen. Schivata | CJ44: =IF(BW44=-1,-3,IF(BX44=-3,-6,IF(BY44=-6,-10,0))) -> 0
B46: COSTITUZIONE (Cos) | J46: 10 | M46: =IF(J46="","",J46+W46+Y46+SUM(AA46:AF46)) -> 10 | O46: =IF(M46<6,"x0,7",IF(M46>15,"x1,3",IF(M46>13,"x1,2",IF(M46>11,"x1,1",IF(M46>11,"x1,1",IF(M46>9,"x1,0",IF(M46>7,"x0,9","x0,8"))))))) -> x1,0 | T46: x0,0 | W46: =IF(O6="Reaniano",1,IF(O6="O. del sottosuolo",1,IF(D6="Elfo scuro",-1,IF(O6="Lassemista",1,IF(D6="Asura",-2,IF(D6="Mezzo-umano",1,0)))))) -> 0 | Y46: =VLOOKUP($W$6,BT17:BZ25,7) -> 0 | AH46: BRACCIO Sx | AK46: =VLOOKUP($AU$32,BP56:CD107,8) -> 7 | AM46: 0 | AO46: 0 | AR46: ELETTRICO | AU46: 5 | BI46: =VALUE(MID(O46,2,4)) -> 1 | BK46: =IF(M46>10,(M46-10)*FLOOR($F$20/5,1),0) -> 0 | BP46: SORDO | BR46: =IF(BU32="SI",-2,0) -> 0 | BS46: =IF(BU32="SI",-5,0) -> 0
B48: CARISMA (Car) | J48: 10 | M48: =IF(J48="","",J48+W48+Y48+SUM(AA48:AF48)) -> 10 | O48: =IF(M48<6,"x0,7",IF(M48>15,"x1,3",IF(M48>13,"x1,2",IF(M48>11,"x1,1",IF(M48>11,"x1,1",IF(M48>9,"x1,0",IF(M48>7,"x0,9","x0,8"))))))) -> x1,0 | T48: x0,0 | W48: =IF(O6="Reaniano",-1,IF(O6="Valariano",1,IF(O6="O. del sottosuolo",-1,IF(D6="Mezzo-demone",-1,IF(O6="Olba",-2,IF(O6="Lassemista",-1,IF(O6="Lótë",1,IF(D6="Asura",-1,IF(D6="Mezzo-umano",-2,0))))))))) -> 0 | Y48: 0 | AH48: BRACCIO Dx | AK48: =VLOOKUP($AU$32,BP56:CD107,10) -> 7 | AM48: 0 | AO48: 0 | AR48: ACIDO | AU48: 5 | BI48: =VALUE(MID(O48,2,4)) -> 1 | BP48: ADDOR. | BR48: =IF(CA32="SI",-5,0) -> 0
B50: SPIRITO (Spi) | J50: 10 | M50: =IF(J50="","",J50+W50+Y50+SUM(AA50:AF50)) -> 10 | O50: =IF(M50<6,"x0,7",IF(M50>15,"x1,3",IF(M50>13,"x1,2",IF(M50>11,"x1,1",IF(M50>11,"x1,1",IF(M50>9,"x1,0",IF(M50>7,"x0,9","x0,8"))))))) -> x1,0 | T50: x0,0 | W50: =IF(D6="Mezzo-demone",1,IF(D6="Elfo scuro",-2,IF(O6="Lótë",1,IF(D6="Dampiro",-2,0)))) -> 0 | Y50: 0 | AH50: GAMBA Sx | AK50: =VLOOKUP($AU$32,BP56:CD107,12) -> 9 | AM50: 0 | AO50: 0 | AR50: MAGICO | AU50: 5 | BI50: =VALUE(MID(O50,2,4)) -> 1 | BP50: =SUM(BR50:CE50) -> 0 | CE50: =IF(ISERROR(CE31)=TRUE,0,2) -> 0 | CG50: Bonus Iniziat.
B52: EMPATIA (Emp) | J52: 10 | M52: =IF(J52="","",J52+W52+Y52+SUM(AA52:AF52)) -> 10 | O52: =IF(M52<6,"x0,7",IF(M52>15,"x1,3",IF(M52>13,"x1,2",IF(M52>11,"x1,1",IF(M52>11,"x1,1",IF(M52>9,"x1,0",IF(M52>7,"x0,9","x0,8"))))))) -> x1,0 | T52: x0,0 | W52: =IF(O6="Valariano",-1,IF(D6="Elfo scuro",1,IF(D6="Dampiro",-1,IF(D6="Mezzo-umano",-3,0)))) -> 0 | Y52: 0 | AH52: GAMBA Dx | AK52: =VLOOKUP($AU$32,BP56:CD107,14) -> 9 | AM52: 0 | AO52: 0 | AR52: PSICHICO | AU52: 5 | BI52: =VALUE(MID(O52,2,4)) -> 1 | BP52: GESTIONE PUNTI VITA
BP54: PV | BS54: Testa | BU54: Tronco | BW54: B Sx | BY54: B Dx | CA54: G Sx | CC54: G Dx
B56: Armatura indossata | AF56: Scudo | BP56: 48 | BS56: 5 | BU56: 17 | BW56: 6 | BY56: 6 | CA56: 7 | CC56: 7
BP57: 54 | BS57: 5 | BU57: 19 | BW57: 7 | BY57: 7 | CA57: 9 | CC57: 9
E58: Armatura | M58: Tipo | P58: Bonus | S58: Pen. prove | V58: Pen. magia | Y58: P. Velocità | AB58: Peso (Kg) | BP58: 56 | BS58: 6 | BU58: 20 | BW58: 7 | BY58: 7 | CA58: 8 | CC58: 8
...

Sheet Abilità
B1: Capacità del personaggio
B3: PA Totali | F3: =Principale!N20 -> 1000 | L3: PA SPESI IN ABILITÀ | S3: =SUM(N11:P210) -> 0 | W3: PA SPESI IN LINGUE | AF3: 0 | AJ3: PA SPESI IN RICERCA | AQ3: 0 | AU3: PA RESIDUI | BA3: =F3-SUM(S3,AF3,AQ3) -> 1000
L5: PUNTI RICERCA DI LAM | S5: =Principale!F20+U5 -> 1 | U5: 0 | W5: PUNTI RICERCA DI "RICETTE" | AF5: =_xlfn.FLOOR.MATH(Principale!F20/2)+U5 -> 0 | AH5: 0 | AJ5: P. RICERCA IN ABILITÀ | AQ5: =SUM(BA11:BB210) -> 0 | AU5: PUNTI RIC. USATI | BA5: =SUM(BC11:BD210) -> 0 | BI5: BONUS DI SINERGIA | CC5: TABELLA LIVELLO/PA
B7: ABILITÀ | L7: Livello abilità | N7: PA | Q7: PAE | U7: Bonus LA vari | W7: Modif. carat. | Y7: Sinergia | AA7: Pen. totali | AD7: GRADO DI ATTINENZA (GA) | AS7: LIVELLO ABILITÀ MASSIMO (LAM)
N8: =VLOOKUP(Principale!F20,CC11:CF30,3) -> 85 | AD8: TOT | AF8: Razza | AH8: Nascita | AJ8: Studi | AL8: Status | AN8: Car. 1 | AP8: Car. 2 | AS8: TOT | AU8: Carat. | AW8: Studi | AY8: Prof. | BA8: Ricerca | BC8: Ric. us.
CD9: PA livello | CE9: Spesa max PA | CF9: PA totali
B10: ARMI AD ASTA (For, Rif) | L10: =IF(Principale!$E$98=Abilità!B10,2,IF(Principale!$Q$98=Abilità!B10,2,IF(Principale!$AC$98=Abilità!B10,1,IF(Principale!$AO$98=Abilità!B10,1,0)))) -> 0 | N10: Bonus GA Innato
B11: Alabarda (L0, Add.) | L11: =IF(Q11<136,0+SUM(U11:AB11)+$L$10,LOOKUP(Q11,$CD$11:$CD$31,$CC$11:$CC$31)+SUM(U11:AB11)+$L$10) -> 0 | Q11: =IF(AD11="",0,N11*AD11) -> 0 | W11: =IF(Principale!$M$32<6,-2,IF(Principale!$M$32<10,-1,IF(Principale!$M$32>15,2,IF(Principale!$M$32>11,1,0)))) -> 0 | AA11: =Principale!$BP$32+Principale!$BR$46 -> 0 | AD11: =IF(AF11=0,0,AF11*AH11*AJ11*AL11*AN11*AP11) -> 0 | AN11: =Principale!$BI$32 -> 1 | AP11: =IF(Principale!$BI$36<1,Principale!$BI$36+0.1,IF(Principale!$BI$36>1,Principale!$BI$36-0.1,Principale!$BI$36)) -> 1 | AS11: =SUM(AU11:BB11) -> 3 | AU11: =IF(Principale!$M$32<9,1,IF(Principale!$M$32>15,5,IF(Principale!$M$32>12,4,IF(Principale!$M$32>10,3,2)))) -> 2 | AW11: =IF(AJ11<0.8,1,IF(AJ11>1.2,5,IF(AJ11>1,4,IF(AJ11>0.8,3,2)))) -> 1 | CC11: 1 | CD11: 136 | CE11: 85 | CF11: 1000
B12: Bastone ferrato (L0) | L12: =IF(Q12<136,0+SUM(U12:AB12)+$L$10,LOOKUP(Q12,$CD$11:$CD$31,$CC$11:$CC$31)+SUM(U12:AB12)+$L$10) -> 0 | Q12: =IF(AD12="",0,N12*AD12) -> 0 | W12: =IF(Principale!$M$32<6,-2,IF(Principale!$M$32<10,-1,IF(Principale!$M$32>15,2,IF(Principale!$M$32>11,1,0)))) -> 0 | Y12: =+BI12 -> 0 | AA12: =Principale!$BP$32+Principale!$BR$46 -> 0 | AD12: =IF(AF12=0,0,AF12*AH12*AJ12*AL12*AN12*AP12) -> 0 | AN12: =Principale!$BI$32 -> 1 | AP12: =IF(Principale!$BI$36<1,Principale!$BI$36+0.1,IF(Principale!$BI$36>1,Principale!$BI$36-0.1,Principale!$BI$36)) -> 1 | AS12: =SUM(AU12:BB12) -> 3 | AU12: =IF(Principale!$M$32<9,1,IF(Principale!$M$32>15,5,IF(Principale!$M$32>12,4,IF(Principale!$M$32>10,3,2)))) -> 2 | AW12: =IF(AJ12<0.8,1,IF(AJ12>1.2,5,IF(AJ12>1,4,IF(AJ12>0.8,3,2)))) -> 1 | BI12: =IF(SUM(BJ12:CA12)>2,2,SUM(BJ12:CA12)) -> 0 | BJ12: =IF(Q20<136,0,IF(LOOKUP(Q20,$CD$11:$CD$31,$CC$11:$CC$31)>5,2,IF(LOOKUP(Q20,$CD$11:$CD$31,$CC$11:$CC$31)>2,1,0))) -> 0 | CC12: 2 | CD12: 376 | CE12: 235 | CF12: 3000
B13: Falce (L0) | L13: =IF(Q13<136,0+SUM(U13:AB13)+$L$10,LOOKUP(Q13,$CD$11:$CD$31,$CC$11:$CC$31)+SUM(U13:AB13)+$L$10) -> 0 | Q13: =IF(AD13="",0,N13*AD13) -> 0 | W13: =IF(Principale!$M$32<6,-2,IF(Principale!$M$32<10,-1,IF(Principale!$M$32>15,2,IF(Principale!$M$32>11,1,0)))) -> 0 | AA13: =Principale!$BP$32+Principale!$BR$46 -> 0 | AD13: =IF(AF13=0,0,AF13*AH13*AJ13*AL13*AN13*AP13) -> 0 | AN13: =Principale!$BI$32 -> 1 | AP13: =IF(Principale!$BI$36<1,Principale!$BI$36+0.1,IF(Principale!$BI$36>1,Principale!$BI$36-0.1,Principale!$BI$36)) -> 1 | AS13: =SUM(AU13:BB13) -> 3 | AU13: =IF(Principale!$M$32<9,1,IF(Principale!$M$32>15,5,IF(Principale!$M$32>12,4,IF(Principale!$M$32>10,3,2)))) -> 2 | AW13: =IF(AJ13<0.8,1,IF(AJ13>1.2,5,IF(AJ13>1,4,IF(AJ13>0.8,3,2)))) -> 1 | CC13: 3 | CD13: 736 | CE13: 460 | CF13: 5000
B14: Lancia da cavaliere (L0) | L14: =IF(Q14<136,0+SUM(U14:AB14)+$L$10,LOOKUP(Q14,$CD$11:$CD$31,$CC$11:$CC$31)+SUM(U14:AB14)+$L$10) -> 0 | Q14: =IF(AD14="",0,N14*AD14) -> 0 | W14: =IF(Principale!$M$32<6,-2,IF(Principale!$M$32<10,-1,IF(Principale!$M$32>15,2,IF(Principale!$M$32>11,1,0)))) -> 0 | Y14: =BI14 -> 0 | AA14: =Principale!$BP$32+Principale!$BR$46 -> 0 | AD14: =IF(AF14=0,0,AF14*AH14*AJ14*AL14*AN14*AP14) -> 0 | AN14: =Principale!$BI$32 -> 1 | AP14: =IF(Principale!$BI$36<1,Principale!$BI$36+0.1,IF(Principale!$BI$36>1,Principale!$BI$36-0.1,Principale!$BI$36)) -> 1 | AS14: =SUM(AU14:BB14) -> 3 | AU14: =IF(Principale!$M$32<9,1,IF(Principale!$M$32>15,5,IF(Principale!$M$32>12,4,IF(Principale!$M$32>10,3,2)))) -> 2 | AW14: =IF(AJ14<0.8,1,IF(AJ14>1.2,5,IF(AJ14>1,4,IF(AJ14>0.8,3,2)))) -> 1 | BI14: =IF(SUM(BJ14:CA14)>2,2,SUM(BJ14:CA14)) -> 0 | BJ14: =IF(Q28<136,0,IF(LOOKUP(Q28,$CD$11:$CD$31,$CC$11:$CC$31)>5,2,IF(LOOKUP(Q28,$CD$11:$CD$31,$CC$11:$CC$31)>2,1,0))) -> 0 | CC14: 4 | CD14: 1232 | CE14: 770 | CF14: 8000
B15: Picca (Add.) | L15: =IF(Q15<136,0+SUM(U15:AB15)+$L$10,LOOKUP(Q15,$CD$11:$CD$31,$CC$11:$CC$31)+SUM(U15:AB15)+$L$10) -> 0 | Q15: =IF(AD15="",0,N15*AD15) -> 0 | W15: =IF(Principale!$M$32<6,-2,IF(Principale!$M$32<10,-1,IF(Principale!$M$32>15,2,IF(Principale!$M$32>11,1,0)))) -> 0 | Y15: =BI15 -> 0 | AA15: =Principale!$BP$32+Principale!$BR$46 -> 0 | AD15: =IF(AF15=0,0,AF15*AH15*AJ15*AL15*AN15*AP15) -> 0 | AN15: =Principale!$BI$32 -> 1 | AP15: =IF(Principale!$BI$36<1,Principale!$BI$36+0.1,IF(Principale!$BI$36>1,Principale!$BI$36-0.1,Principale!$BI$36)) -> 1 | AS15: =SUM(AU15:BB15) -> 3 | AU15: =IF(Principale!$M$32<9,1,IF(Principale!$M$32>15,5,IF(Principale!$M$32>12,4,IF(Principale!$M$32>10,3,2)))) -> 2 | AW15: =IF(AJ15<0.8,1,IF(AJ15>1.2,5,IF(AJ15>1,4,IF(AJ15>0.8,3,2)))) -> 1 | BI15: =IF(SUM(BJ15:CA15)>2,2,SUM(BJ15:CA15)) -> 0 | BJ15: =IF(Q16<136,0,IF(LOOKUP(Q16,$CD$11:$CD$31,$CC$11:$CC$31)>5,2,IF(LOOKUP(Q16,$CD$11:$CD$31,$CC$11:$CC$31)>2,1,0))) -> 0 | CC15: 5 | CD15: 2045 | CE15: 1280 | CF15: 12000
B16: Tridente (L0) | L16: =IF(Q16<136,0+SUM(U16:AB16)+$L$10,LOOKUP(Q16,$CD$11:$CD$31,$CC$11:$CC$31)+SUM(U16:AB16)+$L$10) -> 0 | Q16: =IF(AD16="",0,N16*AD16) -> 0 | W16: =IF(Principale!$M$32<6,-2,IF(Principale!$M$32<10,-1,IF(Principale!$M$32>15,2,IF(Principale!$M$32>11,1,0)))) -> 0 | AA16: =Principale!$BP$32+Principale!$BR$46 -> 0 | AD16: =IF(AF16=0,0,AF16*AH16*AJ16*AL16*AN16*AP16) -> 0 | AN16: =Principale!$BI$32 -> 1 | AP16: =IF(Principale!$BI$36<1,Principale!$BI$36+0.1,IF(Principale!$BI$36>1,Principale!$BI$36-0.1,Principale!$BI$36)) -> 1 | AS16: =SUM(AU16:BB16) -> 3 | AU16: =IF(Principale!$M$32<9,1,IF(Principale!$M$32>15,5,IF(Principale!$M$32>12,4,IF(Principale!$M$32>10,3,2)))) -> 2 | AW16: =IF(AJ16<0.8,1,IF(AJ16>1.2,5,IF(AJ16>1,4,IF(AJ16>0.8,3,2)))) -> 1 | CC16: 6 | CD16: 2976 | CE16: 1860 | CF16: 16500
CC17: 7 | CD17: 4160 | CE17: 2600 | CF17: 21500
B18: ARMI CONTUNDENTI (For, Man) | L18: =IF(Principale!$E$98=Abilità!B18,2,IF(Principale!$Q$98=Abilità!B18,2,IF(Principale!$AC$98=Abilità!B18,1,IF(Principale!$AO$98=Abilità!B18,1,0)))) -> 0 | N18: Bonus GA Innato | CC18: 8 | CD18: 5600 | CE18: 3500 | CF18: 27000
B19: Contundenti piccole (L0) | L19: =IF(Q19<136,0+SUM(U19:AB19)+$L$18,LOOKUP(Q19,$CD$11:$CD$31,$CC$11:$CC$31)+SUM(U19:AB19)+$L$18) -> 0 | Q19: =IF(AD19="",0,N19*AD19) -> 0 | W19: =IF(Principale!$M$32<6,-2,IF(Principale!$M$32<10,-1,IF(Principale!$M$32>15,2,IF(Principale!$M$32>11,1,0)))) -> 0 | Y19: =BI19 -> 0 | AA19: =Principale!$BP$32+Principale!$BR$46 -> 0 | AD19: =IF(AF19=0,0,AF19*AH19*AJ19*AL19*AN19*AP19) -> 0 | AN19: =Principale!$BI$32 -> 1 | AP19: =IF(Principale!$BI$38<1,Principale!$BI$38+0.1,IF(Principale!$BI$38>1,Principale!$BI$38-0.1,Principale!$BI$38)) -> 1 | AS19: =SUM(AU19:BB19) -> 3 | AU19: =IF(Principale!$M$32<9,1,IF(Principale!$M$32>15,5,IF(Principale!$M$32>12,4,IF(Principale!$M$32>10,3,2)))) -> 2 | AW19: =IF(AJ19<0.8,1,IF(AJ19>1.2,5,IF(AJ19>1,4,IF(AJ19>0.8,3,2)))) -> 1 | BI19: =IF(SUM(BJ19:CA19)>2,2,SUM(BJ19:CA19)) -> 0 | BJ19: =IF(Q20<136,0,IF(LOOKUP(Q20,$CD$11:$CD$31,$CC$11:$CC$31)>5,2,IF(LOOKUP(Q20,$CD$11:$CD$31,$CC$11:$CC$31)>2,1,0))) -> 0 | BK19: =IF(Q21<136,0,IF(LOOKUP(Q21,$CD$11:$CD$31,$CC$11:$CC$31)>5,2,IF(LOOKUP(Q21,$CD$11:$CD$31,$CC$11:$CC$31)>2,1,0))) -> 0 | CC19: 9 | CD19: 7760 | CE19: 4850 | CF19: 33000
B20: Contundenti medie (L0) | L20: =IF(Q20<136,0+SUM(U20:AB20)+$L$18,LOOKUP(Q20,$CD$11:$CD$31,$CC$11:$CC$31)+SUM(U20:AB20)+$L$18) -> 0 | Q20: =IF(AD20="",0,N20*AD20) -> 0 | W20: =IF(Principale!$M$32<6,-2,IF(Principale!$M$32<10,-1,IF(Principale!$M$32>15,2,IF(Principale!$M$32>11,1,0)))) -> 0 | Y20: =BI20 -> 0 | AA20: =Principale!$BP$32+Principale!$BR$46 -> 0 | AD20: =IF(AF20=0,0,AF20*AH20*AJ20*AL20*AN20*AP20) -> 0 | AN20: =Principale!$BI$32 -> 1 | AP20: =IF(Principale!$BI$38<1,Principale!$BI$38+0.1,IF(Principale!$BI$38>1,Principale!$BI$38-0.1,Principale!$BI$38)) -> 1 | AS20: =SUM(AU20:BB20) -> 3 | AU20: =IF(Principale!$M$32<9,1,IF(Principale!$M$32>15,5,IF(Principale!$M$32>12,4,IF(Principale!$M$32>10,3,2)))) -> 2 | AW20: =IF(AJ20<0.8,1,IF(AJ20>1.2,5,IF(AJ20>1,4,IF(AJ20>0.8,3,2)))) -> 1 | BI20: =IF(SUM(BJ20:CA20)>2,2,SUM(BJ20:CA20)) -> 0 | BJ20: =IF(Q12<136,0,IF(LOOKUP(Q12,$CD$11:$CD$31,$CC$11:$CC$31)>5,2,IF(LOOKUP(Q12,$CD$11:$CD$31,$CC$11:$CC$31)>2,1,0))) -> 0 | BK20: =IF(Q19<136,0,IF(LOOKUP(Q19,$CD$11:$CD$31,$CC$11:$CC$31)>5,2,IF(LOOKUP(Q19,$CD$11:$CD$31,$CC$11:$CC$31)>2,1,0))) -> 0 | BL20: =IF(Q21<136,0,IF(LOOKUP(Q21,$CD$11:$CD$31,$CC$11:$CC$31)>5,2,IF(LOOKUP(Q21,$CD$11:$CD$31,$CC$11:$CC$31)>2,1,0))) -> 0 | CC20: 10 | CD20: 9920 | CE20: 6200 | CF20: 40000
B21: Contundenti grandi (L0) | L21: =IF(Q21<136,0+SUM(U21:AB21)+$L$18,LOOKUP(Q21,$CD$11:$CD$31,$CC$11:$CC$31)+SUM(U21:AB21)+$L$18) -> 0 | Q21: =IF(AD21="",0,N21*AD21) -> 0 | W21: =IF(Principale!$M$32<6,-2,IF(Principale!$M$32<10,-1,IF(Principale!$M$32>15,2,IF(Principale!$M$32>11,1,0)))) -> 0 | Y21: =BI21 -> 0 | AA21: =Principale!$BP$32+Principale!$BR$46 -> 0 | AD21: =IF(AF21=0,0,AF21*AH21*AJ21*AL21*AN21*AP21) -> 0 | AN21: =Principale!$BI$32 -> 1 | AP21: =IF(Principale!$BI$38<1,Principale!$BI$38+0.1,IF(Principale!$BI$38>1,Principale!$BI$38-0.1,Principale!$BI$38)) -> 1 | AS21: =SUM(AU21:BB21) -> 3 | AU21: =IF(Principale!$M$32<9,1,IF(Principale!$M$32>15,5,IF(Principale!$M$32>12,4,IF(Principale!$M$32>10,3,2)))) -> 2 | AW21: =IF(AJ21<0.8,1,IF(AJ21>1.2,5,IF(AJ21>1,4,IF(AJ21>0.8,3,2)))) -> 1 | BI21: =IF(SUM(BJ21:CA21)>2,2,SUM(BJ21:CA21)) -> 0 | BJ21: =IF(Q12<136,0,IF(LOOKUP(Q12,$CD$11:$CD$31,$CC$11:$CC$31)>5,2,IF(LOOKUP(Q12,$CD$11:$CD$31,$CC$11:$CC$31)>2,1,0))) -> 0 | BK21: =IF(Q19<136,0,IF(LOOKUP(Q19,$CD$11:$CD$31,$CC$11:$CC$31)>5,2,IF(LOOKUP(Q19,$CD$11:$CD$31,$CC$11:$CC$31)>2,1,0))) -> 0 | BL21: =IF(Q20<136,0,IF(LOOKUP(Q20,$CD$11:$CD$31,$CC$11:$CC$31)>5,2,IF(LOOKUP(Q20,$CD$11:$CD$31,$CC$11:$CC$31)>2,1,0))) -> 0 | CC21: 11 | CD21: 12448 | CE21: 7780 | CF21: 48000
CC22: 12 | CD22: 15392 | CE22: 9620 | CF22: 57000
B23: ARMI DA LANCIO (Agi, Man) | L23: =IF(Principale!$E$98=Abilità!B23,2,IF(Principale!$Q$98=Abilità!B23,2,IF(Principale!$AC$98=Abilità!B23,1,IF(Principale!$AO$98=Abilità!B23,1,0)))) -> 0 | N23: Bonus GA Innato | CC23: 13 | CD23: 20160 | CE23: 12600 | CF23: 67000
B24: Bolas (L0) | L24: =IF(Q24<136,0+SUM(U24:AB24)+$L$23,LOOKUP(Q24,$CD$11:$CD$31,$CC$11:$CC$31)+SUM(U24:AB24)+$L$23) -> 0 | Q24: =IF(AD24="",0,N24*AD24) -> 0 | W24: =IF(Principale!$M$34<6,-2,IF(Principale!$M$34<10,-1,IF(Principale!$M$34>15,2,IF(Principale!$M$34>11,1,0)))) -> 0 | AA24: =Principale!$BP$32+Principale!$BR$46 -> 0 | AD24: =IF(AF24=0,0,AF24*AH24*AJ24*AL24*AN24*AP24) -> 0 | AN24: =Principale!$BI$34 -> 1 | AP24: =IF(Principale!$BI$38<1,Principale!$BI$38+0.1,IF(Principale!$BI$38>1,Principale!$BI$38-0.1,Principale!$BI$38)) -> 1 | AS24: =SUM(AU24:BB24) -> 3 | AU24: =IF(Principale!$M$34<9,1,IF(Principale!$M$34>15,5,IF(Principale!$M$34>12,4,IF(Principale!$M$34>10,3,2)))) -> 2 | AW24: =IF(AJ24<0.8,1,IF(AJ24>1.2,5,IF(AJ24>1,4,IF(AJ24>0.8,3,2)))) -> 1 | CC24: 14 | CD24: 24160 | CE24: 15100 | CF24: 78000
B25: Boomerang | L25: =IF(Q25<136,0+SUM(U25:AB25)+$L$23,LOOKUP(Q25,$CD$11:$CD$31,$CC$11:$CC$31)+SUM(U25:AB25)+$L$23) -> 0 | Q25: =IF(AD25="",0,N25*AD25) -> 0 | W25: =IF(Principale!$M$34<6,-2,IF(Principale!$M$34<10,-1,IF(Principale!$M$34>15,2,IF(Principale!$M$34>11,1,0)))) -> 0 | AA25: =Principale!$BP$32+Principale!$BR$46 -> 0 | AD25: =IF(AF25=0,0,AF25*AH25*AJ25*AL25*AN25*AP25) -> 0 | AN25: =Principale!$BI$34 -> 1 | AP25: =IF(Principale!$BI$38<1,Principale!$BI$38+0.1,IF(Principale!$BI$38>1,Principale!$BI$38-0.1,Principale!$BI$38)) -> 1 | AS25: =SUM(AU25:BB25) -> 3 | AU25: =IF(Principale!$M$34<9,1,IF(Principale!$M$34>15,5,IF(Principale!$M$34>12,4,IF(Principale!$M$34>10,3,2)))) -> 2 | AW25: =IF(AJ25<0.8,1,IF(AJ25>1.2,5,IF(AJ25>1,4,IF(AJ25>0.8,3,2)))) -> 1 | CC25: 15 | CD25: 28800 | CE25: 18000 | CF25: 90000
B26: Dardi (L0) | L26: =IF(Q26<136,0+SUM(U26:AB26)+$L$23,LOOKUP(Q26,$CD$11:$CD$31,$CC$11:$CC$31)+SUM(U26:AB26)+$L$23) -> 0 | Q26: =IF(AD26="",0,N26*AD26) -> 0 | W26: =IF(Principale!$M$34<6,-2,IF(Principale!$M$34<10,-1,IF(Principale!$M$34>15,2,IF(Principale!$M$34>11,1,0)))) -> 0 | AA26: =Principale!$BP$32+Principale!$BR$46 -> 0 | AD26: =IF(AF26=0,0,AF26*AH26*AJ26*AL26*AN26*AP26) -> 0 | AN26: =Principale!$BI$34 -> 1 | AP26: =IF(Principale!$BI$38<1,Principale!$BI$38+0.1,IF(Principale!$BI$38>1,Principale!$BI$38-0.1,Principale!$BI$38)) -> 1 | AS26: =SUM(AU26:BB26) -> 3 | AU26: =IF(Principale!$M$34<9,1,IF(Principale!$M$34>15,5,IF(Principale!$M$34>12,4,IF(Principale!$M$34>10,3,2)))) -> 2 | AW26: =IF(AJ26<0.8,1,IF(AJ26>1.2,5,IF(AJ26>1,4,IF(AJ26>0.8,3,2)))) -> 1 | CC26: 16 | CD26: 33968 | CE26: 21230 | CF26: 103000
B27: Generico (L0) | L27: =IF(Q27<136,0+SUM(U27:AB27)+$L$23,LOOKUP(Q27,$CD$11:$CD$31,$CC$11:$CC$31)+SUM(U27:AB27)+$L$23) -> 0 | Q27: =IF(AD27="",0,N27*AD27) -> 0 | W27: =IF(Principale!$M$34<6,-2,IF(Principale!$M$34<10,-1,IF(Principale!$M$34>15,2,IF(Principale!$M$34>11,1,0)))) -> 0 | AA27: =Principale!$BP$32+Principale!$BR$46 -> 0 | AD27: =IF(AF27=0,0,AF27*AH27*AJ27*AL27*AN27*AP27) -> 0 | AN27: =Principale!$BI$34 -> 1 | AP27: =IF(Principale!$BI$38<1,Principale!$BI$38+0.1,IF(Principale!$BI$38>1,Principale!$BI$38-0.1,Principale!$BI$38)) -> 1 | AS27: =SUM(AU27:BB27) -> 3 | AU27: =IF(Principale!$M$34<9,1,IF(Principale!$M$34>15,5,IF(Principale!$M$34>12,4,IF(Principale!$M$34>10,3,2)))) -> 2 | AW27: =IF(AJ27<0.8,1,IF(AJ27>1.2,5,IF(AJ27>1,4,IF(AJ27>0.8,3,2)))) -> 1 | CC27: 17 | CD27: 42400 | CE27: 26500 | CF27: 117000
B28: Giavellotto (L0) | L28: =IF(Q28<136,0+SUM(U28:AB28)+$L$23,LOOKUP(Q28,$CD$11:$CD$31,$CC$11:$CC$31)+SUM(U28:AB28)+$L$23) -> 0 | Q28: =IF(AD28="",0,N28*AD28) -> 0 | W28: =IF(Principale!$M$34<6,-2,IF(Principale!$M$34<10,-1,IF(Principale!$M$34>15,2,IF(Principale!$M$34>11,1,0)))) -> 0 | Y28: =BI28 -> 0 | AA28: =Principale!$BP$32+Principale!$BR$46 -> 0 | AD28: =IF(AF28=0,0,AF28*AH28*AJ28*AL28*AN28*AP28) -> 0 | AN28: =Principale!$BI$34 -> 1 | AP28: =IF(Principale!$BI$38<1,Principale!$BI$38+0.1,IF(Principale!$BI$38>1,Principale!$BI$38-0.1,Principale!$BI$38)) -> 1 | AS28: =SUM(AU28:BB28) -> 3 | AU28: =IF(Principale!$M$34<9,1,IF(Principale!$M$34>15,5,IF(Principale!$M$34>12,4,IF(Principale!$M$34>10,3,2)))) -> 2 | AW28: =IF(AJ28<0.8,1,IF(AJ28>1.2,5,IF(AJ28>1,4,IF(AJ28>0.8,3,2)))) -> 1 | BI28: =IF(SUM(BJ28:CA28)>2,2,SUM(BJ28:CA28)) -> 0 | BJ28: =IF(Q14<136,0,IF(LOOKUP(Q14,$CD$11:$CD$31,$CC$11:$CC$31)>5,2,IF(LOOKUP(Q14,$CD$11:$CD$31,$CC$11:$CC$31)>2,1,0))) -> 0 | CC28: 18 | CD28: 50320 | CE28: 31450 | CF28: 132000
B29: Shuriken (Add.) | L29: =IF(Q29<136,0+SUM(U29:AB29)+$L$23,LOOKUP(Q29,$CD$11:$CD$31,$CC$11:$CC$31)+SUM(U29:AB29)+$L$23) -> 0 | Q29: =IF(AD29="",0,N29*AD29) -> 0 | W29: =IF(Principale!$M$34<6,-2,IF(Principale!$M$34<10,-1,IF(Principale!$M$34>15,2,IF(Principale!$M$34>11,1,0)))) -> 0 | AA29: =Principale!$BP$32+Principale!$BR$46 -> 0 | AD29: =IF(AF29=0,0,AF29*AH29*AJ29*AL29*AN29*AP29) -> 0 | AN29: =Principale!$BI$34 -> 1 | AP29: =IF(Principale!$BI$38<1,Principale!$BI$38+0.1,IF(Principale!$BI$38>1,Principale!$BI$38-0.1,Principale!$BI$38)) -> 1 | AS29: =SUM(AU29:BB29) -> 3 | AU29: =IF(Principale!$M$34<9,1,IF(Principale!$M$34>15,5,IF(Principale!$M$34>12,4,IF(Principale!$M$34>10,3,2)))) -> 2 | AW29: =IF(AJ29<0.8,1,IF(AJ29>1.2,5,IF(AJ29>1,4,IF(AJ29>0.8,3,2)))) -> 1 | CC29: 19 | CD29: 60000 | CE29: 37500 | CF29: 148000
CC30: 20 | CD30: 71200 | CE30: 44500 | CF30: 165000
B31: ARMI DA TIRO (For, Agi) | L31: =IF(Principale!$E$98=Abilità!B31,2,IF(Principale!$Q$98=Abilità!B31,2,IF(Principale!$AC$98=Abilità!B31,1,IF(Principale!$AO$98=Abilità!B31,1,0)))) -> 0 | N31: Bonus GA Innato
B32: Archi | L32: =IF(Q32<136,0+SUM(U32:AB32)+$L$31,LOOKUP(Q32,$CD$11:$CD$31,$CC$11:$CC$31)+SUM(U32:AB32)+$L$31) -> 0 | Q32: =IF(AD32="",0,N32*AD32) -> 0 | W32: =IF(Principale!$M$32<6,-2,IF(Principale!$M$32<10,-1,IF(Principale!$M$32>15,2,IF(Principale!$M$32>11,1,0)))) -> 0 | AA32: =Principale!$BP$32+Principale!$BR$46 -> 0 | AD32: =IF(AF32=0,0,AF32*AH32*AJ32*AL32*AN32*AP32) -> 0 | AN32: =Principale!$BI$32 -> 1 | AP32: =IF(Principale!$BI$34<1,Principale!$BI$34+0.1,IF(Principale!$BI$34>1,Principale!$BI$34-0.1,Principale!$BI$34)) -> 1 | AS32: =SUM(AU32:BB32) -> 3 | AU32: =IF(Principale!$M$32<9,1,IF(Principale!$M$32>15,5,IF(Principale!$M$32>12,4,IF(Principale!$M$32>10,3,2)))) -> 2 | AW32: =IF(AJ32<0.8,1,IF(AJ32>1.2,5,IF(AJ32>1,4,IF(AJ32>0.8,3,2)))) -> 1
B33: Balestre (Man, Rif) (L0) | L33: =IF(Q33<136,0+SUM(U33:AB33)+$L$31,LOOKUP(Q33,$CD$11:$CD$31,$CC$11:$CC$31)+SUM(U33:AB33)+$L$31) -> 0 | Q33: =IF(AD33="",0,N33*AD33) -> 0 | W33: =IF(Principale!$M$38<6,-2,IF(Principale!$M$38<10,-1,IF(Principale!$M$38>15,2,IF(Principale!$M$38>11,1,0)))) -> 0 | AA33: =Principale!$BP$32+Principale!$BR$46 -> 0 | AD33: =IF(AF33=0,0,AF33*AH33*AJ33*AL33*AN33*AP33) -> 0 | AN33: =Principale!$BI$38 -> 1 | AP33: =IF(Principale!$BI$36<1,Principale!$BI$36+0.1,IF(Principale!$BI$36>1,Principale!$BI$36-0.1,Principale!$BI$36)) -> 1 | AS33: =SUM(AU33:BB33) -> 3 | AU33: =IF(Principale!$M$32<9,1,IF(Principale!$M$32>15,5,IF(Principale!$M$32>12,4,IF(Principale!$M$32>10,3,2)))) -> 2 | AW33: =IF(AJ33<0.8,1,IF(AJ33>1.2,5,IF(AJ33>1,4,IF(AJ33>0.8,3,2)))) -> 1
B34: Cerbottana (L0) | L34: =IF(Q34<136,0+SUM(U34:AB34)+$L$31,LOOKUP(Q34,$CD$11:$CD$31,$CC$11:$CC$31)+SUM(U34:AB34)+$L$31) -> 0 | Q34: =IF(AD34="",0,N34*AD34) -> 0 | W34: =IF(Principale!$M$32<6,-2,IF(Principale!$M$32<10,-1,IF(Principale!$M$32>15,2,IF(Principale!$M$32>11,1,0)))) -> 0 | AA34: =Principale!$BP$32+Principale!$BR$46 -> 0 | AD34: =IF(AF34=0,0,AF34*AH34*AJ34*AL34*AN34*AP34) -> 0 | AN34: =Principale!$BI$32 -> 1 | AP34: =IF(Principale!$BI$34<1,Principale!$BI$34+0.1,IF(Principale!$BI$34>1,Principale!$BI$34-0.1,Principale!$BI$34)) -> 1 | AS34: =SUM(AU34:BB34) -> 3 | AU34: =IF(Principale!$M$32<9,1,IF(Principale!$M$32>15,5,IF(Principale!$M$32>12,4,IF(Principale!$M$32>10,3,2)))) -> 2 | AW34: =IF(AJ34<0.8,1,IF(AJ34>1.2,5,IF(AJ34>1,4,IF(AJ34>0.8,3,2)))) -> 1
B35: Fionda (L0) | L35: =IF(Q35<136,0+SUM(U35:AB35)+$L$31,LOOKUP(Q35,$CD$11:$CD$31,$CC$11:$CC$31)+SUM(U35:AB35)+$L$31) -> 0 | Q35: =IF(AD35="",0,N35*AD35) -> 0 | W35: =IF(Principale!$M$32<6,-2,IF(Principale!$M$32<10,-1,IF(Principale!$M$32>15,2,IF(Principale!$M$32>11,1,0)))) -> 0 | AA35: =Principale!$BP$32+Principale!$BR$46 -> 0 | AD35: =IF(AF35=0,0,AF35*AH35*AJ35*AL35*AN35*AP35) -> 0 | AN35: =Principale!$BI$32 -> 1 | AP35: =IF(Principale!$BI$34<1,Principale!$BI$34+0.1,IF(Principale!$BI$34>1,Principale!$BI$34-0.1,Principale!$BI$34)) -> 1 | AS35: =SUM(AU35:BB35) -> 3 | AU35: =IF(Principale!$M$32<9,1,IF(Principale!$M$32>15,5,IF(Principale!$M$32>12,4,IF(Principale!$M$32>10,3,2)))) -> 2 | AW35: =IF(AJ35<0.8,1,IF(AJ35>1.2,5,IF(AJ35>1,4,IF(AJ35>0.8,3,2)))) -> 1
B37: ARMI ESOTICHE (Man, For) | L37: =IF(Principale!$E$98=Abilità!B37,2,IF(Principale!$Q$98=Abilità!B37,2,IF(Principale!$AC$98=Abilità!B37,1,IF(Principale!$AO$98=Abilità!B37,1,0)))) -> 0 | N37: Bonus GA Innato
B38: Catena chiodata (L0) | L38: =IF(Q38<136,0+SUM(U38:AB38)+$L$37,LOOKUP(Q38,$CD$11:$CD$31,$CC$11:$CC$31)+SUM(U38:AB38)+$L$37) -> 0 | Q38: =IF(AD38="",0,N38*AD38) -> 0 | W38: =IF(Principale!$M$38<6,-2,IF(Principale!$M$38<10,-1,IF(Principale!$M$38>15,2,IF(Principale!$M$38>11,1,0)))) -> 0 | Y38: =BI38 -> 0 | AA38: =Principale!$BP$32+Principale!$BR$46 -> 0 | AD38: =IF(AF38=0,0,AF38*AH38*AJ38*AL38*AN38*AP38) -> 0 | AN38: =Principale!$BI$38 -> 1 | AP38: =IF(Principale!$BI$32<1,Principale!$BI$32+0.1,IF(Principale!$BI$32>1,Principale!$BI$32-0.1,Principale!$BI$32)) -> 1 | AS38: =SUM(AU38:BB38) -> 3 | AU38: =IF(Principale!$M$38<9,1,IF(Principale!$M$38>15,5,IF(Principale!$M$38>12,4,IF(Principale!$M$38>10,3,2)))) -> 2 | AW38: =IF(AJ38<0.8,1,IF(AJ38>1.2,5,IF(AJ38>1,4,IF(AJ38>0.8,3,2)))) -> 1 | BI38: =IF(SUM(BJ38:CA38)>2,2,SUM(BJ38:CA38)) -> 0 | BJ38: =IF(Q39<136,0,IF(LOOKUP(Q39,$CD$11:$CD$31,$CC$11:$CC$31)>5,2,IF(LOOKUP(Q39,$CD$11:$CD$31,$CC$11:$CC$31)>2,1,0))) -> 0
B39: Frusta (Add.) | L39: =IF(Q39<136,0+SUM(U39:AB39)+$L$37,LOOKUP(Q39,$CD$11:$CD$31,$CC$11:$CC$31)+SUM(U39:AB39)+$L$37) -> 0 | Q39: =IF(AD39="",0,N39*AD39) -> 0 | W39: =IF(Principale!$M$38<6,-2,IF(Principale!$M$38<10,-1,IF(Principale!$M$38>15,2,IF(Principale!$M$38>11,1,0)))) -> 0 | Y39: =BI39 -> 0 | AA39: =Principale!$BP$32+Principale!$BR$46 -> 0 | AD39: =IF(AF39=0,0,AF39*AH39*AJ39*AL39*AN39*AP39) -> 0 | AN39: =Principale!$BI$38 -> 1 | AP39: =IF(Principale!$BI$32<1,Principale!$BI$32+0.1,IF(Principale!$BI$32>1,Principale!$BI$32-0.1,Principale!$BI$32)) -> 1 | AS39: =SUM(AU39:BB39) -> 3 | AU39: =IF(Principale!$M$38<9,1,IF(Principale!$M$38>15,5,IF(Principale!$M$38>12,4,IF(Principale!$M$38>10,3,2)))) -> 2 | AW39: =IF(AJ39<0.8,1,IF(AJ39>1.2,5,IF(AJ39>1,4,IF(AJ39>0.8,3,2)))) -> 1 | BI39: =IF(SUM(BJ39:CA39)>2,2,SUM(BJ39:CA39)) -> 0 | BJ39: =IF(Q38<136,0,IF(LOOKUP(Q38,$CD$11:$CD$31,$CC$11:$CC$31)>5,2,IF(LOOKUP(Q38,$CD$11:$CD$31,$CC$11:$CC$31)>2,1,0))) -> 0
B40: Mano artigliata (L0) | L40: =IF(Q40<136,0+SUM(U40:AB40)+$L$37,LOOKUP(Q40,$CD$11:$CD$31,$CC$11:$CC$31)+SUM(U40:AB40)+$L$37) -> 0 | Q40: =IF(AD40="",0,N40*AD40) -> 0 | W40: =IF(Principale!$M$38<6,-2,IF(Principale!$M$38<10,-1,IF(Principale!$M$38>15,2,IF(Principale!$M$38>11,1,0)))) -> 0 | Y40: =BI40 -> 0 | AA40: =Principale!$BP$32+Principale!$BR$46 -> 0 | AD40: =IF(AF40=0,0,AF40*AH40*AJ40*AL40*AN40*AP40) -> 0 | AN40: =Principale!$BI$38 -> 1 | AP40: =IF(Principale!$BI$32<1,Principale!$BI$32+0.1,IF(Principale!$BI$32>1,Principale!$BI$32-0.1,Principale!$BI$32)) -> 1 | AS40: =SUM(AU40:BB40) -> 3 | AU40: =IF(Principale!$M$38<9,1,IF(Principale!$M$38>15,5,IF(Principale!$M$38>12,4,IF(Principale!$M$38>10,3,2)))) -> 2 | AW40: =IF(AJ40<0.8,1,IF(AJ40>1.2,5,IF(AJ40>1,4,IF(AJ40>0.8,3,2)))) -> 1 | BI40: =IF(SUM(BJ40:CA40)>2,2,SUM(BJ40:CA40)) -> 0 | BJ40: =IF(Q83<136,0,IF(LOOKUP(Q83,$CD$11:$CD$31,$CC$11:$CC$31)>5,2,IF(LOOKUP(Q83,$CD$11:$CD$31,$CC$11:$CC$31)>2,1,0))) -> 0
B41: Mazzafrusto (L0) | L41: =IF(Q41<136,0+SUM(U41:AB41)+$L$37,LOOKUP(Q41,$CD$11:$CD$31,$CC$11:$CC$31)+SUM(U41:AB41)+$L$37) -> 0 | Q41: =IF(AD41="",0,N41*AD41) -> 0 | W41: =IF(Principale!$M$38<6,-2,IF(Principale!$M$38<10,-1,IF(Principale!$M$38>15,2,IF(Principale!$M$38>11,1,0)))) -> 0 | Y41: =BI41 -> 0 | AA41: =Principale!$BP$32+Principale!$BR$46 -> 0 | AD41: =IF(AF41=0,0,AF41*AH41*AJ41*AL41*AN41*AP41) -> 0 | AN41: =Principale!$BI$38 -> 1 | AP41: =IF(Principale!$BI$32<1,Principale!$BI$32+0.1,IF(Principale!$BI$32>1,Principale!$BI$32-0.1,Principale!$BI$32)) -> 1 | AS41: =SUM(AU41:BB41) -> 3 | AU41: =IF(Principale!$M$38<9,1,IF(Principale!$M$38>15,5,IF(Principale!$M$38>12,4,IF(Principale!$M$38>10,3,2)))) -> 2 | AW41: =IF(AJ41<0.8,1,IF(AJ41>1.2,5,IF(AJ41>1,4,IF(AJ41>0.8,3,2)))) -> 1 | BI41: =IF(SUM(BJ41:CA41)>2,2,SUM(BJ41:CA41)) -> 0 | BJ41: =IF(Q38<136,0,IF(LOOKUP(Q38,$CD$11:$CD$31,$CC$11:$CC$31)>5,2,IF(LOOKUP(Q38,$CD$11:$CD$31,$CC$11:$CC$31)>2,1,0))) -> 0 | BK41: =IF(Q39<136,0,IF(LOOKUP(Q39,$CD$11:$CD$31,$CC$11:$CC$31)>5,2,IF(LOOKUP(Q39,$CD$11:$CD$31,$CC$11:$CC$31)>2,1,0))) -> 0
B42: Rete (L0) | L42: =IF(Q42<136,0+SUM(U42:AB42)+$L$37,LOOKUP(Q42,$CD$11:$CD$31,$CC$11:$CC$31)+SUM(U42:AB42)+$L$37) -> 0 | Q42: =IF(AD42="",0,N42*AD42) -> 0 | W42: =IF(Principale!$M$38<6,-2,IF(Principale!$M$38<10,-1,IF(Principale!$M$38>15,2,IF(Principale!$M$38>11,1,0)))) -> 0 | AA42: =Principale!$BP$32+Principale!$BR$46 -> 0 | AD42: =IF(AF42=0,0,AF42*AH42*AJ42*AL42*AN42*AP42) -> 0 | AN42: =Principale!$BI$38 -> 1 | AP42: =IF(Principale!$BI$32<1,Principale!$BI$32+0.1,IF(Principale!$BI$32>1,Principale!$BI$32-0.1,Principale!$BI$32)) -> 1 | AS42: =SUM(AU42:BB42) -> 3 | AU42: =IF(Principale!$M$38<9,1,IF(Principale!$M$38>15,5,IF(Principale!$M$38>12,4,IF(Principale!$M$38>10,3,2)))) -> 2 | AW42: =IF(AJ42<0.8,1,IF(AJ42>1.2,5,IF(AJ42>1,4,IF(AJ42>0.8,3,2)))) -> 1
B43: Scudo chiodato (For, Man) (L0) | L43: =IF(Q43<136,0+SUM(U43:AB43)+$L$37,LOOKUP(Q43,$CD$11:$CD$31,$CC$11:$CC$31)+SUM(U43:AB43)+$L$37) -> 0 | Q43: =IF(AD43="",0,N43*AD43) -> 0 | W43: =IF(Principale!$M$38<6,-2,IF(Principale!$M$38<10,-1,IF(Principale!$M$38>15,2,IF(Principale!$M$38>11,1,0)))) -> 0 | AA43: =Principale!$BP$32+Principale!$BR$46 -> 0 | AD43: =IF(AF43=0,0,AF43*AH43*AJ43*AL43*AN43*AP43) -> 0 | AN43: =Principale!$BI$32 -> 1 | AP43: =IF(Principale!$BI$38<1,Principale!$BI$38+0.1,IF(Principale!$BI$38>1,Principale!$BI$38-0.1,Principale!$BI$38)) -> 1 | AS43: =SUM(AU43:BB43) -> 3 | AU43: =IF(Principale!$M$38<9,1,IF(Principale!$M$38>15,5,IF(Principale!$M$38>12,4,IF(Principale!$M$38>10,3,2)))) -> 2 | AW43: =IF(AJ43<0.8,1,IF(AJ43>1.2,5,IF(AJ43>1,4,IF(AJ43>0.8,3,2)))) -> 1
B45: ARMI TAGLIENTI (For, Man) | L45: =IF(Principale!$E$98=Abilità!B45,2,IF(Principale!$Q$98=Abilità!B45,2,IF(Principale!$AC$98=Abilità!B45,1,IF(Principale!$AO$98=Abilità!B45,1,0)))) -> 0 | N45: Bonus GA Innato
...

Sheet Equipaggiamento
B1: Equipaggiamento del personaggio
B3: Movimento base | I3: 9 | L3: PESO | N3: =SUM(AB12:AD88)+Principale!AB71+Principale!AR63+SUM(Principale!AU80:AV92) -> 0 | P3: Kg | R3: INDICE DI INGOMBRO (ING) | Z3: =Principale!$M$32+FLOOR((Principale!$M$46)/2,1)+Principale!BP42 -> 15 | AC3: CARICO | AF3: =IF(N3>AW7,"Eccessivo",IF(N3>AQ7,"Massimo",IF(N3>AK7,"Medio 5",IF(N3>AE7,"Medio 4",IF(N3>Y7,"Medio 3",IF(N3>S7,"Medio 2",IF(N3>M7,"Medio 1","Leggero"))))))) -> Leggero | AJ3: PENALITÀ PROVE/MOV. | AQ3: =IF(N3>AQ7,AY7,IF(N3>AK7,AS7,IF(N3>AE7,AM7,IF(N3>Y7,AG7,IF(N3>S7,AA7,IF(N3>M7,U7,0)))))) -> 0 | AS3: / | AT3: =IF(N3>AW7,-1*BA3,IF(N3>AQ7,-1*(BA3-BA7),IF(N3>AK7,-1*(BA3-AU7),IF(N3>AE7,-1*(BA3-AO7),IF(N3>Y7,-1*(BA3-AI7),IF(N3>S7,-1*(BA3-AC7),IF(N3>M7,-1*(BA3-W7),0))))))) -> 0 | AW3: MOVIMENTO | BA3: =I3+FLOOR(Principale!M36/2,1) -> 14
M5: LEGGERO | S5: MEDIO 1 | Y5: MEDIO 2 | AE5: MEDIO 3 | AK5: MEDIO 4 | AQ5: MEDIO 5 | AW5: MASSIMO
M6: Limite | O6: P. Prove | Q6: Mov. | S6: Limite | U6: P. Prove | W6: Mov. | Y6: Limite | AA6: P. Prove | AC6: Mov. | AE6: Limite | AG6: P. Prove | AI6: Mov. | AK6: Limite | AM6: P. Prove | AO6: Mov. | AQ6: Limite | AS6: P. Prove | AU6: Mov. | AW6: Limite | AY6: P. Prove | BA6: Mov.
B7: LIMITI DI CARICO E PENALITÀ | M7: =VLOOKUP($Z$3,BJ12:BY42,3) -> 13 | O7: 0 | Q7: =VLOOKUP($BA$3,CA12:CP40,3) -> 14 | S7: =VLOOKUP($Z$3,BJ12:BY42,5) -> 19.7 | U7: -1 | W7: =VLOOKUP($BA$3,CA12:CP40,5) -> 13 | Y7: =VLOOKUP($Z$3,BJ12:BY42,7) -> 26 | AA7: -2 | AC7: =VLOOKUP($BA$3,CA12:CP40,7) -> 10 | AE7: =VLOOKUP($Z$3,BJ12:BY42,9) -> 34.2 | AG7: -3 | AI7: =VLOOKUP($BA$3,CA12:CP40,9) -> 8 | AK7: =VLOOKUP($Z$3,BJ12:BY42,11) -> 43.3 | AM7: -4 | AO7: =VLOOKUP($BA$3,CA12:CP40,11) -> 6 | AQ7: =VLOOKUP($Z$3,BJ12:BY42,13) -> 55.1 | AS7: -6 | AU7: =VLOOKUP($BA$3,CA12:CP40,13) -> 4 | AW7: =VLOOKUP($Z$3,BJ12:BY42,15) -> 65 | AY7: -8 | BA7: =VLOOKUP($BA$3,CA12:CP40,15) -> 2
B9: OGGETTO | S9: N° | U9: Contenitore | Y9: Peso | BJ9: ING | BL9: Carico | CA9: MOV | CC9: Carico
Y10: SINGOLO | AB10: TOTALE | BL10: Leg | BN10: M1 | BP10: M2 | BR10: M3 | BT10: M4 | BV10: M5 | BX10: Max | CC10: Leg | CE10: M1 | CG10: M2 | CI10: M3 | CK10: M4 | CM10: M5 | CO10: Max
AB12: =IF(S12="",0,IF(S12=0,0,Y12*S12)) -> 0 | AF12: Monete e gemme | BJ12: 8 | BL12: 3 | BN12: 4.5 | BP12: 6 | BR12: 7.9 | BT12: 10 | BV12: 12.7 | BX12: 15 | CA12: 10 | CC12: 10 | CE12: 9 | CG12: 7 | CI12: 6 | CK12: 4 | CM12: 3 | CO12: 2
BJ13: 9 | BL13: 4 | BN13: 6 | BP13: 8 | BR13: 10.5 | BT13: 13.3 | BV13: 17 | BX13: 20 | CA13: 11 | CC13: 11 | CE13: 10 | CG13: 8 | CI13: 7 | CK13: 5 | CM13: 3 | CO13: 2
AB14: =IF(S14="",0,IF(S14=0,0,Y14*S14)) -> 0 | BJ14: 10 | BL14: 5 | BN14: 7.6 | BP14: 10 | BR14: 13.2 | BT14: 16.7 | BV14: 21.2 | BX14: 25 | CA14: 12 | CC14: 12 | CE14: 11 | CG14: 9 | CI14: 7 | CK14: 5 | CM14: 4 | CO14: 2
BJ15: 11 | BL15: 6.6 | BN15: 10 | BP15: 13.2 | BR15: 17.4 | BT15: 22 | BV15: 28 | BX15: 33 | CA15: 13 | CC15: 13 | CE15: 12 | CG15: 10 | CI15: 8 | CK15: 6 | CM15: 4 | CO15: 2
AB16: =IF(S16="",0,IF(S16=0,0,Y16*S16)) -> 0 | AF16: Corona (Co) | AL16: Denario (De) | AR16: Scudo (Sc) | AX16: Soldo (So) | BJ16: 12 | BL16: 8.2 | BN16: 12.4 | BP16: 16.4 | BR16: 21.6 | BT16: 27.3 | BV16: 34.7 | BX16: 41 | CA16: 14 | CC16: 14 | CE16: 13 | CG16: 10 | CI16: 8 | CK16: 6 | CM16: 4 | CO16: 2
BJ17: 13 | BL17: 9.8 | BN17: 14.8 | BP17: 19.6 | BR17: 25.8 | BT17: 32.7 | BV17: 41.5 | BX17: 49 | CA17: 15 | CC17: 15 | CE17: 13 | CG17: 11 | CI17: 9 | CK17: 7 | CM17: 4 | CO17: 2
AB18: =IF(S18="",0,IF(S18=0,0,Y18*S18)) -> 0 | BJ18: 14 | BL18: 11.4 | BN18: 17.3 | BP18: 22.8 | BR18: 30 | BT18: 38 | BV18: 48.3 | BX18: 57 | CA18: 16 | CC18: 16 | CE18: 14 | CG18: 12 | CI18: 10 | CK18: 7 | CM18: 5 | CO18: 2
BJ19: 15 | BL19: 13 | BN19: 19.7 | BP19: 26 | BR19: 34.2 | BT19: 43.3 | BV19: 55.1 | BX19: 65 | CA19: 17 | CC19: 17 | CE19: 15 | CG19: 13 | CI19: 10 | CK19: 8 | CM19: 5 | CO19: 3
AB20: =IF(S20="",0,IF(S20=0,0,Y20*S20)) -> 0 | BJ20: 16 | BL20: 14.6 | BN20: 22.1 | BP20: 29.2 | BR20: 38.4 | BT20: 48.7 | BV20: 61.9 | BX20: 73 | CA20: 18 | CC20: 18 | CE20: 16 | CG20: 13 | CI20: 11 | CK20: 8 | CM20: 5 | CO20: 3
BJ21: 17 | BL21: 16.2 | BN21: 24.5 | BP21: 32.4 | BR21: 42.6 | BT21: 54 | BV21: 68.6 | BX21: 81 | CA21: 19 | CC21: 19 | CE21: 17 | CG21: 14 | CI21: 11 | CK21: 9 | CM21: 6 | CO21: 3
AB22: =IF(S22="",0,IF(S22=0,0,Y22*S22)) -> 0 | BJ22: 18 | BL22: 17.8 | BN22: 27 | BP22: 35.6 | BR22: 46.8 | BT22: 59.3 | BV22: 75.4 | BX22: 89 | CA22: 20 | CC22: 20 | CE22: 18 | CG22: 15 | CI22: 12 | CK22: 9 | CM22: 6 | CO22: 3
BJ23: 19 | BL23: 19.4 | BN23: 29.4 | BP23: 38.8 | BR23: 51.1 | BT23: 64.7 | BV23: 82.2 | BX23: 97 | CA23: 21 | CC23: 21 | CE23: 19 | CG23: 16 | CI23: 13 | CK23: 9 | CM23: 6 | CO23: 3
AB24: =IF(S24="",0,IF(S24=0,0,Y24*S24)) -> 0 | AF24: 1 Corona = 10 Denarii = 200 Scudi = 2000 Soldi | BJ24: 20 | BL24: 21.2 | BN24: 32.1 | BP24: 42.4 | BR24: 55.8 | BT24: 70.7 | BV24: 89.8 | BX24: 106 | CA24: 22 | CC24: 22 | CE24: 20 | CG24: 16 | CI24: 13 | CK24: 10 | CM24: 7 | CO24: 3
BJ25: 21 | BL25: 23 | BN25: 34.8 | BP25: 46 | BR25: 60.5 | BT25: 76.7 | BV25: 97.5 | BX25: 115 | CA25: 23 | CC25: 23 | CE25: 21 | CG25: 17 | CI25: 14 | CK25: 10 | CM25: 7 | CO25: 3
AB26: =IF(S26="",0,IF(S26=0,0,Y26*S26)) -> 0 | AF26: Sigle contenitori | BJ26: 22 | BL26: 24.6 | BN26: 37.3 | BP26: 49.2 | BR26: 64.7 | BT26: 82 | BV26: 104.2 | BX26: 123 | CA26: 24 | CC26: 24 | CE26: 22 | CG26: 18 | CI26: 14 | CK26: 11 | CM26: 7 | CO26: 4
BJ27: 23 | BL27: 26.6 | BN27: 40.3 | BP27: 53.2 | BR27: 70 | BT27: 88.7 | BV27: 112.7 | BX27: 133 | CA27: 25 | CC27: 25 | CE27: 22 | CG27: 19 | CI27: 15 | CK27: 11 | CM27: 7 | CO27: 4
AB28: =IF(S28="",0,IF(S28=0,0,Y28*S28)) -> 0 | BJ28: 24 | BL28: 28.4 | BN28: 43 | BP28: 56.8 | BR28: 74.7 | BT28: 94.7 | BV28: 120.3 | BX28: 142 | CA28: 26 | CC28: 26 | CE28: 23 | CG28: 19 | CI28: 16 | CK28: 12 | CM28: 8 | CO28: 4
BJ29: 25 | BL29: 30.2 | BN29: 45.8 | BP29: 60.4 | BR29: 79.5 | BT29: 100.7 | BV29: 128 | BX29: 151 | CA29: 27 | CC29: 27 | CE29: 24 | CG29: 20 | CI29: 16 | CK29: 12 | CM29: 8 | CO29: 4
AB30: =IF(S30="",0,IF(S30=0,0,Y30*S30)) -> 0 | AF30: Zaino | AL30: Z | AN30: Borsa da cintura | AT30: C | AV30: Bandoliera | BB30: B | BJ30: 26 | BL30: 32 | BN30: 48.5 | BP30: 64 | BR30: 84.2 | BT30: 106.7 | BV30: 135.6 | BX30: 160 | CA30: 28 | CC30: 28 | CE30: 25 | CG30: 21 | CI30: 17 | CK30: 13 | CM30: 8 | CO30: 4
BJ31: 27 | BL31: 34 | BN31: 51.5 | BP31: 68 | BR31: 89.5 | BT31: 113.3 | BV31: 144.1 | BX31: 170 | CA31: 29 | CC31: 29 | CE31: 26 | CG31: 22 | CI31: 17 | CK31: 13 | CM31: 9 | CO31: 4
AB32: =IF(S32="",0,IF(S32=0,0,Y32*S32)) -> 0 | AF32: Sacchi | AL32: S | AN32: Borsa cavallo | AT32: V | AV32: Cintura delle pozioni | BB32: P | BJ32: 28 | BL32: 36 | BN32: 54.5 | BP32: 72 | BR32: 94.7 | BT32: 120 | BV32: 152.5 | BX32: 180 | CA32: 30 | CC32: 30 | CE32: 27 | CG32: 22 | CI32: 18 | CK32: 13 | CM32: 9 | CO32: 4
BJ33: 29 | BL33: 38 | BN33: 57.6 | BP33: 76 | BR33: 100 | BT33: 126.7 | BV33: 161 | BX33: 190 | CA33: 31 | CC33: 31 | CE33: 28 | CG33: 23 | CI33: 19 | CK33: 14 | CM33: 9 | CO33: 5
AB34: =IF(S34="",0,IF(S34=0,0,Y34*S34)) -> 0 | BJ34: 30 | BL34: 40 | BN34: 60.6 | BP34: 80 | BR34: 105.3 | BT34: 133.3 | BV34: 169.5 | BX34: 200 | CA34: 32 | CC34: 32 | CE34: 29 | CG34: 24 | CI34: 19 | CK34: 14 | CM34: 10 | CO34: 5
BJ35: 31 | BL35: 42.4 | BN35: 64.2 | BP35: 84.8 | BR35: 111.6 | BT35: 141.3 | BV35: 179.7 | BX35: 212 | CA35: 33 | CC35: 33 | CE35: 30 | CG35: 25 | CI35: 20 | CK35: 15 | CM35: 10 | CO35: 5
AB36: =IF(S36="",0,IF(S36=0,0,Y36*S36)) -> 0 | BJ36: 32 | BL36: 44.8 | BN36: 67.9 | BP36: 89.6 | BR36: 117.9 | BT36: 149.3 | BV36: 189.8 | BX36: 224 | CA36: 34 | CC36: 34 | CE36: 31 | CG36: 25 | CI36: 20 | CK36: 15 | CM36: 10 | CO36: 5
BJ37: 33 | BL37: 47.2 | BN37: 71.5 | BP37: 94.4 | BR37: 124.2 | BT37: 157.3 | BV37: 200 | BX37: 236 | CA37: 35 | CC37: 35 | CE37: 31 | CG37: 26 | CI37: 21 | CK37: 16 | CM37: 10 | CO37: 5
AB38: =IF(S38="",0,IF(S38=0,0,Y38*S38)) -> 0 | BJ38: 34 | BL38: 49.6 | BN38: 75.2 | BP38: 99.2 | BR38: 130.5 | BT38: 165.3 | BV38: 210.2 | BX38: 248 | CA38: 36 | CC38: 36 | CE38: 32 | CG38: 27 | CI38: 22 | CK38: 16 | CM38: 11 | CO38: 5
BJ39: 35 | BL39: 52 | BN39: 78.8 | BP39: 104 | BR39: 136.8 | BT39: 173.3 | BV39: 220.3 | BX39: 260 | CA39: 37 | CC39: 37 | CE39: 33 | CG39: 28 | CI39: 22 | CK39: 17 | CM39: 11 | CO39: 6
AB40: =IF(S40="",0,IF(S40=0,0,Y40*S40)) -> 0 | BJ40: 36 | BL40: 55 | BN40: 83.3 | BP40: 110 | BR40: 144.7 | BT40: 183.3 | BV40: 233.1 | BX40: 275 | CA40: 38 | CC40: 38 | CE40: 34 | CG40: 28 | CI40: 23 | CK40: 17 | CM40: 11 | CO40: 6
BJ41: 37 | BL41: 58 | BN41: 87.9 | BP41: 116 | BR41: 152.6 | BT41: 193.3 | BV41: 245.8 | BX41: 290
AB42: =IF(S42="",0,IF(S42=0,0,Y42*S42)) -> 0 | BJ42: 38 | BL42: 61 | BN42: 92.4 | BP42: 122 | BR42: 160.5 | BT42: 203.3 | BV42: 258.5 | BX42: 305
AB44: =IF(S44="",0,IF(S44=0,0,Y44*S44)) -> 0
AB46: =IF(S46="",0,IF(S46=0,0,Y46*S46)) -> 0
...

Sheet Abilità (stampa)
B1: Capacità del personaggio
B3: ABILITÀ | L3: Livello abilità | O3: ABILITÀ | Y3: Livello abilità | AB3: ABILITÀ | AL3: Livello abilità | AO3: ABILITÀ | AY3: Livello abilità
B6: ARMI AD ASTA (For, Rif) | O6: ARTIGIANATO RUNICO (Man, Mem) | AB6: DEDUZIONE (Itu, Int) | AO6: MAGIA DELL'ORDINE (Spi, Int)
B7: Alabarda (L0, Add.) | L7: =Abilità!L11 -> 0 | O7: Artigianato dell'Alterazione (Add.) | Y7: =Abilità!L67 -> 0 | AB7: Ascoltare (L0) | AL7: =Abilità!L112 -> 0 | AO7: Magia dell'Alterazione (Add.) | AY7: =Abilità!L155 -> 0
B8: Bastone ferrato (L0) | L8: =Abilità!L12 -> 0 | O8: Artigianato degli Animali (Add.) | Y8: =Abilità!L68 -> 0 | AB8: Cercare (L0) | AL8: =Abilità!L113 -> 0 | AO8: Magia degli Animali (Add.) | AY8: =Abilità!L156 -> 0
B9: Falce (L0) | L9: =Abilità!L13 -> 0 | O9: Artigianato della Divinazione (Add.) | Y9: =Abilità!L69 -> 0 | AB9: Osservare (L0) | AL9: =Abilità!L114 -> 0 | AO9: Magia della Divinazione (Add.) | AY9: =Abilità!L157 -> 0
B10: Lancia da cavaliere (L0) | L10: =Abilità!L14 -> 0 | O10: Artigianato degli Elementi (Add.) | Y10: =Abilità!L70 -> 0 | AB10: Trovare trappole (L0) | AL10: =Abilità!L115 -> 0 | AO10: Magia degli Elementi (Add.) | AY10: =Abilità!L158 -> 0
B11: Picca (Add.) | L11: =Abilità!L15 -> 0 | O11: Artigianato della Guerra (Add.) | Y11: =Abilità!L71 -> 0 | AB11: Valutare (L0) | AL11: =Abilità!L116 -> 0 | AO11: Magia della Guerra (Add.) | AY11: =Abilità!L159 -> 0
B12: Tridente (L0) | L12: =Abilità!L16 -> 0 | O12: Artigianato della Morte (Add.) | Y12: =Abilità!L72 -> 0 | AB12: ESPLORATORE (Mem, Itu) | AO12: Magia della Morte (Add.) | AY12: =Abilità!L160 -> 0
B13: ARMI CONTUNDENTI (For, Man) | O13: Artigianato della Natura (Add.) | Y13: =Abilità!L73 -> 0 | AB13: Animalista (L0, Add.) | AL13: =Abilità!L119 -> 0 | AO13: Magia della Natura (Add.) | AY13: =Abilità!L161 -> 0
B14: Contundenti piccole (L0) | L14: =Abilità!L19 -> 0 | O14: Artigianato della Ombre (Add.) | Y14: =Abilità!L74 -> 0 | AB14: Naturalista (L0, Add.) | AL14: =Abilità!L120 -> 0 | AO14: Magia delle Ombre (Add.) | AY14: =Abilità!L162 -> 0
B15: Contundenti medie (L0) | L15: =Abilità!L20 -> 0 | O15: Artigianato della Protezione (Add.) | Y15: =Abilità!L75 -> 0 | AB15: Orientamento (L0) | AL15: =Abilità!L121 -> 0 | AO15: Magia della Protezione (Add.) | AY15: =Abilità!L163 -> 0
B16: Contundenti grandi (L0) | L16: =Abilità!L21 -> 0 | O16: Artigianato dello Spirito (Add.) | Y16: =Abilità!L76 -> 0 | AB16: Seguire tracce (L0) | AL16: =Abilità!L122 -> 0 | AO16: Magia dello Spirito (Add.) | AY16: =Abilità!L164 -> 0
B17: ARMI DA LANCIO (Agi, Man) | O17: Artigianato della Vita (Add.) | Y17: =Abilità!L77 -> 0 | AB17: FEDE NELLA TRINITÀ (Car, Spi) | AO17: Magia della Vita (Add.) | AY17: =Abilità!L165 -> 0
B18: Bolas (L0) | L18: =Abilità!L24 -> 0 | O18: Artigianato Universale (Add.) | Y18: =Abilità!L78 -> 0 | AB18: Elemento acqua (Add.) | AL18: =Abilità!L125 -> 0 | AO18: MAGIA DEMONIACA (Spi, Int)
B19: Boomerang | L19: =Abilità!L25 -> 0 | O19: CAPACITÀ FISICHE (For, Cos) | AB19: Elemento fuoco (Add.) | AL19: =Abilità!L126 -> 0 | AO19: Magia Dimensionale (Add.) | AY19: =Abilità!L168 -> 0
B20: Dardi (L0) | L20: =Abilità!L26 -> 0 | O20: Acrobazia* (Agi, For) (L0) | Y20: =Abilità!L81 -> 0 | AB20: Elemento legno (Add.) | AL20: =Abilità!L127 -> 0 | AO20: Magia della Distruzione (Add.) | AY20: =Abilità!L169 -> 0
B21: Generico (L0) | L21: =Abilità!L27 -> 0 | O21: Equilibrio* (Agi, For) (L0) | Y21: =Abilità!L82 -> 0 | AB21: Elemento metallo (Add.) | AL21: =Abilità!L128 -> 0 | AO21: Magia dell'Evocazione (Add.) | AY21: =Abilità!L170 -> 0
B22: Giavellotto (L0) | L22: =Abilità!L28 -> 0 | O22: Lotta* (L0) | Y22: =Abilità!L83 -> 0 | AB22: Elemento terra (Add.) | AL22: =Abilità!L129 -> 0 | AO22: Magia del Fuoco (Add.) | AY22: =Abilità!L171 -> 0
B23: Shuriken (Add.) | L23: =Abilità!L29 -> 0 | O23: Nuotare* (L0) | Y23: =Abilità!L84 -> 0 | AB23: FURTIVITÀ (Agi, Rif) | AO23: MAGIA DI GAIA (Emp, Int)
B24: ARMI DA TIRO (For, Agi) | O24: Saltare* (L0) | Y24: =Abilità!L85 -> 0 | AB24: Falsificare (Man, Int) (L0) | AL24: =Abilità!L132 -> 0 | AO24: Magia dell'Illusione (Add.) | AY24: =Abilità!L174 -> 0
B25: Archi | L25: =Abilità!L32 -> 0 | O25: Scalare* (L0) | Y25: =Abilità!L86 -> 0 | AB25: Manolesta* (L0) | AL25: =Abilità!L133 -> 0 | AO25: Magia delle Maledizioni (Add.) | AY25: =Abilità!L175 -> 0
B26: Balestre (Man, Rif) (L0) | L26: =Abilità!L33 -> 0 | O26: CONOSCENZE (Mem, Int) | AB26: Manomettere congegni (Man, Itu) (L0) | AL26: =Abilità!L134 -> 0 | AO26: Magia della Mente (Add.) | AY26: =Abilità!L176 -> 0
B27: Cerbottana (L0) | L27: =Abilità!L34 -> 0 | O27: Animali (L0, Add.) | Y27: =Abilità!L89 -> 0 | AB27: Muoversi silenziosamente* (L0) | AL27: =Abilità!L135 -> 0 | AO27: Magia della Necromanzia (Add.) | AY27: =Abilità!L177 -> 0
B28: Fionda (L0) | L28: =Abilità!L35 -> 0 | O28: Dimensioni (L0, Add.) | Y28: =Abilità!L90 -> 0 | AB28: Nascondersi* (L0) | AL28: =Abilità!L136 -> 0 | AO28: Magia del Potere (Add.) | AY28: =Abilità!L178 -> 0
B29: ARMI ESOTICHE (Man, For) | O29: Geografia (L0, Add.) ( ) | Y29: =Abilità!L91 -> 0 | AB29: Scassinare (Man, Itu) (L0) | AL29: =Abilità!L137 -> 0 | AO29: MAGIA RUNICA (Spi, Mem)
B30: Catena chiodata (L0) | L30: =Abilità!L38 -> 0 | O30: Geografia (L0, Add.) ( ) | Y30: =Abilità!L92 -> 0 | AB30: INVENTIVA (Int, Itu) | AO30: Trappole Magiche (Add.) | AY30: =Abilità!L181 -> 0
B31: Frusta (Add.) | L31: =Abilità!L39 -> 0 | O31: Geografia (L0, Add.) ( ) | Y31: =Abilità!L93 -> 0 | AB31: Inventare armature (L0) | AL31: =Abilità!L140 -> 0 | AO31: Magia della Terra (Add.) | AY31: =Abilità!L182 -> 0
B32: Mano artigliata (L0) | L32: =Abilità!L40 -> 0 | O32: Locali (L0, Add.) ( ) | Y32: =Abilità!L94 -> 0 | AB32: Inventare armi (L0) | AL32: =Abilità!L141 -> 0 | AO32: Magia della Difesa (Add.) | AY32: =Abilità!L183 -> 0
B33: Mazzafrusto (L0) | L33: =Abilità!L41 -> 0 | O33: Locali (L0, Add.) ( ) | Y33: =Abilità!L95 -> 0 | AB33: Inventare Magie dell'Ordine (L0) | AL33: =Abilità!L142 -> 0 | AO33: Magia della Sapere (Add.) | AY33: =Abilità!L184 -> 0
B34: Rete (L0) | L34: =Abilità!L42 -> 0 | O34: Locali (L0, Add.) ( ) | Y34: =Abilità!L96 -> 0 | AB34: Inventare Magie Demoniache (L0) | AL34: =Abilità!L143 -> 0 | AO34: Rune ithildin (Add.) | AY34: =Abilità!L185 -> 0
B35: Scudo chiodato (For, Man) (L0) | L35: =Abilità!L43 -> 0 | O35: Magia dell'Ordine (L0, Add.) | Y35: =Abilità!L97 -> 0 | AB35: Inventare Magie di Gaia (L0) | AL35: =Abilità!L144 -> 0 | AO35: MESTIERI (Int, Man)
B36: ARMI TAGLIENTI (For, Man) | O36: Magia demoniaca (L0) | Y36: =Abilità!L98 -> 0 | AB36: Inventare Magie Runiche (L0) | AL36: =Abilità!L145 -> 0 | AO36: Addestrare animali (Itu, Int) (L0) | AY36: =Abilità!L188 -> 0
B37: Perforanti (Agi, Rif) (L0) | L37: =Abilità!L46 -> 0 | O37: Magia di Gaia (L0) | Y37: =Abilità!L99 -> 0 | AB37: Inventare oggetti in legno (L0) | AL37: =Abilità!L146 -> 0 | AO37: Agricoltore (L0) | AY37: =Abilità!L189 -> 0
B38: Pugnali (L0) | L38: =Abilità!L47 -> 0 | O38: Magia runica (L0) | Y38: =Abilità!L100 -> 0 | AB38: Inventare oggetti in metallo (L0) | AL38: =Abilità!L147 -> 0 | AO38: Cavalcare* (Agi, Rif) (L0) | AY38: =Abilità!L190 -> 0
B39: Spade (L0) | L39: =Abilità!L48 -> 0 | O39: Mostri (L0, Add.) ( ) | Y39: =Abilità!L101 -> 0 | AB39: Inventare oggetti in pietra (L0) | AL39: =Abilità!L148 -> 0 | AO39: Chirurgo* (Add.) | AY39: =Abilità!L191 -> 0
B40: Spadoni (L0) | L40: =Abilità!L49 -> 0 | O40: Mostri (L0, Add.) ( ) | Y40: =Abilità!L102 -> 0 | AB40: Inventare oggetti in tessuto (L0) | AL40: =Abilità!L149 -> 0 | AO40: Giocoliere * (Man, Itu) (L0) | AY40: =Abilità!L192 -> 0
B41: ASCE (For, Man) | O41: Mostri (L0, Add.) ( ) | Y41: =Abilità!L103 -> 0 | AB41: Inventare Pietre Runiche (L0) | AL41: =Abilità!L150 -> 0 | AO41: Guaritore (L0, Add.) | AY41: =Abilità!L193 -> 0
B42: Asce medie (L0) | L42: =Abilità!L52 -> 0 | O42: Pietre e metalli (L0, Add.) | Y42: =Abilità!L104 -> 0 | AB42: Inventare preparati alchemici (L0) | AL42: =Abilità!L151 -> 0 | AO42: Marinaio* (Man, Int) (L0) | AY42: =Abilità!L194 -> 0
B43: Asce grandi (L0) | L43: =Abilità!L53 -> 0 | O43: Storia (L0, Add.) ( ) | Y43: =Abilità!L105 -> 0 | AB43: Inventare veleni (L0) | AL43: =Abilità!L152 -> 0 | AO43: Musicista (Add.) ( ) | AY43: =Abilità!L195 -> 0
...

Sheet C.Razza
K1: Teriano | M1: Reaniano | O1: Valariano | Q1: O. di superficie | S1: O. del sottosuolo | U1: Purosangue | W1: Seconda-stirpe | Y1: ### | AA1: Olba | AC1: Lassemista | AE1: Lótë | AG1: Atan | AI1: Nárë | AK1: ### | AM1: ### | AO1: PERSONALIZZATO
A2: ABILITÀ | K2: UMANO | Q2: OMINUS | U2: MEZZO DEMONE | Y2: DROW | AA2: SILVANO | AG2: DAMPIRI | AK2: ASURA | AM2: MEZZO UMANO | AO2: ###
A5: ARMI AD ASTA (For, Rif)
A6: Alabarda (L0, Add.) | K6: 1 | M6: 0.8 | O6: 1.2 | Q6: 0.8 | S6: 0.8 | U6: 1.1 | W6: 1.1 | Y6: 1.1 | AA6: 1.1 | AC6: 1 | AE6: 1 | AG6: 1 | AI6: 1.1 | AK6: 1.1 | AM6: 0.9
A7: Bastone ferrato (L0) | K7: 1 | M7: 0.8 | O7: 1.1 | Q7: 0.8 | S7: 0.8 | U7: 1.1 | W7: 1.1 | Y7: 1 | AA7: 1.1 | AC7: 1 | AE7: 1.2 | AG7: 1 | AI7: 1.1 | AK7: 1.1 | AM7: 1.1
A8: Falce (L0) | K8: 1 | M8: 0.8 | O8: 1.1 | Q8: 0.8 | S8: 0.8 | U8: 1.1 | W8: 1.1 | Y8: 1 | AA8: 0.7 | AC8: 0.7 | AE8: 0.7 | AG8: 1.2 | AI8: 1.1 | AK8: 1.1 | AM8: 1.2
A9: Lancia da cavaliere (L0) | K9: 1 | M9: 0.8 | O9: 1.1 | Q9: 0.8 | S9: 0.8 | U9: 0.9 | W9: 0.9 | Y9: 1 | AA9: 1.1 | AC9: 1 | AE9: 1 | AG9: 1 | AI9: 1.1 | AK9: 1.1 | AM9: 1.1
A10: Picca (Add.) | K10: 1 | M10: 0.8 | O10: 1.1 | Q10: 0.8 | S10: 0.8 | U10: 1.1 | W10: 1.1 | Y10: 1 | AA10: 1.1 | AC10: 1 | AE10: 1 | AG10: 1 | AI10: 0.9 | AK10: 1.1 | AM10: 1.1
A11: Tridente (L0) | K11: 1 | M11: 0.8 | O11: 1.1 | Q11: 0.8 | S11: 0.8 | U11: 1.1 | W11: 1.1 | Y11: 1 | AA11: 1.1 | AC11: 1 | AE11: 1 | AG11: 1.1 | AI11: 1.1 | AK11: 1.1 | AM11: 1.1
A13: ARMI CONTUNDENTI (For, Man)
A14: Contundenti piccole (L0) | K14: 1 | M14: 1.2 | O14: 0.7 | Q14: 1.1 | S14: 1.1 | U14: 1.1 | W14: 1 | Y14: 0.7 | AA14: 1 | AC14: 1.1 | AE14: 1 | AG14: 1.1 | AI14: 1.1 | AK14: 0.8 | AM14: 0.8
A15: Contundenti medie (L0) | K15: 1 | M15: 1.2 | O15: 0.7 | Q15: 1 | S15: 1.1 | U15: 1.1 | W15: 1 | Y15: 0.7 | AA15: 1 | AC15: 1.1 | AE15: 1 | AG15: 0.8 | AI15: 0.8 | AK15: 0.8 | AM15: 1
A16: Contundenti grandi (L0) | K16: 0.8 | M16: 1.2 | O16: 0.7 | Q16: 1 | S16: 1.1 | U16: 1.1 | W16: 1 | Y16: 0.7 | AA16: 1.1 | AC16: 1.3 | AE16: 1.2 | AG16: 0.8 | AI16: 0.8 | AK16: 0.8 | AM16: 0.8
A18: ARMI DA LANCIO (Agi, Man)
A19: Bolas (L0) | K19: 0.9 | M19: 1.1 | O19: 0.8 | Q19: 0.9 | S19: 0.9 | U19: 1.2 | W19: 1.2 | Y19: 0.9 | AA19: 1.1 | AC19: 1.2 | AE19: 1.1 | AG19: 1.1 | AI19: 1 | AK19: 1.1 | AM19: 1.1
A20: Boomerang | K20: 0.9 | M20: 1 | O20: 0.7 | Q20: 0.9 | S20: 0.9 | U20: 1.2 | W20: 1.2 | Y20: 0.9 | AA20: 1.1 | AC20: 1.2 | AE20: 1.2 | AG20: 1.1 | AI20: 1 | AK20: 0.9 | AM20: 1.1
A21: Dardi (L0) | K21: 0.9 | M21: 1 | O21: 0.8 | Q21: 0.9 | S21: 0.9 | U21: 1.2 | W21: 1.2 | Y21: 0.9 | AA21: 1.1 | AC21: 1.2 | AE21: 1.1 | AG21: 1.1 | AI21: 1 | AK21: 0.9 | AM21: 1.1
A22: Generico (L0) | K22: 1 | M22: 1 | O22: 0.8 | Q22: 0.9 | S22: 0.9 | U22: 1.3 | W22: 1.3 | Y22: 0.9 | AA22: 1.3 | AC22: 1.2 | AE22: 1.1 | AG22: 1.1 | AI22: 1 | AK22: 0.9 | AM22: 1.1
A23: Giavellotto (L0) | K23: 0.9 | M23: 1 | O23: 0.8 | Q23: 0.9 | S23: 0.9 | U23: 1.2 | W23: 1.2 | Y23: 0.9 | AA23: 1.1 | AC23: 1.2 | AE23: 1.1 | AG23: 1.1 | AI23: 1 | AK23: 1 | AM23: 1.1
A24: Shuriken (Add.) | K24: 0.9 | M24: 1 | O24: 1.1 | Q24: 0.9 | S24: 0.9 | U24: 1.2 | W24: 1.2 | Y24: 0.9 | AA24: 1.1 | AC24: 1.2 | AE24: 1.1 | AG24: 1.1 | AI24: 1 | AK24: 0.9 | AM24: 1.1
A26: ARMI DA TIRO (For, Agi)
A27: Archi | K27: 1.1 | M27: 0.9 | O27: 1.2 | Q27: 1.1 | S27: 1.1 | U27: 0.9 | W27: 0.9 | Y27: 1.3 | AA27: 0.8 | AC27: 0.8 | AE27: 0.8 | AG27: 1.2 | AI27: 1.3 | AK27: 0.8 | AM27: 0.8
A28: Balestre (Man, Rif) (L0) | K28: 1.1 | M28: 0.9 | O28: 1.2 | Q28: 1.2 | S28: 1.2 | U28: 0.9 | W28: 0.9 | Y28: 1.2 | AA28: 0.8 | AC28: 0.8 | AE28: 0.8 | AG28: 1.2 | AI28: 1.2 | AK28: 1.1 | AM28: 0.8
A29: Cerbottana (L0) | K29: 1.1 | M29: 0.9 | O29: 0.8 | Q29: 1.1 | S29: 1.1 | U29: 0.9 | W29: 0.9 | Y29: 1.2 | AA29: 0.8 | AC29: 0.8 | AE29: 0.8 | AG29: 1.2 | AI29: 1.2 | AK29: 0.8 | AM29: 0.8
A30: Fionda (L0) | K30: 1.1 | M30: 0.9 | O30: 1.2 | Q30: 1.1 | S30: 1.1 | U30: 0.9 | W30: 0.9 | Y30: 1.2 | AA30: 1.1 | AC30: 1.1 | AE30: 1.1 | AG30: 1.2 | AI30: 1.2 | AK30: 0.8 | AM30: 0.8
A32: ARMI ESOTICHE (Man, For)
A33: Catena chiodata (L0) | K33: 0.8 | M33: 1.1 | O33: 0.9 | Q33: 1.1 | S33: 1.1 | U33: 1.1 | W33: 1.1 | Y33: 0.8 | AA33: 0.8 | AC33: 1 | AE33: 1 | AG33: 1.1 | AI33: 1 | AK33: 1.1 | AM33: 1
A34: Frusta (Add.) | K34: 0.8 | M34: 1.1 | O34: 0.9 | Q34: 1.1 | S34: 1.1 | U34: 1.2 | W34: 1.2 | Y34: 0.8 | AA34: 0.8 | AC34: 1 | AE34: 1 | AG34: 1.3 | AI34: 1.2 | AK34: 1.1 | AM34: 1.1
A35: Mano artigliata (L0) | K35: 0.8 | M35: 1.1 | O35: 0.9 | Q35: 0.8 | S35: 0.8 | U35: 1.1 | W35: 1.1 | Y35: 0.8 | AA35: 0.8 | AC35: 1 | AE35: 1 | AG35: 1.3 | AI35: 1.2 | AK35: 0.9 | AM35: 1
A36: Mazzafrusto (L0) | K36: 0.8 | M36: 1.1 | O36: 1 | Q36: 1.1 | S36: 1.1 | U36: 1.1 | W36: 1.1 | Y36: 0.8 | AA36: 0.8 | AC36: 1 | AE36: 1 | AG36: 1.3 | AI36: 1.2 | AK36: 1.1 | AM36: 1
A37: Rete (L0) | K37: 0.8 | M37: 0.8 | O37: 0.9 | Q37: 1.1 | S37: 1.1 | U37: 1.1 | W37: 1.1 | Y37: 0.8 | AA37: 0.8 | AC37: 1 | AE37: 1 | AG37: 1.3 | AI37: 1.2 | AK37: 1.1 | AM37: 1.2
A38: Scudo chiodato (For, Man) (L0) | K38: 0.8 | M38: 1.1 | O38: 0.9 | Q38: 0.9 | S38: 0.9 | U38: 1.1 | W38: 1.1 | Y38: 0.8 | AA38: 0.8 | AC38: 1 | AE38: 1 | AG38: 1.3 | AI38: 1.2 | AK38: 1.2 | AM38: 1
