Workbook

Sheet Principale
A1: Nome del personaggio
B4: Nome giocatore | K4: Nome giocatore | X4: Master | AA4: Nome Master
B6: Razza | D6: Razza | K6: Sottorazza | O6: Sottorazza | U6: Taglia | W6: =IF(D6="Asura",3,4) -> 4 | X6: Sesso | Z6: M/F | AC6: Età | AE6: 100
B8: Altezza | E8: 200 | G8: cm | I8: Peso | K8: 100 | M8: Kg | O8: Occhi | Q8: Colore | U8: Capelli | X8: Colore | AB8: Pelle | AD8: Colore
B10: Nato a | E10: Città di nascita | O10: Luogo di origine | U10: Luogo di origine
B12: Studi | D12: Studi | Q12: Status | T12: Status sociale | AC12: Mano | AE12: Des/Sin | BM12: Avanzamento Livello | BT12: Modifiche taglia | CC12: Bonus Qualità
B14: Carattere | F14: Comportamento del personaggio | BM14: 1 | BN14: 1000 | BU14: Schivata | BV14: Tempra | BW14: Forza | BX14: Agilità | BY14: Manualità | BZ14: Costituzione | CC14: Barriera magica | CH14: =IF(ISERROR(CI14)=TRUE,0,1) -> 0 | CI14: =IF(VLOOKUP("Barriera magica",Abilità!C216:K228,1,FALSE)="Barriera magica",1,0) -> #N/A
BM15: 2 | BN15: 3000 | CC15: Barriera psichica | CH15: =IF(ISERROR(CI15)=TRUE,0,1) -> 0 | CI15: =IF(VLOOKUP("Barriera psichica",Abilità!C216:K228,1,FALSE)="Barriera psichica",1,0) -> #N/A
BM16: 3 | BN16: 5000
BM17: 4 | BN17: 8000 | BT17: 1 | BU17: 6 | BV17: -4 | BW17: -4 | BX17: 2 | BY17: 3 | BZ17: -3
BI18: Coefficenti CARAT. per tabella abilità | BK18: Numeri per il calcolo dell'energia | BM18: 5 | BN18: 12000 | BT18: 2 | BU18: 3 | BV18: -2 | BW18: -2 | BX18: 1 | BY18: 1 | BZ18: -1
BM19: 6 | BN19: 16500 | BT19: 3 | BU19: 1 | BV19: -1 | BW19: -1 | BX19: 0 | BY19: 0 | BZ19: 0
B20: LIVELLO | F20: =LOOKUP(N20,BN14:BN33,BM14:BM33) -> 1 | J20: Punti abilità (PA) | N20: 1000 | S20: Punti azione (PAz) | W20: =M36+M44+FLOOR((M36+M44)/8,1)*FLOOR(F20/4,1)+AI69+CJ44 -> 20 | Y20: 0 | AA20: Movimento | AE20: =Equipaggiamento!BA3+Equipaggiamento!AT3+Y71+AI71 -> 14 | BM20: 7 | BN20: 21500 | BT20: 4 | BU20: 0 | BV20: 0 | BW20: 0 | BX20: 0 | BY20: 0 | BZ20: 0
AA21: PAz per 1 m | AE21: =W20/AE20 -> 1.4285714 | BM21: 8 | BN21: 27000 | BT21: 5 | BU21: -1 | BV21: 1 | BW21: 1 | BX21: 0 | BY21: -1 | BZ21: 1
BM22: 9 | BN22: 33000 | BT22: 6 | BU22: -3 | BV22: 2 | BW22: 3 | BX22: -1 | BY22: -2 | BZ22: 2
B23: ENERGIA | F23: =(M32+M40+M46)*2+SUM(BK32,BK40,BK46)+AO67 -> 60 | H23: 0 | J23: MANA | N23: =M50*4+M50*FLOOR(F20/4,1)+AO69 -> 40 | P23: 0 | S23: MENTE | W23: =M52*4+M52*FLOOR(F20/4,1)+AO71 -> 40 | Y23: 0 | AA23: INIZIATIVA | AE23: =M36+BP50 -> 10 | BM23: 10 | BN23: 40000 | BT23: 7 | BU23: -6 | BV23: 4 | BW23: 6 | BX23: -1 | BY23: -4 | BZ23: 4
BM24: 11 | BN24: 48000 | BT24: 8 | BU24: -9 | BV24: 6 | BW24: 9 | BX24: -2 | BY24: -7 | BZ24: 6
BM25: 12 | BN25: 57000 | BT25: 9 | BU25: -12 | BV25: 8 | BW25: 12 | BX25: -3 | BY25: -10 | BZ25: 9
BM26: 13 | BN26: 67000
B27: CARATTERISTICHE | AH27: DIFESE | BM27: 14 | BN27: 78000
BM28: 15 | BN28: 90000
B29: CARATTERISTICA | J29: DADO | M29: VALORI BASE | R29: VALORI TEMPORANEI | W29: MOD. RAZZA | Y29: MOD. TAGLIA | AA29: AUMENTI | BM29: 16 | BN29: 103000
AA30: 3° | AB30: 6° | AC30: 9° | AD30: 12° | AE30: 15° | AF30: 18° | BM30: 17 | BN30: 117000
BM31: 18 | BN31: 132000 | CB31: =IF(VLOOKUP("Schivata prodigiosa",Abilità!C216:K228,1,FALSE)="Schivata prodigiosa",1,0) -> #N/A | CC31: =IF(VLOOKUP("Schivata suprema",Abilità!C216:K228,1,FALSE)="Schivata suprema",1,0) -> #N/A | CD31: =IF(VLOOKUP("Mulo da trasporto",Abilità!C216:K228,1,FALSE)="Mulo da trasporto",1,0) -> #N/A | CE31: =IF(VLOOKUP("Iniziativa migliorata",Abilità!C216:K228,1,FALSE)="Iniziativa migliorata",1,0) -> #N/A | CF31: =IF(VLOOKUP("Infaticabile",Abilità!C216:K228,1,FALSE)="Infaticabile",1,0) -> #N/A
B32: FORZA (For) | J32: 10 | M32: =IF(J32="","",J32+W32+Y32+SUM(AA32:AF32)) -> 10 | O32: =IF(M32<6,"x0,7",IF(M32>15,"x1,3",IF(M32>13,"x1,2",IF(M32>11,"x1,1",IF(M32>11,"x1,1",IF(M32>9,"x1,0",IF(M32>7,"x0,9","x0,8"))))))) -> x1,0 | T32: x0,0 | W32: =IF(O6="Reaniano",1,IF(O6="O. di superficie",-1,IF(D6="Mezzo-demone",1,IF(D6="Elfo scuro",-1,IF(O6="Olba",1,IF(O6="Lótë",-1,IF(O6="Atan",1,IF(D6="Asura",-1,IF(D6="Mezzo-umano",2,0))))))))) -> 0 | Y32: =VLOOKUP($W$6,BT17:BZ25,4) -> 0 | AH32: SCHIVATA | AM32: =FLOOR((M34+M36)/2,1)+FLOOR((F20-11)/3,1)+(VLOOKUP($W$6,BT17:BZ25,2))+AI67 -> 6 | AO32: =AM32+BP44 -> 6 | AR32: Punti Vita (PV) | AU32: =M46*6+M46*FLOOR(F20/5,1) -> 60 | BI32: =VALUE(MID(O32,2,4)) -> 1 | BK32: =IF(M32>10,(M32-10)*FLOOR($F$20/5,1),0) -> 0 | BM32: 19 | BN32: 148000 | BP32: =SUM(BR32:CD32) -> 0 | BR32: =IF(BS32<>0,0,IF(Abilità!AP216="SI",IF(CF32=2,0,-1),0)) -> 0 | BS32: =IF(Abilità!AP218="SI",IF(CF32=2,-1,-3),0) -> 0 | BT32: =IF(Abilità!AP222="SI",-10,0) -> 0 | BU32: =IF(Abilità!AP226="SI","SI","NO") -> NO | BW32: =IF(BY32<>0,0,IF(BX32<>0,0,IF(Abilità!BC216="SI",-1,0))) -> 0 | BX32: =IF(BY32<>0,0,IF(Abilità!BC218="SI",-3,0)) -> 0 | BY32: =IF(Abilità!BC220="SI",-6,0) -> 0 | BZ32: =IF(Abilità!BC222="SI",-5,0) -> 0 | CA32: =IF(Abilità!AP220="SI","SI","NO") -> NO | CF32: =IF(ISERROR(CF31)=TRUE,0,2) -> 0 | CG32: Pen. prove
BM33: 20 | BN33: 165000
B34: AGILITÀ (Agi) | J34: 10 | M34: =IF(J34="","",J34+W34+Y34+SUM(AA34:AF34)) -> 10 | O34: =IF(M34<6,"x0,7",IF(M34>15,"x1,3",IF(M34>13,"x1,2",IF(M34>11,"x1,1",IF(M34>11,"x1,1",IF(M34>9,"x1,0",IF(M34>7,"x0,9","x0,8"))))))) -> x1,0 | T34: x0,0 | W34: =IF(O6="Reaniano",-1,IF(D6="Elfo scuro",1,IF(O6="Lassemista",-1,IF(O6="Lótë",1,0)))) -> 0 | Y34: =VLOOKUP($W$6,BT17:BZ25,5) -> 0 | AH34: TEMPRA | AM34: =1+FLOOR(F20/3,1)+FLOOR(M46/2,1)+(VLOOKUP($W$6,BT17:BZ25,3))+AU67 -> 6 | BI34: =VALUE(MID(O34,2,4)) -> 1 | BR34: Affaticato | BS34: Stremato | BT34: Cieco | BU34: Sordo | BV34: Penalità ING | BW34: Scosso | BX34: Impaurito | BY34: Terrorizzato | BZ34: Confuso | CA34: Addormentato | CB34: Schivata Prodigiosa | CC34: Schivata suprema | CD34: Mulo da trasporto | CE34: Iniziativa Migliorata | CF34: Infaticabile
B36: RIFLESSI (Rif) | J36: 10 | M36: =IF(J36="","",J36+W36+Y36+SUM(AA36:AF36)) -> 10 | O36: =IF(M36<6,"x0,7",IF(M36>15,"x1,3",IF(M36>13,"x1,2",IF(M36>11,"x1,1",IF(M36>11,"x1,1",IF(M36>9,"x1,0",IF(M36>7,"x0,9","x0,8"))))))) -> x1,0 | T36: x0,0 | W36: =IF(D6="Elfo scuro",1,IF(D6="Dampiro",2,IF(D6="Mezzo-umano",1,0))) -> 0 | Y36: 0 | AH36: VOLONTÀ MAGICO | AM36: =1+FLOOR(F20/3,1)+AU50+CH14+AU69 -> 6 | BI36: =VALUE(MID(O36,2,4)) -> 1
B38: MANUALITÀ (Man) | J38: 10 | M38: =IF(J38="","",J38+W38+Y38+SUM(AA38:AF38)) -> 10 | O38: =IF(M38<6,"x0,7",IF(M38>15,"x1,3",IF(M38>13,"x1,2",IF(M38>11,"x1,1",IF(M38>11,"x1,1",IF(M38>9,"x1,0",IF(M38>7,"x0,9","x0,8"))))))) -> x1,0 | T38: x0,0 | W38: =IF(D6="Elfo scuro",1,IF(D6="Asura",1,0)) -> 0 | Y38: =VLOOKUP($W$6,BT17:BZ25,6) -> 0 | AH38: VOLONTÀ PSICHICO | AM38: =1+FLOOR(F20/3,1)+AU52+CH15+AU71 -> 6 | AR38: Resistenze | BI38: =VALUE(MID(O38,2,4)) -> 1
B40: INTELLIGENZA (Int) | J40: 10 | M40: =IF(J40="","",J40+W40+Y40+SUM(AA40:AF40)) -> 10 | O40: =IF(M40<6,"x0,7",IF(M40>15,"x1,3",IF(M40>13,"x1,2",IF(M40>11,"x1,1",IF(M40>11,"x1,1",IF(M40>9,"x1,0",IF(M40>7,"x0,9","x0,8"))))))) -> x1,0 | T40: x0,0 | W40: =IF(O6="Valariano",1,IF(O6="Nárë",1,IF(D6="Asura",2,IF(D6="Mezzo-umano",2,0)))) -> 0 | Y40: 0 | AH40: Corpo | AK40: PV | AO40: Arm. | AR40: FISICO | AU40: 5 | BI40: =VALUE(MID(O40,2,4)) -> 1 | BK40: =IF(M40>10,(M40-10)*FLOOR($F$20/5,1),0) -> 0 | CJ40: ç PAz
B42: MEMORIA (Mem) | J42: 10 | M42: =IF(J42="","",J42+W42+Y42+SUM(AA42:AF42)) -> 10 | O42: =IF(M42<6,"x0,7",IF(M42>15,"x1,3",IF(M42>13,"x1,2",IF(M42>11,"x1,1",IF(M42>11,"x1,1",IF(M42>9,"x1,0",IF(M42>7,"x0,9","x0,8"))))))) -> x1,0 | T42: x0,0 | W42: =IF(O6="Valariano",-1,IF(O6="Olba",1,IF(O6="Lótë",-1,IF(D6="Asura",1,IF(D6="Mezzo-umano",-1,0))))) -> 0 | Y42: 0 | AH42: TESTA | AK42: =VLOOKUP($AU$32,BP56:CD107,4) -> 6 | AM42: 0 | AO42: 0 | AR42: FUOCO | AU42: 5 | BI42: =VALUE(MID(O42,2,4)) -> 1 | BP42: =SUM(BR42:CD42) -> 0 | BR42: =IF(BS32<>0,0,IF(Abilità!AP216="SI",IF(CF32=2,0,-2),0)) -> 0 | BS42: =IF(Abilità!AP218="SI",IF(CF32=2,-3,-5),0) -> 0 | BT42: =IF(Abilità!AP222="SI",0,0) -> 0 | BU42: =IF(Abilità!AP226="SI",0,0) -> 0 | BV42: 0 | BZ42: =IF(Abilità!BC222="SI",0,0) -> 0 | CD42: =IF(ISERROR(CD31)=TRUE,0,2) -> 0 | CG42: Penalità ING
B44: INTUITO (Itu) | J44: 10 | M44: =IF(J44="","",J44+W44+Y44+SUM(AA44:AF44)) -> 10 | O44: =IF(M44<6,"x0,7",IF(M44>15,"x1,3",IF(M44>13,"x1,2",IF(M44>11,"x1,1",IF(M44>11,"x1,1",IF(M44>9,"x1,0",IF(M44>7,"x0,9","x0,8"))))))) -> x1,0 | T44: x0,0 | W44: =IF(O6="O. di superficie",1,IF(D6="Mezzo-demone",-1,IF(O6="Lassemista",1,IF(O6="Lótë",-1,0)))) -> 0 | Y44: 0 | AH44: TRONCO | AK44: =VLOOKUP($AU$32,BP56:CD107,6) -> 22 | AM44: 0 | AO44: 0 | AR44: FREDDO | AU44: 5 | BI44: =VALUE(MID(O44,2,4)) -> 1 | BP44: =SUM(BR44:CD44) -> 0 | BR44: =IF(BS32<>0,0,IF(Abilità!AP216="SI",IF(CF32=2,0,-1),0)) -> 0 | BS44: =IF(Abilità!AP218="SI",IF(CF32=2,-1,-3),0) -> 0 | BT44: =IF(Abilità!AP222="SI",-10,0) -> 0 | BU44: =IF(Abilità!AP226="SI",-2,0) -> 0 | BV44: =Equipaggiamento!AQ3 -> 0 | BW44: =IF(BY32<>0,0,IF(BX32<>0,0,IF(Abilità!BC216="SI",-1,0))) -> 0 | BX44: =IF(BY32<>0,0,IF(Abilità!BC218="SI",-3,0)) -> 0 | BY44: =IF(Abilità!BC220="SI",-6,0) -> 0 | BZ44: =IF(Abilità!BC222="SI",-5,0) -> 0 | CB44: =IF(ISERROR(CB31)=TRUE,0,1) -> 0 | CC44: =IF(ISERROR(CC31)=TRUE,0,1) -> 0 | CG44: Pen. Schivata | CJ44: =IF(BW44=-1,-3,IF(BX44=-3,-6,IF(BY44=-6,-10,0))) -> 0
B46: COSTITUZIONE (Cos) | J46: 10 | M46: =IF(J46="","",J46+W46+Y46+SUM(AA46:AF46)) -> 10 | O46: =IF(M46<6,"x0,7",IF(M46>15,"x1,3",IF(M46>13,"x1,2",IF(M46>11,"x1,1",IF(M46>11,"x1,1",IF(M46>9,"x1,0",IF(M46>7,"x0,9","x0,8"))))))) -> x1,0 | T46: x0,0 | W46: =IF(O6="Reaniano",1,IF(O6="O. del sottosuolo",1,IF(D6="Elfo scuro",-1,IF(O6="Lassemista",1,IF(D6="Asura",-2,IF(D6="Mezzo-umano",1,0)))))) -> 0 | Y46: =VLOOKUP($W$6,BT17:BZ25,7) -> 0 | AH46: BRACCIO Sx | AK46: =VLOOKUP($AU$32,BP56:CD107,8) -> 7 | AM46: 0 | AO46: 0 | AR46: ELETTRICO | AU46: 5 | BI46: =VALUE(MID(O46,2,4)) -> 1 | BK46: =IF(M46>10,(M46-10)*FLOOR($F$20/5,1),0) -> 0 | BP46: SORDO | BR46: =IF(BU32="SI",-2,0) -> 0 | BS46: =IF(BU32="SI",-5,0) -> 0
B48: CARISMA (Car) | J48: 10 | M48: =IF(J48="","",J48+W48+Y48+SUM(AA48:AF48)) -> 10 | O48: =IF(M48<6,"x0,7",IF(M48>15,"x1,3",IF(M48>13,"x1,2",IF(M48>11,"x1,1",IF(M48>11,"x1,1",IF(M48>9,"x1,0",IF(M48>7,"x0,9","x0,8"))))))) -> x1,0 | T48: x0,0 | W48: =IF(O6="Reaniano",-1,IF(O6="Valariano",1,IF(O6="O. del sottosuolo",-1,IF(D6="Mezzo-demone",-1,IF(O6="Olba",-2,IF(O6="Lassemista",-1,IF(O6="Lótë",1,IF(D6="Asura",-1,IF(D6="Mezzo-umano",-2,0))))))))) -> 0 | Y48: 0 | AH48: BRACCIO Dx | AK48: =VLOOKUP($AU$32,BP56:CD107,10) -> 7 | AM48: 0 | AO48: 0 | AR48: ACIDO | AU48: 5 | BI48: =VALUE(MID(O48,2,4)) -> 1 | BP48: ADDOR. | BR48: =IF(CA32="SI",-5,0) -> 0
B50: SPIRITO (Spi) | J50: 10 | M50: =IF(J50="","",J50+W50+Y50+SUM(AA50:AF50)) -> 10 | O50: =IF(M50<6,"x0,7",IF(M50>15,"x1,3",IF(M50>13,"x1,2",IF(M50>11,"x1,1",IF(M50>11,"x1,1",IF(M50>9,"x1,0",IF(M50>7,"x0,9","x0,8"))))))) -> x1,0 | T50: x0,0 | W50: =IF(D6="Mezzo-demone",1,IF(D6="Elfo scuro",-2,IF(O6="Lótë",1,IF(D6="Dampiro",-2,0)))) -> 0 | Y50: 0 | AH50: GAMBA Sx | AK50: =VLOOKUP($AU$32,BP56:CD107,12) -> 9 | AM50: 0 | AO50: 0 | AR50: MAGICO | AU50: 5 | BI50: =VALUE(MID(O50,2,4)) -> 1 | BP50: =SUM(BR50:CE50) -> 0 | CE50: =IF(ISERROR(CE31)=TRUE,0,2) -> 0 | CG50: Bonus Iniziat.
B52: EMPATIA (Emp) | J52: 10 | M52: =IF(J52="","",J52+W52+Y52+SUM(AA52:AF52)) -> 10 | O52: =IF(M52<6,"x0,7",IF(M52>15,"x1,3",IF(M52>13,"x1,2",IF(M52>11,"x1,1",IF(M52>11,"x1,1",IF(M52>9,"x1,0",IF(M52>7,"x0,9","x0,8"))))))) -> x1,0 | T52: x0,0 | W52: =IF(O6="Valariano",-1,IF(D6="Elfo scuro",1,IF(D6="Dampiro",-1,IF(D6="Mezzo-umano",-3,0)))) -> 0 | Y52: 0 | AH52: GAMBA Dx | AK52: =VLOOKUP($AU$32,BP56:CD107,14) -> 9 | AM52: 0 | AO52: 0 | AR52: PSICHICO | AU52: 5 | BI52: =VALUE(MID(O52,2,4)) -> 1 | BP52: GESTIONE PUNTI VITA
BP54: PV | BS54: Testa | BU54: Tronco | BW54: B Sx | BY54: B Dx | CA54: G Sx | CC54: G Dx
B56: Armatura indossata | AF56: Scudo | BP56: 48 | BS56: 5 | BU56: 17 | BW56: 6 | BY56: 6 | CA56: 7 | CC56: 7
BP57: 54 | BS57: 5 | BU57: 19 | BW57: 7 | BY57: 7 | CA57: 9 | CC57: 9
E58: Armatura | M58: Tipo | P58: Bonus | S58: Pen. prove | V58: Pen. magia | Y58: P. Velocità | AB58: Peso (Kg) | BP58: 56 | BS58: 6 | BU58: 20 | BW58: 7 | BY58: 7 | CA58: 8 | CC58: 8
B59: TESTA | E59: Armatura | M59: Tipo | P59: 0 | S59: 0 | V59: 0 | Y59: n.a. | AB59: 0 | AF59: SCUDO | AS59: BONUS | BP59: 60 | BS59: 6 | BU59: 22 | BW59: 7 | BY59: 7 | CA59: 9 | CC59: 9
BP60: 63 | BS60: 6 | BU60: 23 | BW60: 8 | BY60: 8 | CA60: 9 | CC60: 9
B61: TRONCO | E61: Armatura | M61: Tipo | P61: 0 | S61: 0 | V61: 0 | Y61: n.a. | AB61: 0 | AF61: Rottura | AO61: Punti danno | BP61: 64 | BS61: 6 | BU61: 22 | BW61: 8 | BY61: 8 | CA61: 10 | CC61: 10
BP62: 66 | BS62: 7 | BU62: 23 | BW62: 8 | BY62: 8 | CA62: 10 | CC62: 10
B63: BRACCIO Sx | E63: Armatura | M63: Tipo | P63: 0 | S63: 0 | V63: 0 | Y63: n.a. | AB63: 0 | AF63: Pen. magia | AO63: Peso (Kg) | BP63: 70 | BS63: 7 | BU63: 25 | BW63: 9 | BY63: 9 | CA63: 10 | CC63: 10
BP64: 72 | BS64: 7 | BU64: 25 | BW64: 9 | BY64: 9 | CA64: 11 | CC64: 11
B65: BRACCIO Dx | E65: Armatura | M65: Tipo | P65: 0 | V65: 0 | Y65: n.a. | AB65: 0 | AF65: Bonus aggiuntivi complessivi da oggetti utilizzati | BP65: 77 | BS65: 8 | BU65: 27 | BW65: 10 | BY65: 10 | CA65: 11 | CC65: 11
BP66: 78 | BS66: 8 | BU66: 26 | BW66: 10 | BY66: 10 | CA66: 12 | CC66: 12
B67: GAMBA Sx | E67: Armatura | M67: Tipo | P67: 0 | S67: 0 | V67: 0 | Y67: 0 | AB67: 0 | AF67: Schivata | AI67: 0 | AL67: Energia | AO67: 0 | AR67: Tempra | AU67: 0 | BP67: 80 | BS67: 8 | BU67: 28 | BW67: 10 | BY67: 10 | CA67: 12 | CC67: 12
BP68: 81 | BS68: 8 | BU68: 29 | BW68: 10 | BY68: 10 | CA68: 12 | CC68: 12
B69: GAMBA Dx | E69: Armatura | M69: Tipo | P69: 0 | V69: 0 | AB69: 0 | AF69: Punti azione | AI69: 0 | AL69: Mana | AO69: 0 | AR69: Volontà M. | AU69: 0 | BP69: 84 | BS69: 8 | BU69: 28 | BW69: 11 | BY69: 11 | CA69: 13 | CC69: 13
BP70: 88 | BS70: 9 | BU70: 31 | BW70: 11 | BY70: 11 | CA70: 13 | CC70: 13
B71: TOTALE | P71: n.a. | S71: =SUM(S59,S61,S63,S67) -> 0 | V71: =-1*CEILING(-1*AVERAGE(V59,V61,V63,V65,V67,V69),1) -> 0 | Y71: =Y67 -> 0 | AB71: =SUM(AB59,AB61,AB63,AB65,AB67,AB69) -> 0 | AF71: Movimento | AI71: 0 | AL71: Mente | AO71: 0 | AR71: Volontà P. | AU71: 0 | BP71: 90 | BS71: 9 | BU71: 31 | BW71: 11 | BY71: 11 | CA71: 14 | CC71: 14
BP72: 91 | BS72: 9 | BU72: 32 | BW72: 11 | BY72: 11 | CA72: 14 | CC72: 14
BP73: 96 | BS73: 10 | BU73: 34 | BW73: 12 | BY73: 12 | CA73: 14 | CC73: 14
BP74: 98 | BS74: 10 | BU74: 34 | BW74: 12 | BY74: 12 | CA74: 15 | CC74: 15
B75: Armi | BP75: 99 | BS75: 10 | BU75: 35 | BW75: 12 | BY75: 12 | CA75: 15 | CC75: 15
BP76: 100 | BS76: 10 | BU76: 36 | BW76: 12 | BY76: 12 | CA76: 15 | CC76: 15
B77: ARMA | M77: LA | O77: TIPO | Q77: PENETRAZIONE | W77: GITTATA | AG77: Velocità | AI77: DANNI | AQ77: ANNOTAZIONI | AU77: PESO (Kg) | BP77: 102 | BS77: 10 | BU77: 36 | BW77: 13 | BY77: 13 | CA77: 15 | CC77: 15
Q78: Pelle | S78: Anelli | U78: Placche | W78: Bruc. | Y78: Corta | AA78: Media | AC78: Lunga | AE78: Lungh. | AI78: Base | AK78: Totale | AM78: B. Forza | AO78: Varie | BP78: 104 | BS78: 10 | BU78: 36 | BW78: 13 | BY78: 13 | CA78: 16 | CC78: 16
BP79: 105 | BS79: 10 | BU79: 37 | BW79: 13 | BY79: 13 | CA79: 16 | CC79: 16
B80: Arma | O80: C/T/P | AK80: =IF(B80="",0,SUM(AM80:AP80)) -> 0 | AM80: =IF(LEFT(B80,8)="Balestra",0,IF($O$32="x0,7",-3,IF($O$32="x0,8",-2,IF($O$32="x0,9",-1,IF($O$32="x1,0",0,IF($O$32="x1,1",1,IF($O$32="x1,2",2,3))))))) -> 0 | BP80: 108 | BS80: 11 | BU80: 37 | BW80: 14 | BY80: 14 | CA80: 16 | CC80: 16
BP81: 110 | BS81: 11 | BU81: 39 | BW81: 14 | BY81: 14 | CA81: 16 | CC81: 16
B82: Arma | O82: C/T/P | AK82: =IF(B82="",0,SUM(AM82:AP82)) -> 0 | AM82: =IF(LEFT(B82,8)="Balestra",0,IF($O$32="x0,7",-3,IF($O$32="x0,8",-2,IF($O$32="x0,9",-1,IF($O$32="x1,0",0,IF($O$32="x1,1",1,IF($O$32="x1,2",2,3))))))) -> 0 | BP82: 112 | BS82: 11 | BU82: 39 | BW82: 14 | BY82: 14 | CA82: 17 | CC82: 17
BP83: 114 | BS83: 11 | BU83: 41 | BW83: 14 | BY83: 14 | CA83: 17 | CC83: 17
B84: Arma | O84: C/T/P | AK84: =IF(B84="",0,SUM(AM84:AP84)) -> 0 | AM84: =IF(LEFT(B84,8)="Balestra",0,IF($O$32="x0,7",-3,IF($O$32="x0,8",-2,IF($O$32="x0,9",-1,IF($O$32="x1,0",0,IF($O$32="x1,1",1,IF($O$32="x1,2",2,3))))))) -> 0 | BP84: 117 | BS84: 12 | BU84: 39 | BW84: 15 | BY84: 15 | CA84: 18 | CC84: 18
BP85: 119 | BS85: 12 | BU85: 41 | BW85: 15 | BY85: 15 | CA85: 18 | CC85: 18
B86: Arma | O86: C/T/P | AK86: =IF(B86="",0,SUM(AM86:AP86)) -> 0 | AM86: =IF(LEFT(B86,8)="Balestra",0,IF($O$32="x0,7",-3,IF($O$32="x0,8",-2,IF($O$32="x0,9",-1,IF($O$32="x1,0",0,IF($O$32="x1,1",1,IF($O$32="x1,2",2,3))))))) -> 0 | BP86: 120 | BS86: 12 | BU86: 42 | BW86: 15 | BY86: 15 | CA86: 18 | CC86: 18
BP87: 126 | BS87: 13 | BU87: 43 | BW87: 16 | BY87: 16 | CA87: 19 | CC87: 19
B88: Arma | O88: C/T/P | AK88: =IF(B88="",0,SUM(AM88:AP88)) -> 0 | AM88: =IF(LEFT(B88,8)="Balestra",0,IF($O$32="x0,7",-3,IF($O$32="x0,8",-2,IF($O$32="x0,9",-1,IF($O$32="x1,0",0,IF($O$32="x1,1",1,IF($O$32="x1,2",2,3))))))) -> 0 | BP88: 128 | BS88: 13 | BU88: 45 | BW88: 16 | BY88: 16 | CA88: 19 | CC88: 19
BP89: 130 | BS89: 13 | BU89: 47 | BW89: 16 | BY89: 16 | CA89: 19 | CC89: 19
B90: Arma | O90: C/T/P | AK90: =IF(B90="",0,SUM(AM90:AP90)) -> 0 | AM90: =IF(LEFT(B90,8)="Balestra",0,IF($O$32="x0,7",-3,IF($O$32="x0,8",-2,IF($O$32="x0,9",-1,IF($O$32="x1,0",0,IF($O$32="x1,1",1,IF($O$32="x1,2",2,3))))))) -> 0 | BP90: 133 | BS90: 13 | BU90: 46 | BW90: 17 | BY90: 17 | CA90: 20 | CC90: 20
BP91: 135 | BS91: 13 | BU91: 48 | BW91: 17 | BY91: 17 | CA91: 20 | CC91: 20
B92: Arma | O92: C/T/P | AK92: =IF(B92="",0,SUM(AM92:AP92)) -> 0 | AM92: =IF(LEFT(B92,8)="Balestra",0,IF($O$32="x0,7",-3,IF($O$32="x0,8",-2,IF($O$32="x0,9",-1,IF($O$32="x1,0",0,IF($O$32="x1,1",1,IF($O$32="x1,2",2,3))))))) -> 0 | BP92: 140 | BS92: 14 | BU92: 50 | BW92: 17 | BY92: 17 | CA92: 21 | CC92: 21
BP93: 144 | BS93: 14 | BU93: 50 | BW93: 18 | BY93: 18 | CA93: 22 | CC93: 22
BP94: 150 | BS94: 15 | BU94: 53 | BW94: 19 | BY94: 19 | CA94: 22 | CC94: 22
BP95: 152 | BS95: 15 | BU95: 53 | BW95: 19 | BY95: 19 | CA95: 23 | CC95: 23
B96: Gruppi di Appartenenza Innati
B98: MAGGIORE | N98: MAGGIORE | Z98: MINORE | AL98: MINORE
B100: Professione 1 | K100: Nome Professione | Z100: Professione 2 | AI100: Nome Professione | BP100: 153 | BS100: 15 | BU100: 54 | BW100: 19 | BY100: 19 | CA100: 23 | CC100: 23
BP101: 160 | BS101: 16 | BU101: 56 | BW101: 20 | BY101: 20 | CA101: 24 | CC101: 24
C102: ABILITÀ LAM AUMENTATO | R102: BONUS SPECIALI | AA102: ABILITÀ LAM AUMENTATO | AP102: BONUS SPECIALI | BP102: 162 | BS102: 16 | BU102: 58 | BW102: 20 | BY102: 20 | CA102: 24 | CC102: 24
BP103: 170 | BS103: 17 | BU103: 59 | BW103: 21 | BY103: 21 | CA103: 26 | CC103: 26
B104: 1 | Z104: 1 | BP104: 171 | BS104: 17 | BU104: 60 | BW104: 21 | BY104: 21 | CA104: 26 | CC104: 26
BP105: 180 | BS105: 18 | BU105: 62 | BW105: 23 | BY105: 23 | CA105: 27 | CC105: 27
B106: 2 | Z106: 2 | BP106: 190 | BS106: 19 | BU106: 65 | BW106: 24 | BY106: 24 | CA106: 29 | CC106: 29
BP107: 200 | BS107: 20 | BU107: 70 | BW107: 25 | BY107: 25 | CA107: 30 | CC107: 30
B108: 3 | Z108: 3
B110: 4 | Z110: 4
B112: 5 | Z112: 5
B114: 6 | Z114: 6
B116: 7 | Z116: 7
B118: 8 | Z118: 8
B120: 9 | Z120: 9
B122: 10 | Z122: 10
BP124: ELENCO GRUPPI DI APPARTENENZA
BP125: ARMI AD ASTA (For, Rif)
BP126: ARMI CONTUNDENTI (For, Man)
BP127: ARMI DA LANCIO (Agi, Man)
BP128: ARMI DA TIRO (For, Agi)
...

Sheet Abilità
B1: Capacità del personaggio
B3: PA Totali | F3: =Principale!N20 -> 1000 | L3: PA SPESI IN ABILITÀ | S3: =SUM(N11:P210) -> 0 | W3: PA SPESI IN LINGUE | AF3: 0 | AJ3: PA SPESI IN RICERCA | AQ3: 0 | AU3: PA RESIDUI | BA3: =F3-SUM(S3,AF3,AQ3) -> 1000
L5: PUNTI RICERCA DI LAM | S5: =Principale!F20+U5 -> 1 | U5: 0 | W5: PUNTI RICERCA DI "RICETTE" | AF5: =_xlfn.FLOOR.MATH(Principale!F20/2)+U5 -> 0 | AH5: 0 | AJ5: P. RICERCA IN ABILITÀ | AQ5: =SUM(BA11:BB210) -> 0 | AU5: PUNTI RIC. USATI | BA5: =SUM(BC11:BD210) -> 0 | BI5: BONUS DI SINERGIA | CC5: TABELLA LIVELLO/PA
B7: ABILITÀ | L7: Livello abilità | N7: PA | Q7: PAE | U7: Bonus LA vari | W7: Modif. carat. | Y7: Sinergia | AA7: Pen. totali | AD7: GRADO DI ATTINENZA (GA) | AS7: LIVELLO ABILITÀ MASSIMO (LAM)
N8: =VLOOKUP(Principale!F20,CC11:CF30,3) -> 85 | AD8: TOT | AF8: Razza | AH8: Nascita | AJ8: Studi | AL8: Status | AN8: Car. 1 | AP8: Car. 2 | AS8: TOT | AU8: Carat. | AW8: Studi | AY8: Prof. | BA8: Ricerca | BC8: Ric. us.
CD9: PA livello | CE9: Spesa max PA | CF9: PA totali
B10: ARMI AD ASTA (For, Rif) | L10: =IF(Principale!$E$98=Abilità!B10,2,IF(Principale!$Q$98=Abilità!B10,2,IF(Principale!$AC$98=Abilità!B10,1,IF(Principale!$AO$98=Abilità!B10,1,0)))) -> 0 | N10: Bonus GA Innato
B11: Alabarda (L0, Add.) | L11: =IF(Q11<136,0+SUM(U11:AB11)+$L$10,LOOKUP(Q11,$CD$11:$CD$31,$CC$11:$CC$31)+SUM(U11:AB11)+$L$10) -> 0 | Q11: =IF(AD11="",0,N11*AD11) -> 0 | W11: =IF(Principale!$M$32<6,-2,IF(Principale!$M$32<10,-1,IF(Principale!$M$32>15,2,IF(Principale!$M$32>11,1,0)))) -> 0 | AA11: =Principale!$BP$32+Principale!$BR$46 -> 0 | AD11: =IF(AF11=0,0,AF11*AH11*AJ11*AL11*AN11*AP11) -> 0 | AN11: =Principale!$BI$32 -> 1 | AP11: =IF(Principale!$BI$36<1,Principale!$BI$36+0.1,IF(Principale!$BI$36>1,Principale!$BI$36-0.1,Principale!$BI$36)) -> 1 | AS11: =SUM(AU11:BB11) -> 3 | AU11: =IF(Principale!$M$32<9,1,IF(Principale!$M$32>15,5,IF(Principale!$M$32>12,4,IF(Principale!$M$32>10,3,2)))) -> 2 | AW11: =IF(AJ11<0.8,1,IF(AJ11>1.2,5,IF(AJ11>1,4,IF(AJ11>0.8,3,2)))) -> 1 | CC11: 1 | CD11: 136 | CE11: 85 | CF11: 1000
B12: Bastone ferrato (L0) | L12: =IF(Q12<136,0+SUM(U12:AB12)+$L$10,LOOKUP(Q12,$CD$11:$CD$31,$CC$11:$CC$31)+SUM(U12:AB12)+$L$10) -> 0 | Q12: =IF(AD12="",0,N12*AD12) -> 0 | W12: =IF(Principale!$M$32<6,-2,IF(Principale!$M$32<10,-1,IF(Principale!$M$32>15,2,IF(Principale!$M$32>11,1,0)))) -> 0 | Y12: =+BI12 -> 0 | AA12: =Principale!$BP$32+Principale!$BR$46 -> 0 | AD12: =IF(AF12=0,0,AF12*AH12*AJ12*AL12*AN12*AP12) -> 0 | AN12: =Principale!$BI$32 -> 1 | AP12: =IF(Principale!$BI$36<1,Principale!$BI$36+0.1,IF(Principale!$BI$36>1,Principale!$BI$36-0.1,Principale!$BI$36)) -> 1 | AS12: =SUM(AU12:BB12) -> 3 | AU12: =IF(Principale!$M$32<9,1,IF(Principale!$M$32>15,5,IF(Principale!$M$32>12,4,IF(Principale!$M$32>10,3,2)))) -> 2 | AW12: =IF(AJ12<0.8,1,IF(AJ12>1.2,5,IF(AJ12>1,4,IF(AJ12>0.8,3,2)))) -> 1 | BI12: =IF(SUM(BJ12:CA12)>2,2,SUM(BJ12:CA12)) -> 0 | BJ12: =IF(Q20<136,0,IF(LOOKUP(Q20,$CD$11:$CD$31,$CC$11:$CC$31)>5,2,IF(LOOKUP(Q20,$CD$11:$CD$31,$CC$11:$CC$31)>2,1,0))) -> 0 | CC12: 2 | CD12: 376 | CE12: 235 | CF12: 3000
B13: Falce (L0) | L13: =IF(Q13<136,0+SUM(U13:AB13)+$L$10,LOOKUP(Q13,$CD$11:$CD$31,$CC$11:$CC$31)+SUM(U13:AB13)+$L$10) -> 0 | Q13: =IF(AD13="",0,N13*AD13) -> 0 | W13: =IF(Principale!$M$32<6,-2,IF(Principale!$M$32<10,-1,IF(Principale!$M$32>15,2,IF(Principale!$M$32>11,1,0)))) -> 0 | AA13: =Principale!$BP$32+Principale!$BR$46 -> 0 | AD13: =IF(AF13=0,0,AF13*AH13*AJ13*AL13*AN13*AP13) -> 0 | AN13: =Principale!$BI$32 -> 1 | AP13: =IF(Principale!$BI$36<1,Principale!$BI$36+0.1,IF(Principale!$BI$36>1,Principale!$BI$36-0.1,Principale!$BI$36)) -> 1 | AS13: =SUM(AU13:BB13) -> 3 | AU13: =IF(Principale!$M$32<9,1,IF(Principale!$M$32>15,5,IF(Principale!$M$32>12,4,IF(Principale!$M$32>10,3,2)))) -> 2 | AW13: =IF(AJ13<0.8,1,IF(AJ13>1.2,5,IF(AJ13>1,4,IF(AJ13>0.8,3,2)))) -> 1 | CC13: 3 | CD13: 736 | CE13: 460 | CF13: 5000
B14: Lancia da cavaliere (L0) | L14: =IF(Q14<136,0+SUM(U14:AB14)+$L$10,LOOKUP(Q14,$CD$11:$CD$31,$CC$11:$CC$31)+SUM(U14:AB14)+$L$10) -> 0 | Q14: =IF(AD14="",0,N14*AD14) -> 0 | W14: =IF(Principale!$M$32<6,-2,IF(Principale!$M$32<10,-1,IF(Principale!$M$32>15,2,IF(Principale!$M$32>11,1,0)))) -> 0 | Y14: =BI14 -> 0 | AA14: =Principale!$BP$32+Principale!$BR$46 -> 0 | AD14: =IF(AF14=0,0,AF14*AH14*AJ14*AL14*AN14*AP14) -> 0 | AN14: =Principale!$BI$32 -> 1 | AP14: =IF(Principale!$BI$36<1,Principale!$BI$36+0.1,IF(Principale!$BI$36>1,Principale!$BI$36-0.1,Principale!$BI$36)) -> 1 | AS14: =SUM(AU14:BB14) -> 3 | AU14: =IF(Principale!$M$32<9,1,IF(Principale!$M$32>15,5,IF(Principale!$M$32>12,4,IF(Principale!$M$32>10,3,2)))) -> 2 | AW14: =IF(AJ14<0.8,1,IF(AJ14>1.2,5,IF(AJ14>1,4,IF(AJ14>0.8,3,2)))) -> 1 | BI14: =IF(SUM(BJ14:CA14)>2,2,SUM(BJ14:CA14)) -> 0 | BJ14: =IF(Q28<136,0,IF(LOOKUP(Q28,$CD$11:$CD$31,$CC$11:$CC$31)>5,2,IF(LOOKUP(Q28,$CD$11:$CD$31,$CC$11:$CC$31)>2,1,0))) -> 0 | CC14: 4 | CD14: 1232 | CE14: 770 | CF14: 8000
B15: Picca (Add.) | L15: =IF(Q15<136,0+SUM(U15:AB15)+$L$10,LOOKUP(Q15,$CD$11:$CD$31,$CC$11:$CC$31)+SUM(U15:AB15)+$L$10) -> 0 | Q15: =IF(AD15="",0,N15*AD15) -> 0 | W15: =IF(Principale!$M$32<6,-2,IF(Principale!$M$32<10,-1,IF(Principale!$M$32>15,2,IF(Principale!$M$32>11,1,0)))) -> 0 | Y15: =BI15 -> 0 | AA15: =Principale!$BP$32+Principale!$BR$46 -> 0 | AD15: =IF(AF15=0,0,AF15*AH15*AJ15*AL15*AN15*AP15) -> 0 | AN15: =Principale!$BI$32 -> 1 | AP15: =IF(Principale!$BI$36<1,Principale!$BI$36+0.1,IF(Principale!$BI$36>1,Principale!$BI$36-0.1,Principale!$BI$36)) -> 1 | AS15: =SUM(AU15:BB15) -> 3 | AU15: =IF(Principale!$M$32<9,1,IF(Principale!$M$32>15,5,IF(Principale!$M$32>12,4,IF(Principale!$M$32>10,3,2)))) -> 2 | AW15: =IF(AJ15<0.8,1,IF(AJ15>1.2,5,IF(AJ15>1,4,IF(AJ15>0.8,3,2)))) -> 1 | BI15: =IF(SUM(BJ15:CA15)>2,2,SUM(BJ15:CA15)) -> 0 | BJ15: =IF(Q16<136,0,IF(LOOKUP(Q16,$CD$11:$CD$31,$CC$11:$CC$31)>5,2,IF(LOOKUP(Q16,$CD$11:$CD$31,$CC$11:$CC$31)>2,1,0))) -> 0 | CC15: 5 | CD15: 2045 | CE15: 1280 | CF15: 12000
B16: Tridente (L0) | L16: =IF(Q16<136,0+SUM(U16:AB16)+$L$10,LOOKUP(Q16,$CD$11:$CD$31,$CC$11:$CC$31)+SUM(U16:AB16)+$L$10) -> 0 | Q16: =IF(AD16="",0,N16*AD16) -> 0 | W16: =IF(Principale!$M$32<6,-2,IF(Principale!$M$32<10,-1,IF(Principale!$M$32>15,2,IF(Principale!$M$32>11,1,0)))) -> 0 | AA16: =Principale!$BP$32+Principale!$BR$46 -> 0 | AD16: =IF(AF16=0,0,AF16*AH16*AJ16*AL16*AN16*AP16) -> 0 | AN16: =Principale!$BI$32 -> 1 | AP16: =IF(Principale!$BI$36<1,Principale!$BI$36+0.1,IF(Principale!$BI$36>1,Principale!$BI$36-0.1,Principale!$BI$36)) -> 1 | AS16: =SUM(AU16:BB16) -> 3 | AU16: =IF(Principale!$M$32<9,1,IF(Principale!$M$32>15,5,IF(Principale!$M$32>12,4,IF(Principale!$M$32>10,3,2)))) -> 2 | AW16: =IF(AJ16<0.8,1,IF(AJ16>1.2,5,IF(AJ16>1,4,IF(AJ16>0.8,3,2)))) -> 1 | CC16: 6 | CD16: 2976 | CE16: 1860 | CF16: 16500
CC17: 7 | CD17: 4160 | CE17: 2600 | CF17: 21500
B18: ARMI CONTUNDENTI (For, Man) | L18: =IF(Principale!$E$98=Abilità!B18,2,IF(Principale!$Q$98=Abilità!B18,2,IF(Principale!$AC$98=Abilità!B18,1,IF(Principale!$AO$98=Abilità!B18,1,0)))) -> 0 | N18: Bonus GA Innato | CC18: 8 | CD18: 5600 | CE18: 3500 | CF18: 27000
B19: Contundenti piccole (L0) | L19: =IF(Q19<136,0+SUM(U19:AB19)+$L$18,LOOKUP(Q19,$CD$11:$CD$31,$CC$11:$CC$31)+SUM(U19:AB19)+$L$18) -> 0 | Q19: =IF(AD19="",0,N19*AD19) -> 0 | W19: =IF(Principale!$M$32<6,-2,IF(Principale!$M$32<10,-1,IF(Principale!$M$32>15,2,IF(Principale!$M$32>11,1,0)))) -> 0 | Y19: =BI19 -> 0 | AA19: =Principale!$BP$32+Principale!$BR$46 -> 0 | AD19: =IF(AF19=0,0,AF19*AH19*AJ19*AL19*AN19*AP19) -> 0 | AN19: =Principale!$BI$32 -> 1 | AP19: =IF(Principale!$BI$38<1,Principale!$BI$38+0.1,IF(Principale!$BI$38>1,Principale!$BI$38-0.1,Principale!$BI$38)) -> 1 | AS19: =SUM(AU19:BB19) -> 3 | AU19: =IF(Principale!$M$32<9,1,IF(Principale!$M$32>15,5,IF(Principale!$M$32>12,4,IF(Principale!$M$32>10,3,2)))) -> 2 | AW19: =IF(AJ19<0.8,1,IF(AJ19>1.2,5,IF(AJ19>1,4,IF(AJ19>0.8,3,2)))) -> 1 | BI19: =IF(SUM(BJ19:CA19)>2,2,SUM(BJ19:CA19)) -> 0 | BJ19: =IF(Q20<136,0,IF(LOOKUP(Q20,$CD$11:$CD$31,$CC$11:$CC$31)>5,2,IF(LOOKUP(Q20,$CD$11:$CD$31,$CC$11:$CC$31)>2,1,0))) -> 0 | BK19: =IF(Q21<136,0,IF(LOOKUP(Q21,$CD$11:$CD$31,$CC$11:$CC$31)>5,2,IF(LOOKUP(Q21,$CD$11:$CD$31,$CC$11:$CC$31)>2,1,0))) -> 0 | CC19: 9 | CD19: 7760 | CE19: 4850 | CF19: 33000
B20: Contundenti medie (L0) | L20: =IF(Q20<136,0+SUM(U20:AB20)+$L$18,LOOKUP(Q20,$CD$11:$CD$31,$CC$11:$CC$31)+SUM(U20:AB20)+$L$18) -> 0 | Q20: =IF(AD20="",0,N20*AD20) -> 0 | W20: =IF(Principale!$M$32<6,-2,IF(Principale!$M$32<10,-1,IF(Principale!$M$32>15,2,IF(Principale!$M$32>11,1,0)))) -> 0 | Y20: =BI20 -> 0 | AA20: =Principale!$BP$32+Principale!$BR$46 -> 0 | AD20: =IF(AF20=0,0,AF20*AH20*AJ20*AL20*AN20*AP20) -> 0 | AN20: =Principale!$BI$32 -> 1 | AP20: =IF(Principale!$BI$38<1,Principale!$BI$38+0.1,IF(Principale!$BI$38>1,Principale!$BI$38-0.1,Principale!$BI$38)) -> 1 | AS20: =SUM(AU20:BB20) -> 3 | AU20: =IF(Principale!$M$32<9,1,IF(Principale!$M$32>15,5,IF(Principale!$M$32>12,4,IF(Principale!$M$32>10,3,2)))) -> 2 | AW20: =IF(AJ20<0.8,1,IF(AJ20>1.2,5,IF(AJ20>1,4,IF(AJ20>0.8,3,2)))) -> 1 | BI20: =IF(SUM(BJ20:CA20)>2,2,SUM(BJ20:CA20)) -> 0 | BJ20: =IF(Q12<136,0,IF(LOOKUP(Q12,$CD$11:$CD$31,$CC$11:$CC$31)>5,2,IF(LOOKUP(Q12,$CD$11:$CD$31,$CC$11:$CC$31)>2,1,0))) -> 0 | BK20: =IF(Q19<136,0,IF(LOOKUP(Q19,$CD$11:$CD$31,$CC$11:$CC$31)>5,2,IF(LOOKUP(Q19,$CD$11:$CD$31,$CC$11:$CC$31)>2,1,0))) -> 0 | BL20: =IF(Q21<136,0,IF(LOOKUP(Q21,$CD$11:$CD$31,$CC$11:$CC$31)>5,2,IF(LOOKUP(Q21,$CD$11:$CD$31,$CC$11:$CC$31)>2,1,0))) -> 0 | CC20: 10 | CD20: 9920 | CE20: 6200 | CF20: 40000
B21: Contundenti grandi (L0) | L21: =IF(Q21<136,0+SUM(U21:AB21)+$L$18,LOOKUP(Q21,$CD$11:$CD$31,$CC$11:$CC$31)+SUM(U21:AB21)+$L$18) -> 0 | Q21: =IF(AD21="",0,N21*AD21) -> 0 | W21: =IF(Principale!$M$32<6,-2,IF(Principale!$M$32<10,-1,IF(Principale!$M$32>15,2,IF(Principale!$M$32>11,1,0)))) -> 0 | Y21: =BI21 -> 0 | AA21: =Principale!$BP$32+Principale!$BR$46 -> 0 | AD21: =IF(AF21=0,0,AF21*AH21*AJ21*AL21*AN21*AP21) -> 0 | AN21: =Principale!$BI$32 -> 1 | AP21: =IF(Principale!$BI$38<1,Principale!$BI$38+0.1,IF(Principale!$BI$38>1,Principale!$BI$38-0.1,Principale!$BI$38)) -> 1 | AS21: =SUM(AU21:BB21) -> 3 | AU21: =IF(Principale!$M$32<9,1,IF(Principale!$M$32>15,5,IF(Principale!$M$32>12,4,IF(Principale!$M$32>10,3,2)))) -> 2 | AW21: =IF(AJ21<0.8,1,IF(AJ21>1.2,5,IF(AJ21>1,4,IF(AJ21>0.8,3,2)))) -> 1 | BI21: =IF(SUM(BJ21:CA21)>2,2,SUM(BJ21:CA21)) -> 0 | BJ21: =IF(Q12<136,0,IF(LOOKUP(Q12,$CD$11:$CD$31,$CC$11:$CC$31)>5,2,IF(LOOKUP(Q12,$CD$11:$CD$31,$CC$11:$CC$31)>2,1,0))) -> 0 | BK21: =IF(Q19<136,0,IF(LOOKUP(Q19,$CD$11:$CD$31,$CC$11:$CC$31)>5,2,IF(LOOKUP(Q19,$CD$11:$CD$31,$CC$11:$CC$31)>2,1,0))) -> 0 | BL21: =IF(Q20<136,0,IF(LOOKUP(Q20,$CD$11:$CD$31,$CC$11:$CC$31)>5,2,IF(LOOKUP(Q20,$CD$11:$CD$31,$CC$11:$CC$31)>2,1,0))) -> 0 | CC21: 11 | CD21: 12448 | CE21: 7780 | CF21: 48000
CC22: 12 | CD22: 15392 | CE22: 9620 | CF22: 57000
B23: ARMI DA LANCIO (Agi, Man) | L23: =IF(Principale!$E$98=Abilità!B23,2,IF(Principale!$Q$98=Abilità!B23,2,IF(Principale!$AC$98=Abilità!B23,1,IF(Principale!$AO$98=Abilità!B23,1,0)))) -> 0 | N23: Bonus GA Innato | CC23: 13 | CD23: 20160 | CE23: 12600 | CF23: 67000
B24: Bolas (L0) | L24: =IF(Q24<136,0+SUM(U24:AB24)+$L$23,LOOKUP(Q24,$CD$11:$CD$31,$CC$11:$CC$31)+SUM(U24:AB24)+$L$23) -> 0 | Q24: =IF(AD24="",0,N24*AD24) -> 0 | W24: =IF(Principale!$M$34<6,-2,IF(Principale!$M$34<10,-1,IF(Principale!$M$34>15,2,IF(Principale!$M$34>11,1,0)))) -> 0 | AA24: =Principale!$BP$32+Principale!$BR$46 -> 0 | AD24: =IF(AF24=0,0,AF24*AH24*AJ24*AL24*AN24*AP24) -> 0 | AN24: =Principale!$BI$34 -> 1 | AP24: =IF(Principale!$BI$38<1,Principale!$BI$38+0.1,IF(Principale!$BI$38>1,Principale!$BI$38-0.1,Principale!$BI$38)) -> 1 | AS24: =SUM(AU24:BB24) -> 3 | AU24: =IF(Principale!$M$34<9,1,IF(Principale!$M$34>15,5,IF(Principale!$M$34>12,4,IF(Principale!$M$34>10,3,2)))) -> 2 | AW24: =IF(AJ24<0.8,1,IF(AJ24>1.2,5,IF(AJ24>1,4,IF(AJ24>0.8,3,2)))) -> 1 | CC24: 14 | CD24: 24160 | CE24: 15100 | CF24: 78000
B25: Boomerang | L25: =IF(Q25<136,0+SUM(U25:AB25)+$L$23,LOOKUP(Q25,$CD$11:$CD$31,$CC$11:$CC$31)+SUM(U25:AB25)+$L$23) -> 0 | Q25: =IF(AD25="",0,N25*AD25) -> 0 | W25: =IF(Principale!$M$34<6,-2,IF(Principale!$M$34<10,-1,IF(Principale!$M$34>15,2,IF(Principale!$M$34>11,1,0)))) -> 0 | AA25: =Principale!$BP$32+Principale!$BR$46 -> 0 | AD25: =IF(AF25=0,0,AF25*AH25*AJ25*AL25*AN25*AP25) -> 0 | AN25: =Principale!$BI$34 -> 1 | AP25: =IF(Principale!$BI$38<1,Principale!$BI$38+0.1,IF(Principale!$BI$38>1,Principale!$BI$38-0.1,Principale!$BI$38)) -> 1 | AS25: =SUM(AU25:BB25) -> 3 | AU25: =IF(Principale!$M$34<9,1,IF(Principale!$M$34>15,5,IF(Principale!$M$34>12,4,IF(Principale!$M$34>10,3,2)))) -> 2 | AW25: =IF(AJ25<0.8,1,IF(AJ25>1.2,5,IF(AJ25>1,4,IF(AJ25>0.8,3,2)))) -> 1 | CC25: 15 | CD25: 28800 | CE25: 18000 | CF25: 90000
B26: Dardi (L0) | L26: =IF(Q26<136,0+SUM(U26:AB26)+$L$23,LOOKUP(Q26,$CD$11:$CD$31,$CC$11:$CC$31)+SUM(U26:AB26)+$L$23) -> 0 | Q26: =IF(AD26="",0,N26*AD26) -> 0 | W26: =IF(Principale!$M$34<6,-2,IF(Principale!$M$34<10,-1,IF(Principale!$M$34>15,2,IF(Principale!$M$34>11,1,0)))) -> 0 | AA26: =Principale!$BP$32+Principale!$BR$46 -> 0 | AD26: =IF(AF26=0,0,AF26*AH26*AJ26*AL26*AN26*AP26) -> 0 | AN26: =Principale!$BI$34 -> 1 | AP26: =IF(Principale!$BI$38<1,Principale!$BI$38+0.1,IF(Principale!$BI$38>1,Principale!$BI$38-0.1,Principale!$BI$38)) -> 1 | AS26: =SUM(AU26:BB26) -> 3 | AU26: =IF(Principale!$M$34<9,1,IF(Principale!$M$34>15,5,IF(Principale!$M$34>12,4,IF(Principale!$M$34>10,3,2)))) -> 2 | AW26: =IF(AJ26<0.8,1,IF(AJ26>1.2,5,IF(AJ26>1,4,IF(AJ26>0.8,3,2)))) -> 1 | CC26: 16 | CD26: 33968 | CE26: 21230 | CF26: 103000
B27: Generico (L0) | L27: =IF(Q27<136,0+SUM(U27:AB27)+$L$23,LOOKUP(Q27,$CD$11:$CD$31,$CC$11:$CC$31)+SUM(U27:AB27)+$L$23) -> 0 | Q27: =IF(AD27="",0,N27*AD27) -> 0 | W27: =IF(Principale!$M$34<6,-2,IF(Principale!$M$34<10,-1,IF(Principale!$M$34>15,2,IF(Principale!$M$34>11,1,0)))) -> 0 | AA27: =Principale!$BP$32+Principale!$BR$46 -> 0 | AD27: =IF(AF27=0,0,AF27*AH27*AJ27*AL27*AN27*AP27) -> 0 | AN27: =Principale!$BI$34 -> 1 | AP27: =IF(Principale!$BI$38<1,Principale!$BI$38+0.1,IF(Principale!$BI$38>1,Principale!$BI$38-0.1,Principale!$BI$38)) -> 1 | AS27: =SUM(AU27:BB27) -> 3 | AU27: =IF(Principale!$M$34<9,1,IF(Principale!$M$34>15,5,IF(Principale!$M$34>12,4,IF(Principale!$M$34>10,3,2)))) -> 2 | AW27: =IF(AJ27<0.8,1,IF(AJ27>1.2,5,IF(AJ27>1,4,IF(AJ27>0.8,3,2)))) -> 1 | CC27: 17 | CD27: 42400 | CE27: 26500 | CF27: 117000
B28: Giavellotto (L0) | L28: =IF(Q28<136,0+SUM(U28:AB28)+$L$23,LOOKUP(Q28,$CD$11:$CD$31,$CC$11:$CC$31)+SUM(U28:AB28)+$L$23) -> 0 | Q28: =IF(AD28="",0,N28*AD28) -> 0 | W28: =IF(Principale!$M$34<6,-2,IF(Principale!$M$34<10,-1,IF(Principale!$M$34>15,2,IF(Principale!$M$34>11,1,0)))) -> 0 | Y28: =BI28 -> 0 | AA28: =Principale!$BP$32+Principale!$BR$46 -> 0 | AD28: =IF(AF28=0,0,AF28*AH28*AJ28*AL28*AN28*AP28) -> 0 | AN28: =Principale!$BI$34 -> 1 | AP28: =IF(Principale!$BI$38<1,Principale!$BI$38+0.1,IF(Principale!$BI$38>1,Principale!$BI$38-0.1,Principale!$BI$38)) -> 1 | AS28: =SUM(AU28:BB28) -> 3 | AU28: =IF(Principale!$M$34<9,1,IF(Principale!$M$34>15,5,IF(Principale!$M$34>12,4,IF(Principale!$M$34>10,3,2)))) -> 2 | AW28: =IF(AJ28<0.8,1,IF(AJ28>1.2,5,IF(AJ28>1,4,IF(AJ28>0.8,3,2)))) -> 1 | BI28: =IF(SUM(BJ28:CA28)>2,2,SUM(BJ28:CA28)) -> 0 | BJ28: =IF(Q14<136,0,IF(LOOKUP(Q14,$CD$11:$CD$31,$CC$11:$CC$31)>5,2,IF(LOOKUP(Q14,$CD$11:$CD$31,$CC$11:$CC$31)>2,1,0))) -> 0 | CC28: 18 | CD28: 50320 | CE28: 31450 | CF28: 132000
B29: Shuriken (Add.) | L29: =IF(Q29<136,0+SUM(U29:AB29)+$L$23,LOOKUP(Q29,$CD$11:$CD$31,$CC$11:$CC$31)+SUM(U29:AB29)+$L$23) -> 0 | Q29: =IF(AD29="",0,N29*AD29) -> 0 | W29: =IF(Principale!$M$34<6,-2,IF(Principale!$M$34<10,-1,IF(Principale!$M$34>15,2,IF(Principale!$M$34>11,1,0)))) -> 0 | AA29: =Principale!$BP$32+Principale!$BR$46 -> 0 | AD29: =IF(AF29=0,0,AF29*AH29*AJ29*AL29*AN29*AP29) -> 0 | AN29: =Principale!$BI$34 -> 1 | AP29: =IF(Principale!$BI$38<1,Principale!$BI$38+0.1,IF(Principale!$BI$38>1,Principale!$BI$38-0.1,Principale!$BI$38)) -> 1 | AS29: =SUM(AU29:BB29) -> 3 | AU29: =IF(Principale!$M$34<9,1,IF(Principale!$M$34>15,5,IF(Principale!$M$34>12,4,IF(Principale!$M$34>10,3,2)))) -> 2 | AW29: =IF(AJ29<0.8,1,IF(AJ29>1.2,5,IF(AJ29>1,4,IF(AJ29>0.8,3,2)))) -> 1 | CC29: 19 | CD29: 60000 | CE29: 37500 | CF29: 148000
CC30: 20 | CD30: 71200 | CE30: 44500 | CF30: 165000
B31: ARMI DA TIRO (For, Agi) | L31: =IF(Principale!$E$98=Abilità!B31,2,IF(Principale!$Q$98=Abilità!B31,2,IF(Principale!$AC$98=Abilità!B31,1,IF(Principale!$AO$98=Abilità!B31,1,0)))) -> 0 | N31: Bonus GA Innato
B32: Archi | L32: =IF(Q32<136,0+SUM(U32:AB32)+$L$31,LOOKUP(Q32,$CD$11:$CD$31,$CC$11:$CC$31)+SUM(U32:AB32)+$L$31) -> 0 | Q32: =IF(AD32="",0,N32*AD32) -> 0 | W32: =IF(Principale!$M$32<6,-2,IF(Principale!$M$32<10,-1,IF(Principale!$M$32>15,2,IF(Principale!$M$32>11,1,0)))) -> 0 | AA32: =Principale!$BP$32+Principale!$BR$46 -> 0 | AD32: =IF(AF32=0,0,AF32*AH32*AJ32*AL32*AN32*AP32) -> 0 | AN32: =Principale!$BI$32 -> 1 | AP32: =IF(Principale!$BI$34<1,Principale!$BI$34+0.1,IF(Principale!$BI$34>1,Principale!$BI$34-0.1,Principale!$BI$34)) -> 1 | AS32: =SUM(AU32:BB32) -> 3 | AU32: =IF(Principale!$M$32<9,1,IF(Principale!$M$32>15,5,IF(Principale!$M$32>12,4,IF(Principale!$M$32>10,3,2)))) -> 2 | AW32: =IF(AJ32<0.8,1,IF(AJ32>1.2,5,IF(AJ32>1,4,IF(AJ32>0.8,3,2)))) -> 1
B33: Balestre (Man, Rif) (L0) | L33: =IF(Q33<136,0+SUM(U33:AB33)+$L$31,LOOKUP(Q33,$CD$11:$CD$31,$CC$11:$CC$31)+SUM(U33:AB33)+$L$31) -> 0 | Q33: =IF(AD33="",0,N33*AD33) -> 0 | W33: =IF(Principale!$M$38<6,-2,IF(Principale!$M$38<10,-1,IF(Principale!$M$38>15,2,IF(Principale!$M$38>11,1,0)))) -> 0 | AA33: =Principale!$BP$32+Principale!$BR$46 -> 0 | AD33: =IF(AF33=0,0,AF33*AH33*AJ33*AL33*AN33*AP33) -> 0 | AN33: =Principale!$BI$38 -> 1 | AP33: =IF(Principale!$BI$36<1,Principale!$BI$36+0.1,IF(Principale!$BI$36>1,Principale!$BI$36-0.1,Principale!$BI$36)) -> 1 | AS33: =SUM(AU33:BB33) -> 3 | AU33: =IF(Principale!$M$32<9,1,IF(Principale!$M$32>15,5,IF(Principale!$M$32>12,4,IF(Principale!$M$32>10,3,2)))) -> 2 | AW33: =IF(AJ33<0.8,1,IF(AJ33>1.2,5,IF(AJ33>1,4,IF(AJ33>0.8,3,2)))) -> 1
B34: Cerbottana (L0) | L34: =IF(Q34<136,0+SUM(U34:AB34)+$L$31,LOOKUP(Q34,$CD$11:$CD$31,$CC$11:$CC$31)+SUM(U34:AB34)+$L$31) -> 0 | Q34: =IF(AD34="",0,N34*AD34) -> 0 | W34: =IF(Principale!$M$32<6,-2,IF(Principale!$M$32<10,-1,IF(Principale!$M$32>15,2,IF(Principale!$M$32>11,1,0)))) -> 0 | AA34: =Principale!$BP$32+Principale!$BR$46 -> 0 | AD34: =IF(AF34=0,0,AF34*AH34*AJ34*AL34*AN34*AP34) -> 0 | AN34: =Principale!$BI$32 -> 1 | AP34: =IF(Principale!$BI$34<1,Principale!$BI$34+0.1,IF(Principale!$BI$34>1,Principale!$BI$34-0.1,Principale!$BI$34)) -> 1 | AS34: =SUM(AU34:BB34) -> 3 | AU34: =IF(Principale!$M$32<9,1,IF(Principale!$M$32>15,5,IF(Principale!$M$32>12,4,IF(Principale!$M$32>10,3,2)))) -> 2 | AW34: =IF(AJ34<0.8,1,IF(AJ34>1.2,5,IF(AJ34>1,4,IF(AJ34>0.8,3,2)))) -> 1
B35: Fionda (L0) | L35: =IF(Q35<136,0+SUM(U35:AB35)+$L$31,LOOKUP(Q35,$CD$11:$CD$31,$CC$11:$CC$31)+SUM(U35:AB35)+$L$31) -> 0 | Q35: =IF(AD35="",0,N35*AD35) -> 0 | W35: =IF(Principale!$M$32<6,-2,IF(Principale!$M$32<10,-1,IF(Principale!$M$32>15,2,IF(Principale!$M$32>11,1,0)))) -> 0 | AA35: =Principale!$BP$32+Principale!$BR$46 -> 0 | AD35: =IF(AF35=0,0,AF35*AH35*AJ35*AL35*AN35*AP35) -> 0 | AN35: =Principale!$BI$32 -> 1 | AP35: =IF(Principale!$BI$34<1,Principale!$BI$34+0.1,IF(Principale!$BI$34>1,Principale!$BI$34-0.1,Principale!$BI$34)) -> 1 | AS35: =SUM(AU35:BB35) -> 3 | AU35: =IF(Principale!$M$32<9,1,IF(Principale!$M$32>15,5,IF(Principale!$M$32>12,4,IF(Principale!$M$32>10,3,2)))) -> 2 | AW35: =IF(AJ35<0.8,1,IF(AJ35>1.2,5,IF(AJ35>1,4,IF(AJ35>0.8,3,2)))) -> 1
B37: ARMI ESOTICHE (Man, For) | L37: =IF(Principale!$E$98=Abilità!B37,2,IF(Principale!$Q$98=Abilità!B37,2,IF(Principale!$AC$98=Abilità!B37,1,IF(Principale!$AO$98=Abilità!B37,1,0)))) -> 0 | N37: Bonus GA Innato
B38: Catena chiodata (L0) | L38: =IF(Q38<136,0+SUM(U38:AB38)+$L$37,LOOKUP(Q38,$CD$11:$CD$31,$CC$11:$CC$31)+SUM(U38:AB38)+$L$37) -> 0 | Q38: =IF(AD38="",0,N38*AD38) -> 0 | W38: =IF(Principale!$M$38<6,-2,IF(Principale!$M$38<10,-1,IF(Principale!$M$38>15,2,IF(Principale!$M$38>11,1,0)))) -> 0 | Y38: =BI38 -> 0 | AA38: =Principale!$BP$32+Principale!$BR$46 -> 0 | AD38: =IF(AF38=0,0,AF38*AH38*AJ38*AL38*AN38*AP38) -> 0 | AN38: =Principale!$BI$38 -> 1 | AP38: =IF(Principale!$BI$32<1,Principale!$BI$32+0.1,IF(Principale!$BI$32>1,Principale!$BI$32-0.1,Principale!$BI$32)) -> 1 | AS38: =SUM(AU38:BB38) -> 3 | AU38: =IF(Principale!$M$38<9,1,IF(Principale!$M$38>15,5,IF(Principale!$M$38>12,4,IF(Principale!$M$38>10,3,2)))) -> 2 | AW38: =IF(AJ38<0.8,1,IF(AJ38>1.2,5,IF(AJ38>1,4,IF(AJ38>0.8,3,2)))) -> 1 | BI38: =IF(SUM(BJ38:CA38)>2,2,SUM(BJ38:CA38)) -> 0 | BJ38: =IF(Q39<136,0,IF(LOOKUP(Q39,$CD$11:$CD$31,$CC$11:$CC$31)>5,2,IF(LOOKUP(Q39,$CD$11:$CD$31,$CC$11:$CC$31)>2,1,0))) -> 0
B39: Frusta (Add.) | L39: =IF(Q39<136,0+SUM(U39:AB39)+$L$37,LOOKUP(Q39,$CD$11:$CD$31,$CC$11:$CC$31)+SUM(U39:AB39)+$L$37) -> 0 | Q39: =IF(AD39="",0,N39*AD39) -> 0 | W39: =IF(Principale!$M$38<6,-2,IF(Principale!$M$38<10,-1,IF(Principale!$M$38>15,2,IF(Principale!$M$38>11,1,0)))) -> 0 | Y39: =BI39 -> 0 | AA39: =Principale!$BP$32+Principale!$BR$46 -> 0 | AD39: =IF(AF39=0,0,AF39*AH39*AJ39*AL39*AN39*AP39) -> 0 | AN39: =Principale!$BI$38 -> 1 | AP39: =IF(Principale!$BI$32<1,Principale!$BI$32+0.1,IF(Principale!$BI$32>1,Principale!$BI$32-0.1,Principale!$BI$32)) -> 1 | AS39: =SUM(AU39:BB39) -> 3 | AU39: =IF(Principale!$M$38<9,1,IF(Principale!$M$38>15,5,IF(Principale!$M$38>12,4,IF(Principale!$M$38>10,3,2)))) -> 2 | AW39: =IF(AJ39<0.8,1,IF(AJ39>1.2,5,IF(AJ39>1,4,IF(AJ39>0.8,3,2)))) -> 1 | BI39: =IF(SUM(BJ39:CA39)>2,2,SUM(BJ39:CA39)) -> 0 | BJ39: =IF(Q38<136,0,IF(LOOKUP(Q38,$CD$11:$CD$31,$CC$11:$CC$31)>5,2,IF(LOOKUP(Q38,$CD$11:$CD$31,$CC$11:$CC$31)>2,1,0))) -> 0
B40: Mano artigliata (L0) | L40: =IF(Q40<136,0+SUM(U40:AB40)+$L$37,LOOKUP(Q40,$CD$11:$CD$31,$CC$11:$CC$31)+SUM(U40:AB40)+$L$37) -> 0 | Q40: =IF(AD40="",0,N40*AD40) -> 0 | W40: =IF(Principale!$M$38<6,-2,IF(Principale!$M$38<10,-1,IF(Principale!$M$38>15,2,IF(Principale!$M$38>11,1,0)))) -> 0 | Y40: =BI40 -> 0 | AA40: =Principale!$BP$32+Principale!$BR$46 -> 0 | AD40: =IF(AF40=0,0,AF40*AH40*AJ40*AL40*AN40*AP40) -> 0 | AN40: =Principale!$BI$38 -> 1 | AP40: =IF(Principale!$BI$32<1,Principale!$BI$32+0.1,IF(Principale!$BI$32>1,Principale!$BI$32-0.1,Principale!$BI$32)) -> 1 | AS40: =SUM(AU40:BB40) -> 3 | AU40: =IF(Principale!$M$38<9,1,IF(Principale!$M$38>15,5,IF(Principale!$M$38>12,4,IF(Principale!$M$38>10,3,2)))) -> 2 | AW40: =IF(AJ40<0.8,1,IF(AJ40>1.2,5,IF(AJ40>1,4,IF(AJ40>0.8,3,2)))) -> 1 | BI40: =IF(SUM(BJ40:CA40)>2,2,SUM(BJ40:CA40)) -> 0 | BJ40: =IF(Q83<136,0,IF(LOOKUP(Q83,$CD$11:$CD$31,$CC$11:$CC$31)>5,2,IF(LOOKUP(Q83,$CD$11:$CD$31,$CC$11:$CC$31)>2,1,0))) -> 0
B41: Mazzafrusto (L0) | L41: =IF(Q41<136,0+SUM(U41:AB41)+$L$37,LOOKUP(Q41,$CD$11:$CD$31,$CC$11:$CC$31)+SUM(U41:AB41)+$L$37) -> 0 | Q41: =IF(AD41="",0,N41*AD41) -> 0 | W41: =IF(Principale!$M$38<6,-2,IF(Principale!$M$38<10,-1,IF(Principale!$M$38>15,2,IF(Principale!$M$38>11,1,0)))) -> 0 | Y41: =BI41 -> 0 | AA41: =Principale!$BP$32+Principale!$BR$46 -> 0 | AD41: =IF(AF41=0,0,AF41*AH41*AJ41*AL41*AN41*AP41) -> 0 | AN41: =Principale!$BI$38 -> 1 | AP41: =IF(Principale!$BI$32<1,Principale!$BI$32+0.1,IF(Principale!$BI$32>1,Principale!$BI$32-0.1,Principale!$BI$32)) -> 1 | AS41: =SUM(AU41:BB41) -> 3 | AU41: =IF(Principale!$M$38<9,1,IF(Principale!$M$38>15,5,IF(Principale!$M$38>12,4,IF(Principale!$M$38>10,3,2)))) -> 2 | AW41: =IF(AJ41<0.8,1,IF(AJ41>1.2,5,IF(AJ41>1,4,IF(AJ41>0.8,3,2)))) -> 1 | BI41: =IF(SUM(BJ41:CA41)>2,2,SUM(BJ41:CA41)) -> 0 | BJ41: =IF(Q38<136,0,IF(LOOKUP(Q38,$CD$11:$CD$31,$CC$11:$CC$31)>5,2,IF(LOOKUP(Q38,$CD$11:$CD$31,$CC$11:$CC$31)>2,1,0))) -> 0 | BK41: =IF(Q39<136,0,IF(LOOKUP(Q39,$CD$11:$CD$31,$CC$11:$CC$31)>5,2,IF(LOOKUP(Q39,$CD$11:$CD$31,$CC$11:$CC$31)>2,1,0))) -> 0
B42: Rete (L0) | L42: =IF(Q42<136,0+SUM(U42:AB42)+$L$37,LOOKUP(Q42,$CD$11:$CD$31,$CC$11:$CC$31)+SUM(U42:AB42)+$L$37) -> 0 | Q42: =IF(AD42="",0,N42*AD42) -> 0 | W42: =IF(Principale!$M$38<6,-2,IF(Principale!$M$38<10,-1,IF(Principale!$M$38>15,2,IF(Principale!$M$38>11,1,0)))) -> 0 | AA42: =Principale!$BP$32+Principale!$BR$46 -> 0 | AD42: =IF(AF42=0,0,AF42*AH42*AJ42*AL42*AN42*AP42) -> 0 | AN42: =Principale!$BI$38 -> 1 | AP42: =IF(Principale!$BI$32<1,Principale!$BI$32+0.1,IF(Principale!$BI$32>1,Principale!$BI$32-0.1,Principale!$BI$32)) -> 1 | AS42: =SUM(AU42:BB42) -> 3 | AU42: =IF(Principale!$M$38<9,1,IF(Principale!$M$38>15,5,IF(Principale!$M$38>12,4,IF(Principale!$M$38>10,3,2)))) -> 2 | AW42: =IF(AJ42<0.8,1,IF(AJ42>1.2,5,IF(AJ42>1,4,IF(AJ42>0.8,3,2)))) -> 1
B43: Scudo chiodato (For, Man) (L0) | L43: =IF(Q43<136,0+SUM(U43:AB43)+$L$37,LOOKUP(Q43,$CD$11:$CD$31,$CC$11:$CC$31)+SUM(U43:AB43)+$L$37) -> 0 | Q43: =IF(AD43="",0,N43*AD43) -> 0 | W43: =IF(Principale!$M$38<6,-2,IF(Principale!$M$38<10,-1,IF(Principale!$M$38>15,2,IF(Principale!$M$38>11,1,0)))) -> 0 | AA43: =Principale!$BP$32+Principale!$BR$46 -> 0 | AD43: =IF(AF43=0,0,AF43*AH43*AJ43*AL43*AN43*AP43) -> 0 | AN43: =Principale!$BI$32 -> 1 | AP43: =IF(Principale!$BI$38<1,Principale!$BI$38+0.1,IF(Principale!$BI$38>1,Principale!$BI$38-0.1,Principale!$BI$38)) -> 1 | AS43: =SUM(AU43:BB43) -> 3 | AU43: =IF(Principale!$M$38<9,1,IF(Principale!$M$38>15,5,IF(Principale!$M$38>12,4,IF(Principale!$M$38>10,3,2)))) -> 2 | AW43: =IF(AJ43<0.8,1,IF(AJ43>1.2,5,IF(AJ43>1,4,IF(AJ43>0.8,3,2)))) -> 1
B45: ARMI TAGLIENTI (For, Man) | L45: =IF(Principale!$E$98=Abilità!B45,2,IF(Principale!$Q$98=Abilità!B45,2,IF(Principale!$AC$98=Abilità!B45,1,IF(Principale!$AO$98=Abilità!B45,1,0)))) -> 0 | N45: Bonus GA Innato
B46: Perforanti (Agi, Rif) (L0) | L46: =IF(Q46<136,0+SUM(U46:AB46)+$L$45,LOOKUP(Q46,$CD$11:$CD$31,$CC$11:$CC$31)+SUM(U46:AB46)+$L$45) -> 0 | Q46: =IF(AD46="",0,N46*AD46) -> 0 | W46: =IF(Principale!$M$34<6,-2,IF(Principale!$M$34<10,-1,IF(Principale!$M$34>15,2,IF(Principale!$M$34>11,1,0)))) -> 0 | Y46: =BI46 -> 0 | AA46: =Principale!$BP$32+Principale!$BR$46 -> 0 | AD46: =IF(AF46=0,0,AF46*AH46*AJ46*AL46*AN46*AP46) -> 0 | AN46: =Principale!$BI$34 -> 1 | AP46: =IF(Principale!$BI$36<1,Principale!$BI$36+0.1,IF(Principale!$BI$36>1,Principale!$BI$36-0.1,Principale!$BI$36)) -> 1 | AS46: =SUM(AU46:BB46) -> 3 | AU46: =IF(Principale!$M$34<9,1,IF(Principale!$M$34>15,5,IF(Principale!$M$34>12,4,IF(Principale!$M$34>10,3,2)))) -> 2 | AW46: =IF(AJ46<0.8,1,IF(AJ46>1.2,5,IF(AJ46>1,4,IF(AJ46>0.8,3,2)))) -> 1 | BI46: =IF(SUM(BJ46:CA46)>2,2,SUM(BJ46:CA46)) -> 0 | BJ46: =IF(Q47<136,0,IF(LOOKUP(Q47,$CD$11:$CD$31,$CC$11:$CC$31)>5,2,IF(LOOKUP(Q47,$CD$11:$CD$31,$CC$11:$CC$31)>2,1,0))) -> 0
B47: Pugnali (L0) | L47: =IF(Q47<136,0+SUM(U47:AB47)+$L$45,LOOKUP(Q47,$CD$11:$CD$31,$CC$11:$CC$31)+SUM(U47:AB47)+$L$45) -> 0 | Q47: =IF(AD47="",0,N47*AD47) -> 0 | W47: =IF(Principale!$M$32<6,-2,IF(Principale!$M$32<10,-1,IF(Principale!$M$32>15,2,IF(Principale!$M$32>11,1,0)))) -> 0 | Y47: =BI47 -> 0 | AA47: =Principale!$BP$32+Principale!$BR$46 -> 0 | AD47: =IF(AF47=0,0,AF47*AH47*AJ47*AL47*AN47*AP47) -> 0 | AN47: =Principale!$BI$32 -> 1 | AP47: =IF(Principale!$BI$38<1,Principale!$BI$38+0.1,IF(Principale!$BI$38>1,Principale!$BI$38-0.1,Principale!$BI$38)) -> 1 | AS47: =SUM(AU47:BB47) -> 3 | AU47: =IF(Principale!$M$32<9,1,IF(Principale!$M$32>15,5,IF(Principale!$M$32>12,4,IF(Principale!$M$32>10,3,2)))) -> 2 | AW47: =IF(AJ47<0.8,1,IF(AJ47>1.2,5,IF(AJ47>1,4,IF(AJ47>0.8,3,2)))) -> 1 | BI47: =IF(SUM(BJ47:CA47)>2,2,SUM(BJ47:CA47)) -> 0 | BJ47: =IF(Q46<136,0,IF(LOOKUP(Q46,$CD$11:$CD$31,$CC$11:$CC$31)>5,2,IF(LOOKUP(Q46,$CD$11:$CD$31,$CC$11:$CC$31)>2,1,0))) -> 0
B48: Spade (L0) | L48: =IF(Q48<136,0+SUM(U48:AB48)+$L$45,LOOKUP(Q48,$CD$11:$CD$31,$CC$11:$CC$31)+SUM(U48:AB48)+$L$45) -> 0 | Q48: =IF(AD48="",0,N48*AD48) -> 0 | W48: =IF(Principale!$M$32<6,-2,IF(Principale!$M$32<10,-1,IF(Principale!$M$32>15,2,IF(Principale!$M$32>11,1,0)))) -> 0 | Y48: =BI48 -> 0 | AA48: =Principale!$BP$32+Principale!$BR$46 -> 0 | AD48: =IF(AF48=0,0,AF48*AH48*AJ48*AL48*AN48*AP48) -> 0 | AN48: =Principale!$BI$32 -> 1 | AP48: =IF(Principale!$BI$38<1,Principale!$BI$38+0.1,IF(Principale!$BI$38>1,Principale!$BI$38-0.1,Principale!$BI$38)) -> 1 | AS48: =SUM(AU48:BB48) -> 3 | AU48: =IF(Principale!$M$32<9,1,IF(Principale!$M$32>15,5,IF(Principale!$M$32>12,4,IF(Principale!$M$32>10,3,2)))) -> 2 | AW48: =IF(AJ48<0.8,1,IF(AJ48>1.2,5,IF(AJ48>1,4,IF(AJ48>0.8,3,2)))) -> 1 | BI48: =IF(SUM(BJ48:CA48)>2,2,SUM(BJ48:CA48)) -> 0 | BJ48: =IF(Q49<136,0,IF(LOOKUP(Q49,$CD$11:$CD$31,$CC$11:$CC$31)>5,2,IF(LOOKUP(Q49,$CD$11:$CD$31,$CC$11:$CC$31)>2,1,0))) -> 0
B49: Spadoni (L0) | L49: =IF(Q49<136,0+SUM(U49:AB49)+$L$45,LOOKUP(Q49,$CD$11:$CD$31,$CC$11:$CC$31)+SUM(U49:AB49)+$L$45) -> 0 | Q49: =IF(AD49="",0,N49*AD49) -> 0 | W49: =IF(Principale!$M$32<6,-2,IF(Principale!$M$32<10,-1,IF(Principale!$M$32>15,2,IF(Principale!$M$32>11,1,0)))) -> 0 | Y49: =BI49 -> 0 | AA49: =Principale!$BP$32+Principale!$BR$46 -> 0 | AD49: =IF(AF49=0,0,AF49*AH49*AJ49*AL49*AN49*AP49) -> 0 | AN49: =Principale!$BI$32 -> 1 | AP49: =IF(Principale!$BI$38<1,Principale!$BI$38+0.1,IF(Principale!$BI$38>1,Principale!$BI$38-0.1,Principale!$BI$38)) -> 1 | AS49: =SUM(AU49:BB49) -> 3 | AU49: =IF(Principale!$M$32<9,1,IF(Principale!$M$32>15,5,IF(Principale!$M$32>12,4,IF(Principale!$M$32>10,3,2)))) -> 2 | AW49: =IF(AJ49<0.8,1,IF(AJ49>1.2,5,IF(AJ49>1,4,IF(AJ49>0.8,3,2)))) -> 1 | BI49: =IF(SUM(BJ49:CA49)>2,2,SUM(BJ49:CA49)) -> 0 | BJ49: =IF(Q48<136,0,IF(LOOKUP(Q48,$CD$11:$CD$31,$CC$11:$CC$31)>5,2,IF(LOOKUP(Q48,$CD$11:$CD$31,$CC$11:$CC$31)>2,1,0))) -> 0
B51: ASCE (For, Man) | L51: =IF(Principale!$E$98=Abilità!B51,2,IF(Principale!$Q$98=Abilità!B51,2,IF(Principale!$AC$98=Abilità!B51,1,IF(Principale!$AO$98=Abilità!B51,1,0)))) -> 0 | N51: Bonus GA Innato
B52: Asce medie (L0) | L52: =IF(Q52<136,0+SUM(U52:AB52)+$L$51,LOOKUP(Q52,$CD$11:$CD$31,$CC$11:$CC$31)+SUM(U52:AB52)+$L$51) -> 0 | Q52: =IF(AD52="",0,N52*AD52) -> 0 | W52: =IF(Principale!$M$32<6,-2,IF(Principale!$M$32<10,-1,IF(Principale!$M$32>15,2,IF(Principale!$M$32>11,1,0)))) -> 0 | Y52: =BI52 -> 0 | AA52: =Principale!$BP$32+Principale!$BR$46 -> 0 | AD52: =IF(AF52=0,0,AF52*AH52*AJ52*AL52*AN52*AP52) -> 0 | AN52: =Principale!$BI$32 -> 1 | AP52: =IF(Principale!$BI$38<1,Principale!$BI$38+0.1,IF(Principale!$BI$38>1,Principale!$BI$38-0.1,Principale!$BI$38)) -> 1 | AS52: =SUM(AU52:BB52) -> 3 | AU52: =IF(Principale!$M$32<9,1,IF(Principale!$M$32>15,5,IF(Principale!$M$32>12,4,IF(Principale!$M$32>10,3,2)))) -> 2 | AW52: =IF(AJ52<0.8,1,IF(AJ52>1.2,5,IF(AJ52>1,4,IF(AJ52>0.8,3,2)))) -> 1 | BI52: =IF(SUM(BJ52:CA52)>2,2,SUM(BJ52:CA52)) -> 0 | BJ52: =IF(Q53<136,0,IF(LOOKUP(Q53,$CD$11:$CD$31,$CC$11:$CC$31)>5,2,IF(LOOKUP(Q53,$CD$11:$CD$31,$CC$11:$CC$31)>2,1,0))) -> 0
B53: Asce grandi (L0) | L53: =IF(Q53<136,0+SUM(U53:AB53)+$L$51,LOOKUP(Q53,$CD$11:$CD$31,$CC$11:$CC$31)+SUM(U53:AB53)+$L$51) -> 0 | Q53: =IF(AD53="",0,N53*AD53) -> 0 | W53: =IF(Principale!$M$32<6,-2,IF(Principale!$M$32<10,-1,IF(Principale!$M$32>15,2,IF(Principale!$M$32>11,1,0)))) -> 0 | Y53: =BI53 -> 0 | AA53: =Principale!$BP$32+Principale!$BR$46 -> 0 | AD53: =IF(AF53=0,0,AF53*AH53*AJ53*AL53*AN53*AP53) -> 0 | AN53: =Principale!$BI$32 -> 1 | AP53: =IF(Principale!$BI$38<1,Principale!$BI$38+0.1,IF(Principale!$BI$38>1,Principale!$BI$38-0.1,Principale!$BI$38)) -> 1 | AS53: =SUM(AU53:BB53) -> 3 | AU53: =IF(Principale!$M$32<9,1,IF(Principale!$M$32>15,5,IF(Principale!$M$32>12,4,IF(Principale!$M$32>10,3,2)))) -> 2 | AW53: =IF(AJ53<0.8,1,IF(AJ53>1.2,5,IF(AJ53>1,4,IF(AJ53>0.8,3,2)))) -> 1 | BI53: =IF(SUM(BJ53:CA53)>2,2,SUM(BJ53:CA53)) -> 0 | BJ53: =IF(Q52<136,0,IF(LOOKUP(Q52,$CD$11:$CD$31,$CC$11:$CC$31)>5,2,IF(LOOKUP(Q52,$CD$11:$CD$31,$CC$11:$CC$31)>2,1,0))) -> 0
B55: ARTIGIANATO (Man, Mem) | L55: =IF(Principale!$E$98=Abilità!B55,2,IF(Principale!$Q$98=Abilità!B55,2,IF(Principale!$AC$98=Abilità!B55,1,IF(Principale!$AO$98=Abilità!B55,1,0)))) -> 0 | N55: Bonus GA Innato
B56: Alchimia (Add.) | L56: =IF(Q56<136,0+SUM(U56:AB56)+$L$55,LOOKUP(Q56,$CD$11:$CD$31,$CC$11:$CC$31)+SUM(U56:AB56)+$L$55) -> 0 | Q56: =IF(AD56="",0,N56*AD56) -> 0 | W56: =IF(Principale!$M$38<6,-2,IF(Principale!$M$38<10,-1,IF(Principale!$M$38>15,2,IF(Principale!$M$38>11,1,0)))) -> 0 | Y56: =BI56 -> 0 | AA56: =Principale!$BP$32 -> 0 | AD56: =IF(AF56=0,0,AF56*AH56*AJ56*AL56*AN56*AP56) -> 0 | AN56: =Principale!$BI$38 -> 1 | AP56: =IF(Principale!$BI$42<1,Principale!$BI$42+0.1,IF(Principale!$BI$42>1,Principale!$BI$42-0.1,Principale!$BI$42)) -> 1 | AS56: =SUM(AU56:BB56) -> 3 | AU56: =IF(Principale!$M$38<9,1,IF(Principale!$M$38>15,5,IF(Principale!$M$38>12,4,IF(Principale!$M$38>10,3,2)))) -> 2 | AW56: =IF(AJ56<0.8,1,IF(AJ56>1.2,5,IF(AJ56>1,4,IF(AJ56>0.8,3,2)))) -> 1 | BI56: =IF(SUM(BJ56:CA56)>2,2,SUM(BJ56:CA56)) -> 0 | BJ56: =IF(Q108<136,0,IF(LOOKUP(Q108,$CD$11:$CD$31,$CC$11:$CC$31)>5,2,IF(LOOKUP(Q108,$CD$11:$CD$31,$CC$11:$CC$31)>2,1,0))) -> 0
B57: Creare trappole (L0, Add.) | L57: =IF(Q57<136,0+SUM(U57:AB57)+$L$55,LOOKUP(Q57,$CD$11:$CD$31,$CC$11:$CC$31)+SUM(U57:AB57)+$L$55) -> 0 | Q57: =IF(AD57="",0,N57*AD57) -> 0 | W57: =IF(Principale!$M$38<6,-2,IF(Principale!$M$38<10,-1,IF(Principale!$M$38>15,2,IF(Principale!$M$38>11,1,0)))) -> 0 | Y57: =BI57 -> 0 | AA57: =Principale!$BP$32 -> 0 | AD57: =IF(AF57=0,0,AF57*AH57*AJ57*AL57*AN57*AP57) -> 0 | AN57: =Principale!$BI$38 -> 1 | AP57: =IF(Principale!$BI$42<1,Principale!$BI$42+0.1,IF(Principale!$BI$42>1,Principale!$BI$42-0.1,Principale!$BI$42)) -> 1 | AS57: =SUM(AU57:BB57) -> 3 | AU57: =IF(Principale!$M$38<9,1,IF(Principale!$M$38>15,5,IF(Principale!$M$38>12,4,IF(Principale!$M$38>10,3,2)))) -> 2 | AW57: =IF(AJ57<0.8,1,IF(AJ57>1.2,5,IF(AJ57>1,4,IF(AJ57>0.8,3,2)))) -> 1 | BI57: =IF(SUM(BJ57:CA57)>2,2,SUM(BJ57:CA57)) -> 0 | BJ57: =IF(Q134<136,0,IF(LOOKUP(Q134,$CD$11:$CD$31,$CC$11:$CC$31)>5,2,IF(LOOKUP(Q134,$CD$11:$CD$31,$CC$11:$CC$31)>2,1,0))) -> 0
B58: Creare veleni (Add.) | L58: =IF(Q58<136,0+SUM(U58:AB58)+$L$55,LOOKUP(Q58,$CD$11:$CD$31,$CC$11:$CC$31)+SUM(U58:AB58)+$L$55) -> 0 | Q58: =IF(AD58="",0,N58*AD58) -> 0 | W58: =IF(Principale!$M$38<6,-2,IF(Principale!$M$38<10,-1,IF(Principale!$M$38>15,2,IF(Principale!$M$38>11,1,0)))) -> 0 | Y58: =BI58 -> 0 | AA58: =Principale!$BP$32 -> 0 | AD58: =IF(AF58=0,0,AF58*AH58*AJ58*AL58*AN58*AP58) -> 0 | AN58: =Principale!$BI$38 -> 1 | AP58: =IF(Principale!$BI$42<1,Principale!$BI$42+0.1,IF(Principale!$BI$42>1,Principale!$BI$42-0.1,Principale!$BI$42)) -> 1 | AS58: =SUM(AU58:BB58) -> 3 | AU58: =IF(Principale!$M$38<9,1,IF(Principale!$M$38>15,5,IF(Principale!$M$38>12,4,IF(Principale!$M$38>10,3,2)))) -> 2 | AW58: =IF(AJ58<0.8,1,IF(AJ58>1.2,5,IF(AJ58>1,4,IF(AJ58>0.8,3,2)))) -> 1 | BI58: =IF(SUM(BJ58:CA58)>2,2,SUM(BJ58:CA58)) -> 0 | BJ58: =IF(Q56<136,0,IF(LOOKUP(Q56,$CD$11:$CD$31,$CC$11:$CC$31)>5,2,IF(LOOKUP(Q56,$CD$11:$CD$31,$CC$11:$CC$31)>2,1,0))) -> 0 | BK58: =IF(Q108<136,0,IF(LOOKUP(Q108,$CD$11:$CD$31,$CC$11:$CC$31)>5,2,IF(LOOKUP(Q108,$CD$11:$CD$31,$CC$11:$CC$31)>2,1,0))) -> 0
B59: Forgiare armature (L0, Add.) | L59: =IF(Q59<136,0+SUM(U59:AB59)+$L$55,LOOKUP(Q59,$CD$11:$CD$31,$CC$11:$CC$31)+SUM(U59:AB59)+$L$55) -> 0 | Q59: =IF(AD59="",0,N59*AD59) -> 0 | W59: =IF(Principale!$M$38<6,-2,IF(Principale!$M$38<10,-1,IF(Principale!$M$38>15,2,IF(Principale!$M$38>11,1,0)))) -> 0 | Y59: =BI59 -> 0 | AA59: =Principale!$BP$32 -> 0 | AD59: =IF(AF59=0,0,AF59*AH59*AJ59*AL59*AN59*AP59) -> 0 | AN59: =Principale!$BI$38 -> 1 | AP59: =IF(Principale!$BI$42<1,Principale!$BI$42+0.1,IF(Principale!$BI$42>1,Principale!$BI$42-0.1,Principale!$BI$42)) -> 1 | AS59: =SUM(AU59:BB59) -> 3 | AU59: =IF(Principale!$M$38<9,1,IF(Principale!$M$38>15,5,IF(Principale!$M$38>12,4,IF(Principale!$M$38>10,3,2)))) -> 2 | AW59: =IF(AJ59<0.8,1,IF(AJ59>1.2,5,IF(AJ59>1,4,IF(AJ59>0.8,3,2)))) -> 1 | BI59: =IF(SUM(BJ59:CA59)>2,2,SUM(BJ59:CA59)) -> 0 | BJ59: =IF(Q61<136,0,IF(LOOKUP(Q61,$CD$11:$CD$31,$CC$11:$CC$31)>5,2,IF(LOOKUP(Q61,$CD$11:$CD$31,$CC$11:$CC$31)>2,1,0))) -> 0 | BK59: =IF(Q62<136,0,IF(LOOKUP(Q62,$CD$11:$CD$31,$CC$11:$CC$31)>5,2,IF(LOOKUP(Q62,$CD$11:$CD$31,$CC$11:$CC$31)>2,1,0))) -> 0
B60: Forgiare armi (L0, Add.) | L60: =IF(Q60<136,0+SUM(U60:AB60)+$L$55,LOOKUP(Q60,$CD$11:$CD$31,$CC$11:$CC$31)+SUM(U60:AB60)+$L$55) -> 0 | Q60: =IF(AD60="",0,N60*AD60) -> 0 | W60: =IF(Principale!$M$38<6,-2,IF(Principale!$M$38<10,-1,IF(Principale!$M$38>15,2,IF(Principale!$M$38>11,1,0)))) -> 0 | Y60: =BI60 -> 0 | AA60: =Principale!$BP$32 -> 0 | AD60: =IF(AF60=0,0,AF60*AH60*AJ60*AL60*AN60*AP60) -> 0 | AN60: =Principale!$BI$38 -> 1 | AP60: =IF(Principale!$BI$42<1,Principale!$BI$42+0.1,IF(Principale!$BI$42>1,Principale!$BI$42-0.1,Principale!$BI$42)) -> 1 | AS60: =SUM(AU60:BB60) -> 3 | AU60: =IF(Principale!$M$38<9,1,IF(Principale!$M$38>15,5,IF(Principale!$M$38>12,4,IF(Principale!$M$38>10,3,2)))) -> 2 | AW60: =IF(AJ60<0.8,1,IF(AJ60>1.2,5,IF(AJ60>1,4,IF(AJ60>0.8,3,2)))) -> 1 | BI60: =IF(SUM(BJ60:CA60)>2,2,SUM(BJ60:CA60)) -> 0 | BJ60: =IF(Q61<136,0,IF(LOOKUP(Q61,$CD$11:$CD$31,$CC$11:$CC$31)>5,2,IF(LOOKUP(Q61,$CD$11:$CD$31,$CC$11:$CC$31)>2,1,0))) -> 0
B61: Lavorare i metalli (L0, Add.) | L61: =IF(Q61<136,0+SUM(U61:AB61)+$L$55,LOOKUP(Q61,$CD$11:$CD$31,$CC$11:$CC$31)+SUM(U61:AB61)+$L$55) -> 0 | Q61: =IF(AD61="",0,N61*AD61) -> 0 | W61: =IF(Principale!$M$38<6,-2,IF(Principale!$M$38<10,-1,IF(Principale!$M$38>15,2,IF(Principale!$M$38>11,1,0)))) -> 0 | Y61: =BI61 -> 0 | AA61: =Principale!$BP$32 -> 0 | AD61: =IF(AF61=0,0,AF61*AH61*AJ61*AL61*AN61*AP61) -> 0 | AN61: =Principale!$BI$38 -> 1 | AP61: =IF(Principale!$BI$42<1,Principale!$BI$42+0.1,IF(Principale!$BI$42>1,Principale!$BI$42-0.1,Principale!$BI$42)) -> 1 | AS61: =SUM(AU61:BB61) -> 3 | AU61: =IF(Principale!$M$38<9,1,IF(Principale!$M$38>15,5,IF(Principale!$M$38>12,4,IF(Principale!$M$38>10,3,2)))) -> 2 | AW61: =IF(AJ61<0.8,1,IF(AJ61>1.2,5,IF(AJ61>1,4,IF(AJ61>0.8,3,2)))) -> 1 | BI61: =IF(SUM(BJ61:CA61)>2,2,SUM(BJ61:CA61)) -> 0 | BJ61: =IF(Q104<136,0,IF(LOOKUP(Q104,$CD$11:$CD$31,$CC$11:$CC$31)>5,2,IF(LOOKUP(Q104,$CD$11:$CD$31,$CC$11:$CC$31)>2,1,0))) -> 0
B62: Lavorare i tessuti (L0, Add.) | L62: =IF(Q62<136,0+SUM(U62:AB62)+$L$55,LOOKUP(Q62,$CD$11:$CD$31,$CC$11:$CC$31)+SUM(U62:AB62)+$L$55) -> 0 | Q62: =IF(AD62="",0,N62*AD62) -> 0 | W62: =IF(Principale!$M$38<6,-2,IF(Principale!$M$38<10,-1,IF(Principale!$M$38>15,2,IF(Principale!$M$38>11,1,0)))) -> 0 | AA62: =Principale!$BP$32 -> 0 | AD62: =IF(AF62=0,0,AF62*AH62*AJ62*AL62*AN62*AP62) -> 0 | AN62: =Principale!$BI$38 -> 1 | AP62: =IF(Principale!$BI$42<1,Principale!$BI$42+0.1,IF(Principale!$BI$42>1,Principale!$BI$42-0.1,Principale!$BI$42)) -> 1 | AS62: =SUM(AU62:BB62) -> 3 | AU62: =IF(Principale!$M$38<9,1,IF(Principale!$M$38>15,5,IF(Principale!$M$38>12,4,IF(Principale!$M$38>10,3,2)))) -> 2 | AW62: =IF(AJ62<0.8,1,IF(AJ62>1.2,5,IF(AJ62>1,4,IF(AJ62>0.8,3,2)))) -> 1
B63: Lavorare il legno (L0, Add.) | L63: =IF(Q63<136,0+SUM(U63:AB63)+$L$55,LOOKUP(Q63,$CD$11:$CD$31,$CC$11:$CC$31)+SUM(U63:AB63)+$L$55) -> 0 | Q63: =IF(AD63="",0,N63*AD63) -> 0 | W63: =IF(Principale!$M$38<6,-2,IF(Principale!$M$38<10,-1,IF(Principale!$M$38>15,2,IF(Principale!$M$38>11,1,0)))) -> 0 | AA63: =Principale!$BP$32 -> 0 | AD63: =IF(AF63=0,0,AF63*AH63*AJ63*AL63*AN63*AP63) -> 0 | AN63: =Principale!$BI$38 -> 1 | AP63: =IF(Principale!$BI$42<1,Principale!$BI$42+0.1,IF(Principale!$BI$42>1,Principale!$BI$42-0.1,Principale!$BI$42)) -> 1 | AS63: =SUM(AU63:BB63) -> 3 | AU63: =IF(Principale!$M$38<9,1,IF(Principale!$M$38>15,5,IF(Principale!$M$38>12,4,IF(Principale!$M$38>10,3,2)))) -> 2 | AW63: =IF(AJ63<0.8,1,IF(AJ63>1.2,5,IF(AJ63>1,4,IF(AJ63>0.8,3,2)))) -> 1
B64: Lavorare la pietra (L0, Add.) | L64: =IF(Q64<136,0+SUM(U64:AB64)+$L$55,LOOKUP(Q64,$CD$11:$CD$31,$CC$11:$CC$31)+SUM(U64:AB64)+$L$55) -> 0 | Q64: =IF(AD64="",0,N64*AD64) -> 0 | W64: =IF(Principale!$M$38<6,-2,IF(Principale!$M$38<10,-1,IF(Principale!$M$38>15,2,IF(Principale!$M$38>11,1,0)))) -> 0 | Y64: =BI64 -> 0 | AA64: =Principale!$BP$32 -> 0 | AD64: =IF(AF64=0,0,AF64*AH64*AJ64*AL64*AN64*AP64) -> 0 | AN64: =Principale!$BI$38 -> 1 | AP64: =IF(Principale!$BI$42<1,Principale!$BI$42+0.1,IF(Principale!$BI$42>1,Principale!$BI$42-0.1,Principale!$BI$42)) -> 1 | AS64: =SUM(AU64:BB64) -> 3 | AU64: =IF(Principale!$M$38<9,1,IF(Principale!$M$38>15,5,IF(Principale!$M$38>12,4,IF(Principale!$M$38>10,3,2)))) -> 2 | AW64: =IF(AJ64<0.8,1,IF(AJ64>1.2,5,IF(AJ64>1,4,IF(AJ64>0.8,3,2)))) -> 1 | BI64: =IF(SUM(BJ64:CA64)>2,2,SUM(BJ64:CA64)) -> 0 | BJ64: =IF(Q104<136,0,IF(LOOKUP(Q104,$CD$11:$CD$31,$CC$11:$CC$31)>5,2,IF(LOOKUP(Q104,$CD$11:$CD$31,$CC$11:$CC$31)>2,1,0))) -> 0
B66: ARTIGIANATO RUNICO (Man, Mem) | L66: =IF(Principale!$E$98=Abilità!B66,2,IF(Principale!$Q$98=Abilità!B66,2,IF(Principale!$AC$98=Abilità!B66,1,IF(Principale!$AO$98=Abilità!B66,1,0)))) -> 0 | N66: Bonus GA Innato
B67: Artigianato dell'Alterazione (Add.) | L67: =IF(Q67<136,0+SUM(U67:AB67)+$L$66,LOOKUP(Q67,$CD$11:$CD$31,$CC$11:$CC$31)+SUM(U67:AB67)+$L$66) -> 0 | Q67: =IF(AD67="",0,N67*AD67) -> 0 | W67: =IF(Principale!$M$38<6,-2,IF(Principale!$M$38<10,-1,IF(Principale!$M$38>15,2,IF(Principale!$M$38>11,1,0)))) -> 0 | AA67: =Principale!$BP$32 -> 0 | AD67: =IF(AF67=0,0,AF67*AH67*AJ67*AL67*AN67*AP67) -> 0 | AN67: =Principale!$BI$38 -> 1 | AP67: =IF(Principale!$BI$42<1,Principale!$BI$42+0.1,IF(Principale!$BI$42>1,Principale!$BI$42-0.1,Principale!$BI$42)) -> 1 | AS67: =SUM(AU67:BB67) -> 3 | AU67: =IF(Principale!$M$38<9,1,IF(Principale!$M$38>15,5,IF(Principale!$M$38>12,4,IF(Principale!$M$38>10,3,2)))) -> 2 | AW67: =IF(AJ67<0.8,1,IF(AJ67>1.2,5,IF(AJ67>1,4,IF(AJ67>0.8,3,2)))) -> 1
B68: Artigianato degli Animali (Add.) | L68: =IF(Q68<136,0+SUM(U68:AB68)+$L$66,LOOKUP(Q68,$CD$11:$CD$31,$CC$11:$CC$31)+SUM(U68:AB68)+$L$66) -> 0 | Q68: =IF(AD68="",0,N68*AD68) -> 0 | W68: =IF(Principale!$M$38<6,-2,IF(Principale!$M$38<10,-1,IF(Principale!$M$38>15,2,IF(Principale!$M$38>11,1,0)))) -> 0 | AA68: =Principale!$BP$32 -> 0 | AD68: =IF(AF68=0,0,AF68*AH68*AJ68*AL68*AN68*AP68) -> 0 | AN68: =Principale!$BI$38 -> 1 | AP68: =IF(Principale!$BI$42<1,Principale!$BI$42+0.1,IF(Principale!$BI$42>1,Principale!$BI$42-0.1,Principale!$BI$42)) -> 1 | AS68: =SUM(AU68:BB68) -> 3 | AU68: =IF(Principale!$M$38<9,1,IF(Principale!$M$38>15,5,IF(Principale!$M$38>12,4,IF(Principale!$M$38>10,3,2)))) -> 2 | AW68: =IF(AJ68<0.8,1,IF(AJ68>1.2,5,IF(AJ68>1,4,IF(AJ68>0.8,3,2)))) -> 1
B69: Artigianato della Divinazione (Add.) | L69: =IF(Q69<136,0+SUM(U69:AB69)+$L$66,LOOKUP(Q69,$CD$11:$CD$31,$CC$11:$CC$31)+SUM(U69:AB69)+$L$66) -> 0 | Q69: =IF(AD69="",0,N69*AD69) -> 0 | W69: =IF(Principale!$M$38<6,-2,IF(Principale!$M$38<10,-1,IF(Principale!$M$38>15,2,IF(Principale!$M$38>11,1,0)))) -> 0 | AA69: =Principale!$BP$32 -> 0 | AD69: =IF(AF69=0,0,AF69*AH69*AJ69*AL69*AN69*AP69) -> 0 | AN69: =Principale!$BI$38 -> 1 | AP69: =IF(Principale!$BI$42<1,Principale!$BI$42+0.1,IF(Principale!$BI$42>1,Principale!$BI$42-0.1,Principale!$BI$42)) -> 1 | AS69: =SUM(AU69:BB69) -> 3 | AU69: =IF(Principale!$M$38<9,1,IF(Principale!$M$38>15,5,IF(Principale!$M$38>12,4,IF(Principale!$M$38>10,3,2)))) -> 2 | AW69: =IF(AJ69<0.8,1,IF(AJ69>1.2,5,IF(AJ69>1,4,IF(AJ69>0.8,3,2)))) -> 1
B70: Artigianato degli Elementi (Add.) | L70: =IF(Q70<136,0+SUM(U70:AB70)+$L$66,LOOKUP(Q70,$CD$11:$CD$31,$CC$11:$CC$31)+SUM(U70:AB70)+$L$66) -> 0 | Q70: =IF(AD70="",0,N70*AD70) -> 0 | W70: =IF(Principale!$M$38<6,-2,IF(Principale!$M$38<10,-1,IF(Principale!$M$38>15,2,IF(Principale!$M$38>11,1,0)))) -> 0 | AA70: =Principale!$BP$32 -> 0 | AD70: =IF(AF70=0,0,AF70*AH70*AJ70*AL70*AN70*AP70) -> 0 | AN70: =Principale!$BI$38 -> 1 | AP70: =IF(Principale!$BI$42<1,Principale!$BI$42+0.1,IF(Principale!$BI$42>1,Principale!$BI$42-0.1,Principale!$BI$42)) -> 1 | AS70: =SUM(AU70:BB70) -> 3 | AU70: =IF(Principale!$M$38<9,1,IF(Principale!$M$38>15,5,IF(Principale!$M$38>12,4,IF(Principale!$M$38>10,3,2)))) -> 2 | AW70: =IF(AJ70<0.8,1,IF(AJ70>1.2,5,IF(AJ70>1,4,IF(AJ70>0.8,3,2)))) -> 1
B71: Artigianato della Guerra (Add.) | L71: =IF(Q71<136,0+SUM(U71:AB71)+$L$66,LOOKUP(Q71,$CD$11:$CD$31,$CC$11:$CC$31)+SUM(U71:AB71)+$L$66) -> 0 | Q71: =IF(AD71="",0,N71*AD71) -> 0 | W71: =IF(Principale!$M$38<6,-2,IF(Principale!$M$38<10,-1,IF(Principale!$M$38>15,2,IF(Principale!$M$38>11,1,0)))) -> 0 | AA71: =Principale!$BP$32 -> 0 | AD71: =IF(AF71=0,0,AF71*AH71*AJ71*AL71*AN71*AP71) -> 0 | AN71: =Principale!$BI$38 -> 1 | AP71: =IF(Principale!$BI$42<1,Principale!$BI$42+0.1,IF(Principale!$BI$42>1,Principale!$BI$42-0.1,Principale!$BI$42)) -> 1 | AS71: =SUM(AU71:BB71) -> 3 | AU71: =IF(Principale!$M$38<9,1,IF(Principale!$M$38>15,5,IF(Principale!$M$38>12,4,IF(Principale!$M$38>10,3,2)))) -> 2 | AW71: =IF(AJ71<0.8,1,IF(AJ71>1.2,5,IF(AJ71>1,4,IF(AJ71>0.8,3,2)))) -> 1
B72: Artigianato della Morte (Add.) | L72: =IF(Q72<136,0+SUM(U72:AB72)+$L$66,LOOKUP(Q72,$CD$11:$CD$31,$CC$11:$CC$31)+SUM(U72:AB72)+$L$66) -> 0 | Q72: =IF(AD72="",0,N72*AD72) -> 0 | W72: =IF(Principale!$M$38<6,-2,IF(Principale!$M$38<10,-1,IF(Principale!$M$38>15,2,IF(Principale!$M$38>11,1,0)))) -> 0 | AA72: =Principale!$BP$32 -> 0 | AD72: =IF(AF72=0,0,AF72*AH72*AJ72*AL72*AN72*AP72) -> 0 | AN72: =Principale!$BI$38 -> 1 | AP72: =IF(Principale!$BI$42<1,Principale!$BI$42+0.1,IF(Principale!$BI$42>1,Principale!$BI$42-0.1,Principale!$BI$42)) -> 1 | AS72: =SUM(AU72:BB72) -> 3 | AU72: =IF(Principale!$M$38<9,1,IF(Principale!$M$38>15,5,IF(Principale!$M$38>12,4,IF(Principale!$M$38>10,3,2)))) -> 2 | AW72: =IF(AJ72<0.8,1,IF(AJ72>1.2,5,IF(AJ72>1,4,IF(AJ72>0.8,3,2)))) -> 1
B73: Artigianato della Natura (Add.) | L73: =IF(Q73<136,0+SUM(U73:AB73)+$L$66,LOOKUP(Q73,$CD$11:$CD$31,$CC$11:$CC$31)+SUM(U73:AB73)+$L$66) -> 0 | Q73: =IF(AD73="",0,N73*AD73) -> 0 | W73: =IF(Principale!$M$38<6,-2,IF(Principale!$M$38<10,-1,IF(Principale!$M$38>15,2,IF(Principale!$M$38>11,1,0)))) -> 0 | AA73: =Principale!$BP$32 -> 0 | AD73: =IF(AF73=0,0,AF73*AH73*AJ73*AL73*AN73*AP73) -> 0 | AN73: =Principale!$BI$38 -> 1 | AP73: =IF(Principale!$BI$42<1,Principale!$BI$42+0.1,IF(Principale!$BI$42>1,Principale!$BI$42-0.1,Principale!$BI$42)) -> 1 | AS73: =SUM(AU73:BB73) -> 3 | AU73: =IF(Principale!$M$38<9,1,IF(Principale!$M$38>15,5,IF(Principale!$M$38>12,4,IF(Principale!$M$38>10,3,2)))) -> 2 | AW73: =IF(AJ73<0.8,1,IF(AJ73>1.2,5,IF(AJ73>1,4,IF(AJ73>0.8,3,2)))) -> 1
B74: Artigianato della Ombre (Add.) | L74: =IF(Q74<136,0+SUM(U74:AB74)+$L$66,LOOKUP(Q74,$CD$11:$CD$31,$CC$11:$CC$31)+SUM(U74:AB74)+$L$66) -> 0 | Q74: =IF(AD74="",0,N74*AD74) -> 0 | W74: =IF(Principale!$M$38<6,-2,IF(Principale!$M$38<10,-1,IF(Principale!$M$38>15,2,IF(Principale!$M$38>11,1,0)))) -> 0 | AA74: =Principale!$BP$32 -> 0 | AD74: =IF(AF74=0,0,AF74*AH74*AJ74*AL74*AN74*AP74) -> 0 | AN74: =Principale!$BI$38 -> 1 | AP74: =IF(Principale!$BI$42<1,Principale!$BI$42+0.1,IF(Principale!$BI$42>1,Principale!$BI$42-0.1,Principale!$BI$42)) -> 1 | AS74: =SUM(AU74:BB74) -> 3 | AU74: =IF(Principale!$M$38<9,1,IF(Principale!$M$38>15,5,IF(Principale!$M$38>12,4,IF(Principale!$M$38>10,3,2)))) -> 2 | AW74: =IF(AJ74<0.8,1,IF(AJ74>1.2,5,IF(AJ74>1,4,IF(AJ74>0.8,3,2)))) -> 1
B75: Artigianato della Protezione (Add.) | L75: =IF(Q75<136,0+SUM(U75:AB75)+$L$66,LOOKUP(Q75,$CD$11:$CD$31,$CC$11:$CC$31)+SUM(U75:AB75)+$L$66) -> 0 | Q75: =IF(AD75="",0,N75*AD75) -> 0 | W75: =IF(Principale!$M$38<6,-2,IF(Principale!$M$38<10,-1,IF(Principale!$M$38>15,2,IF(Principale!$M$38>11,1,0)))) -> 0 | AA75: =Principale!$BP$32 -> 0 | AD75: =IF(AF75=0,0,AF75*AH75*AJ75*AL75*AN75*AP75) -> 0 | AN75: =Principale!$BI$38 -> 1 | AP75: =IF(Principale!$BI$42<1,Principale!$BI$42+0.1,IF(Principale!$BI$42>1,Principale!$BI$42-0.1,Principale!$BI$42)) -> 1 | AS75: =SUM(AU75:BB75) -> 3 | AU75: =IF(Principale!$M$38<9,1,IF(Principale!$M$38>15,5,IF(Principale!$M$38>12,4,IF(Principale!$M$38>10,3,2)))) -> 2 | AW75: =IF(AJ75<0.8,1,IF(AJ75>1.2,5,IF(AJ75>1,4,IF(AJ75>0.8,3,2)))) -> 1
B76: Artigianato dello Spirito (Add.) | L76: =IF(Q76<136,0+SUM(U76:AB76)+$L$66,LOOKUP(Q76,$CD$11:$CD$31,$CC$11:$CC$31)+SUM(U76:AB76)+$L$66) -> 0 | Q76: =IF(AD76="",0,N76*AD76) -> 0 | W76: =IF(Principale!$M$38<6,-2,IF(Principale!$M$38<10,-1,IF(Principale!$M$38>15,2,IF(Principale!$M$38>11,1,0)))) -> 0 | AA76: =Principale!$BP$32 -> 0 | AD76: =IF(AF76=0,0,AF76*AH76*AJ76*AL76*AN76*AP76) -> 0 | AN76: =Principale!$BI$38 -> 1 | AP76: =IF(Principale!$BI$42<1,Principale!$BI$42+0.1,IF(Principale!$BI$42>1,Principale!$BI$42-0.1,Principale!$BI$42)) -> 1 | AS76: =SUM(AU76:BB76) -> 3 | AU76: =IF(Principale!$M$38<9,1,IF(Principale!$M$38>15,5,IF(Principale!$M$38>12,4,IF(Principale!$M$38>10,3,2)))) -> 2 | AW76: =IF(AJ76<0.8,1,IF(AJ76>1.2,5,IF(AJ76>1,4,IF(AJ76>0.8,3,2)))) -> 1
B77: Artigianato della Vita (Add.) | L77: =IF(Q77<136,0+SUM(U77:AB77)+$L$66,LOOKUP(Q77,$CD$11:$CD$31,$CC$11:$CC$31)+SUM(U77:AB77)+$L$66) -> 0 | Q77: =IF(AD77="",0,N77*AD77) -> 0 | W77: =IF(Principale!$M$38<6,-2,IF(Principale!$M$38<10,-1,IF(Principale!$M$38>15,2,IF(Principale!$M$38>11,1,0)))) -> 0 | AA77: =Principale!$BP$32 -> 0 | AD77: =IF(AF77=0,0,AF77*AH77*AJ77*AL77*AN77*AP77) -> 0 | AN77: =Principale!$BI$38 -> 1 | AP77: =IF(Principale!$BI$42<1,Principale!$BI$42+0.1,IF(Principale!$BI$42>1,Principale!$BI$42-0.1,Principale!$BI$42)) -> 1 | AS77: =SUM(AU77:BB77) -> 3 | AU77: =IF(Principale!$M$38<9,1,IF(Principale!$M$38>15,5,IF(Principale!$M$38>12,4,IF(Principale!$M$38>10,3,2)))) -> 2 | AW77: =IF(AJ77<0.8,1,IF(AJ77>1.2,5,IF(AJ77>1,4,IF(AJ77>0.8,3,2)))) -> 1
B78: Artigianato Universale (Add.) | L78: =IF(Q78<136,0+SUM(U78:AB78)+$L$66,LOOKUP(Q78,$CD$11:$CD$31,$CC$11:$CC$31)+SUM(U78:AB78)+$L$66) -> 0 | Q78: =IF(AD78="",0,N78*AD78) -> 0 | W78: =IF(Principale!$M$38<6,-2,IF(Principale!$M$38<10,-1,IF(Principale!$M$38>15,2,IF(Principale!$M$38>11,1,0)))) -> 0 | AA78: =Principale!$BP$32 -> 0 | AD78: =IF(AF78=0,0,AF78*AH78*AJ78*AL78*AN78*AP78) -> 0 | AN78: =Principale!$BI$38 -> 1 | AP78: =IF(Principale!$BI$42<1,Principale!$BI$42+0.1,IF(Principale!$BI$42>1,Principale!$BI$42-0.1,Principale!$BI$42)) -> 1 | AS78: =SUM(AU78:BB78) -> 3 | AU78: =IF(Principale!$M$38<9,1,IF(Principale!$M$38>15,5,IF(Principale!$M$38>12,4,IF(Principale!$M$38>10,3,2)))) -> 2 | AW78: =IF(AJ78<0.8,1,IF(AJ78>1.2,5,IF(AJ78>1,4,IF(AJ78>0.8,3,2)))) -> 1
B80: CAPACITÀ FISICHE (For, Cos) | L80: =IF(Principale!$E$98=Abilità!B80,2,IF(Principale!$Q$98=Abilità!B80,2,IF(Principale!$AC$98=Abilità!B80,1,IF(Principale!$AO$98=Abilità!B80,1,0)))) -> 0 | N80: Bonus GA Innato
B81: Acrobazia* (Agi, For) (L0) | L81: =IF(Q81<136,0+SUM(U81:AB81)+$L$80,LOOKUP(Q81,$CD$11:$CD$31,$CC$11:$CC$31)+SUM(U81:AB81)+$L$80) -> 0 | Q81: =IF(AD81="",0,N81*AD81) -> 0 | W81: =IF(Principale!$M$34<6,-2,IF(Principale!$M$34<10,-1,IF(Principale!$M$34>15,2,IF(Principale!$M$34>11,1,0)))) -> 0 | Y81: =BI81 -> 0 | AA81: =Principale!$S$71+Equipaggiamento!$AQ$3+Principale!$BP$32 -> 0 | AD81: =IF(AF81=0,0,AF81*AH81*AJ81*AL81*AN81*AP81) -> 0 | AN81: =Principale!$BI$34 -> 1 | AP81: =IF(Principale!$BI$32<1,Principale!$BI$32+0.1,IF(Principale!$BI$32>1,Principale!$BI$32-0.1,Principale!$BI$32)) -> 1 | AS81: =SUM(AU81:BB81) -> 3 | AU81: =IF(Principale!$M$34<9,1,IF(Principale!$M$34>15,5,IF(Principale!$M$34>12,4,IF(Principale!$M$34>10,3,2)))) -> 2 | AW81: =IF(AJ81<0.8,1,IF(AJ81>1.2,5,IF(AJ81>1,4,IF(AJ81>0.8,3,2)))) -> 1 | BI81: =IF(SUM(BJ81:CA81)>2,2,SUM(BJ81:CA81)) -> 0 | BJ81: =IF(Q82<136,0,IF(LOOKUP(Q82,$CD$11:$CD$31,$CC$11:$CC$31)>5,2,IF(LOOKUP(Q82,$CD$11:$CD$31,$CC$11:$CC$31)>2,1,0))) -> 0 | BK81: =IF(Q85<136,0,IF(LOOKUP(Q85,$CD$11:$CD$31,$CC$11:$CC$31)>5,2,IF(LOOKUP(Q85,$CD$11:$CD$31,$CC$11:$CC$31)>2,1,0))) -> 0
B82: Equilibrio* (Agi, For) (L0) | L82: =IF(Q82<136,0+SUM(U82:AB82)+$L$80,LOOKUP(Q82,$CD$11:$CD$31,$CC$11:$CC$31)+SUM(U82:AB82)+$L$80) -> 0 | Q82: =IF(AD82="",0,N82*AD82) -> 0 | W82: =IF(Principale!$M$34<6,-2,IF(Principale!$M$34<10,-1,IF(Principale!$M$34>15,2,IF(Principale!$M$34>11,1,0)))) -> 0 | Y82: =BI82 -> 0 | AA82: =Equipaggiamento!$AQ$3+Principale!$BP$32 -> 0 | AD82: =IF(AF82=0,0,AF82*AH82*AJ82*AL82*AN82*AP82) -> 0 | AN82: =Principale!$BI$34 -> 1 | AP82: =IF(Principale!$BI$32<1,Principale!$BI$32+0.1,IF(Principale!$BI$32>1,Principale!$BI$32-0.1,Principale!$BI$32)) -> 1 | AS82: =SUM(AU82:BB82) -> 3 | AU82: =IF(Principale!$M$32<9,1,IF(Principale!$M$32>15,5,IF(Principale!$M$32>12,4,IF(Principale!$M$32>10,3,2)))) -> 2 | AW82: =IF(AJ82<0.8,1,IF(AJ82>1.2,5,IF(AJ82>1,4,IF(AJ82>0.8,3,2)))) -> 1 | BI82: =IF(SUM(BJ82:CA82)>2,2,SUM(BJ82:CA82)) -> 0 | BJ82: =IF(Q81<136,0,IF(LOOKUP(Q81,$CD$11:$CD$31,$CC$11:$CC$31)>5,2,IF(LOOKUP(Q81,$CD$11:$CD$31,$CC$11:$CC$31)>2,1,0))) -> 0
B83: Lotta* (L0) | L83: =IF(Q83<136,0+SUM(U83:AB83)+$L$80,LOOKUP(Q83,$CD$11:$CD$31,$CC$11:$CC$31)+SUM(U83:AB83)+$L$80) -> 0 | Q83: =IF(AD83="",0,N83*AD83) -> 0 | W83: =IF(Principale!$M$32<6,-2,IF(Principale!$M$32<10,-1,IF(Principale!$M$32>15,2,IF(Principale!$M$32>11,1,0)))) -> 0 | AA83: =Principale!$S$71+Equipaggiamento!$AQ$3+Principale!$BP$32 -> 0 | AD83: =IF(AF83=0,0,AF83*AH83*AJ83*AL83*AN83*AP83) -> 0 | AN83: =Principale!$BI$32 -> 1 | AP83: =IF(Principale!$BI$46<1,Principale!$BI$46+0.1,IF(Principale!$BI$46>1,Principale!$BI$46-0.1,Principale!$BI$46)) -> 1 | AS83: =SUM(AU83:BB83) -> 3 | AU83: =IF(Principale!$M$32<9,1,IF(Principale!$M$32>15,5,IF(Principale!$M$32>12,4,IF(Principale!$M$32>10,3,2)))) -> 2 | AW83: =IF(AJ83<0.8,1,IF(AJ83>1.2,5,IF(AJ83>1,4,IF(AJ83>0.8,3,2)))) -> 1
B84: Nuotare* (L0) | L84: =IF(Q84<136,0+SUM(U84:AB84)+$L$80,LOOKUP(Q84,$CD$11:$CD$31,$CC$11:$CC$31)+SUM(U84:AB84)+$L$80) -> 0 | Q84: =IF(AD84="",0,N84*AD84) -> 0 | W84: =IF(Principale!$M$32<6,-2,IF(Principale!$M$32<10,-1,IF(Principale!$M$32>15,2,IF(Principale!$M$32>11,1,0)))) -> 0 | AA84: =Principale!$S$71+Equipaggiamento!$AQ$3+Principale!$BP$32 -> 0 | AD84: =IF(AF84=0,0,AF84*AH84*AJ84*AL84*AN84*AP84) -> 0 | AN84: =Principale!$BI$32 -> 1 | AP84: =IF(Principale!$BI$46<1,Principale!$BI$46+0.1,IF(Principale!$BI$46>1,Principale!$BI$46-0.1,Principale!$BI$46)) -> 1 | AS84: =SUM(AU84:BB84) -> 3 | AU84: =IF(Principale!$M$32<9,1,IF(Principale!$M$32>15,5,IF(Principale!$M$32>12,4,IF(Principale!$M$32>10,3,2)))) -> 2 | AW84: =IF(AJ84<0.8,1,IF(AJ84>1.2,5,IF(AJ84>1,4,IF(AJ84>0.8,3,2)))) -> 1
B85: Saltare* (L0) | L85: =IF(Q85<136,0+SUM(U85:AB85)+$L$80,LOOKUP(Q85,$CD$11:$CD$31,$CC$11:$CC$31)+SUM(U85:AB85)+$L$80) -> 0 | Q85: =IF(AD85="",0,N85*AD85) -> 0 | W85: =IF(Principale!$M$32<6,-2,IF(Principale!$M$32<10,-1,IF(Principale!$M$32>15,2,IF(Principale!$M$32>11,1,0)))) -> 0 | AA85: =Principale!$S$71+Equipaggiamento!$AQ$3+Principale!$BP$32 -> 0 | AD85: =IF(AF85=0,0,AF85*AH85*AJ85*AL85*AN85*AP85) -> 0 | AN85: =Principale!$BI$32 -> 1 | AP85: =IF(Principale!$BI$46<1,Principale!$BI$46+0.1,IF(Principale!$BI$46>1,Principale!$BI$46-0.1,Principale!$BI$46)) -> 1 | AS85: =SUM(AU85:BB85) -> 3 | AU85: =IF(Principale!$M$32<9,1,IF(Principale!$M$32>15,5,IF(Principale!$M$32>12,4,IF(Principale!$M$32>10,3,2)))) -> 2 | AW85: =IF(AJ85<0.8,1,IF(AJ85>1.2,5,IF(AJ85>1,4,IF(AJ85>0.8,3,2)))) -> 1
B86: Scalare* (L0) | L86: =IF(Q86<136,0+SUM(U86:AB86)+$L$80,LOOKUP(Q86,$CD$11:$CD$31,$CC$11:$CC$31)+SUM(U86:AB86)+$L$80) -> 0 | Q86: =IF(AD86="",0,N86*AD86) -> 0 | W86: =IF(Principale!$M$32<6,-2,IF(Principale!$M$32<10,-1,IF(Principale!$M$32>15,2,IF(Principale!$M$32>11,1,0)))) -> 0 | AA86: =Principale!$S$71+Equipaggiamento!$AQ$3+Principale!$BP$32 -> 0 | AD86: =IF(AF86=0,0,AF86*AH86*AJ86*AL86*AN86*AP86) -> 0 | AN86: =Principale!$BI$32 -> 1 | AP86: =IF(Principale!$BI$46<1,Principale!$BI$46+0.1,IF(Principale!$BI$46>1,Principale!$BI$46-0.1,Principale!$BI$46)) -> 1 | AS86: =SUM(AU86:BB86) -> 3 | AU86: =IF(Principale!$M$32<9,1,IF(Principale!$M$32>15,5,IF(Principale!$M$32>12,4,IF(Principale!$M$32>10,3,2)))) -> 2 | AW86: =IF(AJ86<0.8,1,IF(AJ86>1.2,5,IF(AJ86>1,4,IF(AJ86>0.8,3,2)))) -> 1
B88: CONOSCENZE (Mem, Int) | L88: =IF(Principale!$E$98=Abilità!B88,2,IF(Principale!$Q$98=Abilità!B88,2,IF(Principale!$AC$98=Abilità!B88,1,IF(Principale!$AO$98=Abilità!B88,1,0)))) -> 0 | N88: Bonus GA Innato
B89: Animali (L0, Add.) | L89: =IF(Q89<136,0+SUM(U89:AB89)+$L$88,LOOKUP(Q89,$CD$11:$CD$31,$CC$11:$CC$31)+SUM(U89:AB89)+$L$88) -> 0 | Q89: =IF(AD89="",0,N89*AD89) -> 0 | W89: =IF(Principale!$M$42<6,-2,IF(Principale!$M$42<10,-1,IF(Principale!$M$42>15,2,IF(Principale!$M$42>11,1,0)))) -> 0 | Y89: =BI89 -> 0 | AA89: =Principale!$BP$32 -> 0 | AD89: =IF(AF89=0,0,AF89*AH89*AJ89*AL89*AN89*AP89) -> 0 | AN89: =Principale!$BI$42 -> 1 | AP89: =IF(Principale!$BI$40<1,Principale!$BI$40+0.1,IF(Principale!$BI$40>1,Principale!$BI$40-0.1,Principale!$BI$40)) -> 1 | AS89: =SUM(AU89:BB89) -> 3 | AU89: =IF(Principale!$M$42<9,1,IF(Principale!$M$42>15,5,IF(Principale!$M$42>12,4,IF(Principale!$M$42>10,3,2)))) -> 2 | AW89: =IF(AJ89<0.8,1,IF(AJ89>1.2,5,IF(AJ89>1,4,IF(AJ89>0.8,3,2)))) -> 1 | BI89: =IF(SUM(BJ89:CA89)>2,2,SUM(BJ89:CA89)) -> 0 | BJ89: =IF(Q119<136,0,IF(LOOKUP(Q119,$CD$11:$CD$31,$CC$11:$CC$31)>5,2,IF(LOOKUP(Q119,$CD$11:$CD$31,$CC$11:$CC$31)>2,1,0))) -> 0
B90: Dimensioni (L0, Add.) | L90: =IF(Q90<136,0+SUM(U90:AB90)+$L$88,LOOKUP(Q90,$CD$11:$CD$31,$CC$11:$CC$31)+SUM(U90:AB90)+$L$88) -> 0 | Q90: =IF(AD90="",0,N90*AD90) -> 0 | W90: =IF(Principale!$M$42<6,-2,IF(Principale!$M$42<10,-1,IF(Principale!$M$42>15,2,IF(Principale!$M$42>11,1,0)))) -> 0 | AA90: =Principale!$BP$32 -> 0 | AD90: =IF(AF90=0,0,AF90*AH90*AJ90*AL90*AN90*AP90) -> 0 | AN90: =Principale!$BI$42 -> 1 | AP90: =IF(Principale!$BI$40<1,Principale!$BI$40+0.1,IF(Principale!$BI$40>1,Principale!$BI$40-0.1,Principale!$BI$40)) -> 1 | AS90: =SUM(AU90:BB90) -> 3 | AU90: =IF(Principale!$M$42<9,1,IF(Principale!$M$42>15,5,IF(Principale!$M$42>12,4,IF(Principale!$M$42>10,3,2)))) -> 2 | AW90: =IF(AJ90<0.8,1,IF(AJ90>1.2,5,IF(AJ90>1,4,IF(AJ90>0.8,3,2)))) -> 1
B91: Geografia (L0, Add.) ( ) | L91: =IF(Q91<136,0+SUM(U91:AB91)+$L$88,LOOKUP(Q91,$CD$11:$CD$31,$CC$11:$CC$31)+SUM(U91:AB91)+$L$88) -> 0 | Q91: =IF(AD91="",0,N91*AD91) -> 0 | W91: =IF(Principale!$M$42<6,-2,IF(Principale!$M$42<10,-1,IF(Principale!$M$42>15,2,IF(Principale!$M$42>11,1,0)))) -> 0 | AA91: =Principale!$BP$32 -> 0 | AD91: =IF(AF91=0,0,AF91*AH91*AJ91*AL91*AN91*AP91) -> 0 | AN91: =Principale!$BI$42 -> 1 | AP91: =IF(Principale!$BI$40<1,Principale!$BI$40+0.1,IF(Principale!$BI$40>1,Principale!$BI$40-0.1,Principale!$BI$40)) -> 1 | AS91: =SUM(AU91:BB91) -> 3 | AU91: =IF(Principale!$M$42<9,1,IF(Principale!$M$42>15,5,IF(Principale!$M$42>12,4,IF(Principale!$M$42>10,3,2)))) -> 2 | AW91: =IF(AJ91<0.8,1,IF(AJ91>1.2,5,IF(AJ91>1,4,IF(AJ91>0.8,3,2)))) -> 1
B92: Geografia (L0, Add.) ( ) | L92: =IF(Q92<136,0+SUM(U92:AB92)+$L$88,LOOKUP(Q92,$CD$11:$CD$31,$CC$11:$CC$31)+SUM(U92:AB92)+$L$88) -> 0 | Q92: =IF(AD92="",0,N92*AD92) -> 0 | W92: =IF(Principale!$M$42<6,-2,IF(Principale!$M$42<10,-1,IF(Principale!$M$42>15,2,IF(Principale!$M$42>11,1,0)))) -> 0 | AA92: =Principale!$BP$32 -> 0 | AD92: =IF(AF92=0,0,AF92*AH92*AJ92*AL92*AN92*AP92) -> 0 | AN92: =Principale!$BI$42 -> 1 | AP92: =IF(Principale!$BI$40<1,Principale!$BI$40+0.1,IF(Principale!$BI$40>1,Principale!$BI$40-0.1,Principale!$BI$40)) -> 1 | AS92: =SUM(AU92:BB92) -> 3 | AU92: =IF(Principale!$M$42<9,1,IF(Principale!$M$42>15,5,IF(Principale!$M$42>12,4,IF(Principale!$M$42>10,3,2)))) -> 2 | AW92: =IF(AJ92<0.8,1,IF(AJ92>1.2,5,IF(AJ92>1,4,IF(AJ92>0.8,3,2)))) -> 1
B93: Geografia (L0, Add.) ( ) | L93: =IF(Q93<136,0+SUM(U93:AB93)+$L$88,LOOKUP(Q93,$CD$11:$CD$31,$CC$11:$CC$31)+SUM(U93:AB93)+$L$88) -> 0 | Q93: =IF(AD93="",0,N93*AD93) -> 0 | W93: =IF(Principale!$M$42<6,-2,IF(Principale!$M$42<10,-1,IF(Principale!$M$42>15,2,IF(Principale!$M$42>11,1,0)))) -> 0 | AA93: =Principale!$BP$32 -> 0 | AD93: =IF(AF93=0,0,AF93*AH93*AJ93*AL93*AN93*AP93) -> 0 | AN93: =Principale!$BI$42 -> 1 | AP93: =IF(Principale!$BI$40<1,Principale!$BI$40+0.1,IF(Principale!$BI$40>1,Principale!$BI$40-0.1,Principale!$BI$40)) -> 1 | AS93: =SUM(AU93:BB93) -> 3 | AU93: =IF(Principale!$M$42<9,1,IF(Principale!$M$42>15,5,IF(Principale!$M$42>12,4,IF(Principale!$M$42>10,3,2)))) -> 2 | AW93: =IF(AJ93<0.8,1,IF(AJ93>1.2,5,IF(AJ93>1,4,IF(AJ93>0.8,3,2)))) -> 1
B94: Locali (L0, Add.) ( ) | L94: =IF(Q94<136,0+SUM(U94:AB94)+$L$88,LOOKUP(Q94,$CD$11:$CD$31,$CC$11:$CC$31)+SUM(U94:AB94)+$L$88) -> 0 | Q94: =IF(AD94="",0,N94*AD94) -> 0 | W94: =IF(Principale!$M$42<6,-2,IF(Principale!$M$42<10,-1,IF(Principale!$M$42>15,2,IF(Principale!$M$42>11,1,0)))) -> 0 | AA94: =Principale!$BP$32 -> 0 | AD94: =IF(AF94=0,0,AF94*AH94*AJ94*AL94*AN94*AP94) -> 0 | AN94: =Principale!$BI$42 -> 1 | AP94: =IF(Principale!$BI$40<1,Principale!$BI$40+0.1,IF(Principale!$BI$40>1,Principale!$BI$40-0.1,Principale!$BI$40)) -> 1 | AS94: =SUM(AU94:BB94) -> 3 | AU94: =IF(Principale!$M$42<9,1,IF(Principale!$M$42>15,5,IF(Principale!$M$42>12,4,IF(Principale!$M$42>10,3,2)))) -> 2 | AW94: =IF(AJ94<0.8,1,IF(AJ94>1.2,5,IF(AJ94>1,4,IF(AJ94>0.8,3,2)))) -> 1
B95: Locali (L0, Add.) ( ) | L95: =IF(Q95<136,0+SUM(U95:AB95)+$L$88,LOOKUP(Q95,$CD$11:$CD$31,$CC$11:$CC$31)+SUM(U95:AB95)+$L$88) -> 0 | Q95: =IF(AD95="",0,N95*AD95) -> 0 | W95: =IF(Principale!$M$42<6,-2,IF(Principale!$M$42<10,-1,IF(Principale!$M$42>15,2,IF(Principale!$M$42>11,1,0)))) -> 0 | AA95: =Principale!$BP$32 -> 0 | AD95: =IF(AF95=0,0,AF95*AH95*AJ95*AL95*AN95*AP95) -> 0 | AN95: =Principale!$BI$42 -> 1 | AP95: =IF(Principale!$BI$40<1,Principale!$BI$40+0.1,IF(Principale!$BI$40>1,Principale!$BI$40-0.1,Principale!$BI$40)) -> 1 | AS95: =SUM(AU95:BB95) -> 3 | AU95: =IF(Principale!$M$42<9,1,IF(Principale!$M$42>15,5,IF(Principale!$M$42>12,4,IF(Principale!$M$42>10,3,2)))) -> 2 | AW95: =IF(AJ95<0.8,1,IF(AJ95>1.2,5,IF(AJ95>1,4,IF(AJ95>0.8,3,2)))) -> 1
B96: Locali (L0, Add.) ( ) | L96: =IF(Q96<136,0+SUM(U96:AB96)+$L$88,LOOKUP(Q96,$CD$11:$CD$31,$CC$11:$CC$31)+SUM(U96:AB96)+$L$88) -> 0 | Q96: =IF(AD96="",0,N96*AD96) -> 0 | W96: =IF(Principale!$M$42<6,-2,IF(Principale!$M$42<10,-1,IF(Principale!$M$42>15,2,IF(Principale!$M$42>11,1,0)))) -> 0 | AA96: =Principale!$BP$32 -> 0 | AD96: =IF(AF96=0,0,AF96*AH96*AJ96*AL96*AN96*AP96) -> 0 | AN96: =Principale!$BI$42 -> 1 | AP96: =IF(Principale!$BI$40<1,Principale!$BI$40+0.1,IF(Principale!$BI$40>1,Principale!$BI$40-0.1,Principale!$BI$40)) -> 1 | AS96: =SUM(AU96:BB96) -> 3 | AU96: =IF(Principale!$M$42<9,1,IF(Principale!$M$42>15,5,IF(Principale!$M$42>12,4,IF(Principale!$M$42>10,3,2)))) -> 2 | AW96: =IF(AJ96<0.8,1,IF(AJ96>1.2,5,IF(AJ96>1,4,IF(AJ96>0.8,3,2)))) -> 1
B97: Magia dell'Ordine (L0, Add.) | L97: =IF(Q97<136,0+SUM(U97:AB97)+$L$88,LOOKUP(Q97,$CD$11:$CD$31,$CC$11:$CC$31)+SUM(U97:AB97)+$L$88) -> 0 | Q97: =IF(AD97="",0,N97*AD97) -> 0 | W97: =IF(Principale!$M$42<6,-2,IF(Principale!$M$42<10,-1,IF(Principale!$M$42>15,2,IF(Principale!$M$42>11,1,0)))) -> 0 | Y97: =BI97 -> 0 | AA97: =Principale!$BP$32 -> 0 | AD97: =IF(AF97=0,0,AF97*AH97*AJ97*AL97*AN97*AP97) -> 0 | AN97: =Principale!$BI$42 -> 1 | AP97: =IF(Principale!$BI$40<1,Principale!$BI$40+0.1,IF(Principale!$BI$40>1,Principale!$BI$40-0.1,Principale!$BI$40)) -> 1 | AS97: =SUM(AU97:BB97) -> 3 | AU97: =IF(Principale!$M$42<9,1,IF(Principale!$M$42>15,5,IF(Principale!$M$42>12,4,IF(Principale!$M$42>10,3,2)))) -> 2 | AW97: =IF(AJ97<0.8,1,IF(AJ97>1.2,5,IF(AJ97>1,4,IF(AJ97>0.8,3,2)))) -> 1 | BI97: =IF(SUM(BJ97:CA97)>2,2,SUM(BJ97:CA97)) -> 0 | BJ97: =IF(Q155<136,0,IF(LOOKUP(Q155,$CD$11:$CD$31,$CC$11:$CC$31)>5,2,IF(LOOKUP(Q155,$CD$11:$CD$31,$CC$11:$CC$31)>2,1,0))) -> 0 | BK97: =IF(Q156<136,0,IF(LOOKUP(Q156,$CD$11:$CD$31,$CC$11:$CC$31)>5,2,IF(LOOKUP(Q156,$CD$11:$CD$31,$CC$11:$CC$31)>2,1,0))) -> 0 | BL97: =IF(Q157<136,0,IF(LOOKUP(Q157,$CD$11:$CD$31,$CC$11:$CC$31)>5,2,IF(LOOKUP(Q157,$CD$11:$CD$31,$CC$11:$CC$31)>2,1,0))) -> 0 | BM97: =IF(Q158<136,0,IF(LOOKUP(Q158,$CD$11:$CD$31,$CC$11:$CC$31)>5,2,IF(LOOKUP(Q158,$CD$11:$CD$31,$CC$11:$CC$31)>2,1,0))) -> 0 | BN97: =IF(Q159<136,0,IF(LOOKUP(Q159,$CD$11:$CD$31,$CC$11:$CC$31)>5,2,IF(LOOKUP(Q159,$CD$11:$CD$31,$CC$11:$CC$31)>2,1,0))) -> 0 | BO97: =IF(Q160<136,0,IF(LOOKUP(Q160,$CD$11:$CD$31,$CC$11:$CC$31)>5,2,IF(LOOKUP(Q160,$CD$11:$CD$31,$CC$11:$CC$31)>2,1,0))) -> 0 | BP97: =IF(Q161<136,0,IF(LOOKUP(Q161,$CD$11:$CD$31,$CC$11:$CC$31)>5,2,IF(LOOKUP(Q161,$CD$11:$CD$31,$CC$11:$CC$31)>2,1,0))) -> 0 | BQ97: =IF(Q162<136,0,IF(LOOKUP(Q162,$CD$11:$CD$31,$CC$11:$CC$31)>5,2,IF(LOOKUP(Q162,$CD$11:$CD$31,$CC$11:$CC$31)>2,1,0))) -> 0 | BR97: =IF(Q163<136,0,IF(LOOKUP(Q163,$CD$11:$CD$31,$CC$11:$CC$31)>5,2,IF(LOOKUP(Q163,$CD$11:$CD$31,$CC$11:$CC$31)>2,1,0))) -> 0 | BS97: =IF(Q164<136,0,IF(LOOKUP(Q164,$CD$11:$CD$31,$CC$11:$CC$31)>5,2,IF(LOOKUP(Q164,$CD$11:$CD$31,$CC$11:$CC$31)>2,1,0))) -> 0 | BT97: =IF(Q165<136,0,IF(LOOKUP(Q165,$CD$11:$CD$31,$CC$11:$CC$31)>5,2,IF(LOOKUP(Q165,$CD$11:$CD$31,$CC$11:$CC$31)>2,1,0))) -> 0
B98: Magia demoniaca (L0) | L98: =IF(Q98<136,0+SUM(U98:AB98)+$L$88,LOOKUP(Q98,$CD$11:$CD$31,$CC$11:$CC$31)+SUM(U98:AB98)+$L$88) -> 0 | Q98: =IF(AD98="",0,N98*AD98) -> 0 | W98: =IF(Principale!$M$42<6,-2,IF(Principale!$M$42<10,-1,IF(Principale!$M$42>15,2,IF(Principale!$M$42>11,1,0)))) -> 0 | Y98: =BI98 -> 0 | AA98: =Principale!$BP$32 -> 0 | AD98: =IF(AF98=0,0,AF98*AH98*AJ98*AL98*AN98*AP98) -> 0 | AN98: =Principale!$BI$42 -> 1 | AP98: =IF(Principale!$BI$40<1,Principale!$BI$40+0.1,IF(Principale!$BI$40>1,Principale!$BI$40-0.1,Principale!$BI$40)) -> 1 | AS98: =SUM(AU98:BB98) -> 3 | AU98: =IF(Principale!$M$42<9,1,IF(Principale!$M$42>15,5,IF(Principale!$M$42>12,4,IF(Principale!$M$42>10,3,2)))) -> 2 | AW98: =IF(AJ98<0.8,1,IF(AJ98>1.2,5,IF(AJ98>1,4,IF(AJ98>0.8,3,2)))) -> 1 | BI98: =IF(SUM(BJ98:CA98)>2,2,SUM(BJ98:CA98)) -> 0 | BJ98: =IF(Q168<136,0,IF(LOOKUP(Q168,$CD$11:$CD$31,$CC$11:$CC$31)>5,2,IF(LOOKUP(Q168,$CD$11:$CD$31,$CC$11:$CC$31)>2,1,0))) -> 0 | BK98: =IF(Q169<136,0,IF(LOOKUP(Q169,$CD$11:$CD$31,$CC$11:$CC$31)>5,2,IF(LOOKUP(Q169,$CD$11:$CD$31,$CC$11:$CC$31)>2,1,0))) -> 0 | BL98: =IF(Q170<136,0,IF(LOOKUP(Q170,$CD$11:$CD$31,$CC$11:$CC$31)>5,2,IF(LOOKUP(Q170,$CD$11:$CD$31,$CC$11:$CC$31)>2,1,0))) -> 0 | BM98: =IF(Q171<136,0,IF(LOOKUP(Q171,$CD$11:$CD$31,$CC$11:$CC$31)>5,2,IF(LOOKUP(Q171,$CD$11:$CD$31,$CC$11:$CC$31)>2,1,0))) -> 0
B99: Magia di Gaia (L0) | L99: =IF(Q99<136,0+SUM(U99:AB99)+$L$88,LOOKUP(Q99,$CD$11:$CD$31,$CC$11:$CC$31)+SUM(U99:AB99)+$L$88) -> 0 | Q99: =IF(AD99="",0,N99*AD99) -> 0 | W99: =IF(Principale!$M$42<6,-2,IF(Principale!$M$42<10,-1,IF(Principale!$M$42>15,2,IF(Principale!$M$42>11,1,0)))) -> 0 | Y99: =BI99 -> 0 | AA99: =Principale!$BP$32 -> 0 | AD99: =IF(AF99=0,0,AF99*AH99*AJ99*AL99*AN99*AP99) -> 0 | AN99: =Principale!$BI$42 -> 1 | AP99: =IF(Principale!$BI$40<1,Principale!$BI$40+0.1,IF(Principale!$BI$40>1,Principale!$BI$40-0.1,Principale!$BI$40)) -> 1 | AS99: =SUM(AU99:BB99) -> 3 | AU99: =IF(Principale!$M$42<9,1,IF(Principale!$M$42>15,5,IF(Principale!$M$42>12,4,IF(Principale!$M$42>10,3,2)))) -> 2 | AW99: =IF(AJ99<0.8,1,IF(AJ99>1.2,5,IF(AJ99>1,4,IF(AJ99>0.8,3,2)))) -> 1 | BI99: =IF(SUM(BJ99:CA99)>2,2,SUM(BJ99:CA99)) -> 0 | BJ99: =IF(Q174<136,0,IF(LOOKUP(Q174,$CD$11:$CD$31,$CC$11:$CC$31)>5,2,IF(LOOKUP(Q174,$CD$11:$CD$31,$CC$11:$CC$31)>2,1,0))) -> 0 | BK99: =IF(Q175<136,0,IF(LOOKUP(Q175,$CD$11:$CD$31,$CC$11:$CC$31)>5,2,IF(LOOKUP(Q175,$CD$11:$CD$31,$CC$11:$CC$31)>2,1,0))) -> 0 | BL99: =IF(Q176<136,0,IF(LOOKUP(Q176,$CD$11:$CD$31,$CC$11:$CC$31)>5,2,IF(LOOKUP(Q176,$CD$11:$CD$31,$CC$11:$CC$31)>2,1,0))) -> 0 | BM99: =IF(Q177<136,0,IF(LOOKUP(Q177,$CD$11:$CD$31,$CC$11:$CC$31)>5,2,IF(LOOKUP(Q177,$CD$11:$CD$31,$CC$11:$CC$31)>2,1,0))) -> 0 | BN99: =IF(Q178<136,0,IF(LOOKUP(Q178,$CD$11:$CD$31,$CC$11:$CC$31)>5,2,IF(LOOKUP(Q178,$CD$11:$CD$31,$CC$11:$CC$31)>2,1,0))) -> 0
B100: Magia runica (L0) | L100: =IF(Q100<136,0+SUM(U100:AB100)+$L$88,LOOKUP(Q100,$CD$11:$CD$31,$CC$11:$CC$31)+SUM(U100:AB100)+$L$88) -> 0 | Q100: =IF(AD100="",0,N100*AD100) -> 0 | W100: =IF(Principale!$M$42<6,-2,IF(Principale!$M$42<10,-1,IF(Principale!$M$42>15,2,IF(Principale!$M$42>11,1,0)))) -> 0 | Y100: =BI100 -> 0 | AA100: =Principale!$BP$32 -> 0 | AD100: =IF(AF100=0,0,AF100*AH100*AJ100*AL100*AN100*AP100) -> 0 | AN100: =Principale!$BI$42 -> 1 | AP100: =IF(Principale!$BI$40<1,Principale!$BI$40+0.1,IF(Principale!$BI$40>1,Principale!$BI$40-0.1,Principale!$BI$40)) -> 1 | AS100: =SUM(AU100:BB100) -> 3 | AU100: =IF(Principale!$M$42<9,1,IF(Principale!$M$42>15,5,IF(Principale!$M$42>12,4,IF(Principale!$M$42>10,3,2)))) -> 2 | AW100: =IF(AJ100<0.8,1,IF(AJ100>1.2,5,IF(AJ100>1,4,IF(AJ100>0.8,3,2)))) -> 1 | BI100: =IF(SUM(BJ100:CA100)>2,2,SUM(BJ100:CA100)) -> 0 | BJ100: =IF(Q181<136,0,IF(LOOKUP(Q181,$CD$11:$CD$31,$CC$11:$CC$31)>5,2,IF(LOOKUP(Q181,$CD$11:$CD$31,$CC$11:$CC$31)>2,1,0))) -> 0 | BK100: =IF(Q182<136,0,IF(LOOKUP(Q182,$CD$11:$CD$31,$CC$11:$CC$31)>5,2,IF(LOOKUP(Q182,$CD$11:$CD$31,$CC$11:$CC$31)>2,1,0))) -> 0 | BL100: =IF(Q183<136,0,IF(LOOKUP(Q183,$CD$11:$CD$31,$CC$11:$CC$31)>5,2,IF(LOOKUP(Q183,$CD$11:$CD$31,$CC$11:$CC$31)>2,1,0))) -> 0 | BM100: =IF(Q184<136,0,IF(LOOKUP(Q184,$CD$11:$CD$31,$CC$11:$CC$31)>5,2,IF(LOOKUP(Q184,$CD$11:$CD$31,$CC$11:$CC$31)>2,1,0))) -> 0 | BN100: =IF(Q185<136,0,IF(LOOKUP(Q185,$CD$11:$CD$31,$CC$11:$CC$31)>5,2,IF(LOOKUP(Q185,$CD$11:$CD$31,$CC$11:$CC$31)>2,1,0))) -> 0
B101: Mostri (L0, Add.) ( ) | L101: =IF(Q101<136,0+SUM(U101:AB101)+$L$88,LOOKUP(Q101,$CD$11:$CD$31,$CC$11:$CC$31)+SUM(U101:AB101)+$L$88) -> 0 | Q101: =IF(AD101="",0,N101*AD101) -> 0 | W101: =IF(Principale!$M$42<6,-2,IF(Principale!$M$42<10,-1,IF(Principale!$M$42>15,2,IF(Principale!$M$42>11,1,0)))) -> 0 | AA101: =Principale!$BP$32 -> 0 | AD101: =IF(AF101=0,0,AF101*AH101*AJ101*AL101*AN101*AP101) -> 0 | AN101: =Principale!$BI$42 -> 1 | AP101: =IF(Principale!$BI$40<1,Principale!$BI$40+0.1,IF(Principale!$BI$40>1,Principale!$BI$40-0.1,Principale!$BI$40)) -> 1 | AS101: =SUM(AU101:BB101) -> 3 | AU101: =IF(Principale!$M$42<9,1,IF(Principale!$M$42>15,5,IF(Principale!$M$42>12,4,IF(Principale!$M$42>10,3,2)))) -> 2 | AW101: =IF(AJ101<0.8,1,IF(AJ101>1.2,5,IF(AJ101>1,4,IF(AJ101>0.8,3,2)))) -> 1
B102: Mostri (L0, Add.) ( ) | L102: =IF(Q102<136,0+SUM(U102:AB102)+$L$88,LOOKUP(Q102,$CD$11:$CD$31,$CC$11:$CC$31)+SUM(U102:AB102)+$L$88) -> 0 | Q102: =IF(AD102="",0,N102*AD102) -> 0 | W102: =IF(Principale!$M$42<6,-2,IF(Principale!$M$42<10,-1,IF(Principale!$M$42>15,2,IF(Principale!$M$42>11,1,0)))) -> 0 | AA102: =Principale!$BP$32 -> 0 | AD102: =IF(AF102=0,0,AF102*AH102*AJ102*AL102*AN102*AP102) -> 0 | AN102: =Principale!$BI$42 -> 1 | AP102: =IF(Principale!$BI$40<1,Principale!$BI$40+0.1,IF(Principale!$BI$40>1,Principale!$BI$40-0.1,Principale!$BI$40)) -> 1 | AS102: =SUM(AU102:BB102) -> 3 | AU102: =IF(Principale!$M$42<9,1,IF(Principale!$M$42>15,5,IF(Principale!$M$42>12,4,IF(Principale!$M$42>10,3,2)))) -> 2 | AW102: =IF(AJ102<0.8,1,IF(AJ102>1.2,5,IF(AJ102>1,4,IF(AJ102>0.8,3,2)))) -> 1
B103: Mostri (L0, Add.) ( ) | L103: =IF(Q103<136,0+SUM(U103:AB103)+$L$88,LOOKUP(Q103,$CD$11:$CD$31,$CC$11:$CC$31)+SUM(U103:AB103)+$L$88) -> 0 | Q103: =IF(AD103="",0,N103*AD103) -> 0 | W103: =IF(Principale!$M$42<6,-2,IF(Principale!$M$42<10,-1,IF(Principale!$M$42>15,2,IF(Principale!$M$42>11,1,0)))) -> 0 | AA103: =Principale!$BP$32 -> 0 | AD103: =IF(AF103=0,0,AF103*AH103*AJ103*AL103*AN103*AP103) -> 0 | AN103: =Principale!$BI$42 -> 1 | AP103: =IF(Principale!$BI$40<1,Principale!$BI$40+0.1,IF(Principale!$BI$40>1,Principale!$BI$40-0.1,Principale!$BI$40)) -> 1 | AS103: =SUM(AU103:BB103) -> 3 | AU103: =IF(Principale!$M$42<9,1,IF(Principale!$M$42>15,5,IF(Principale!$M$42>12,4,IF(Principale!$M$42>10,3,2)))) -> 2 | AW103: =IF(AJ103<0.8,1,IF(AJ103>1.2,5,IF(AJ103>1,4,IF(AJ103>0.8,3,2)))) -> 1
B104: Pietre e metalli (L0, Add.) | L104: =IF(Q104<136,0+SUM(U104:AB104)+$L$88,LOOKUP(Q104,$CD$11:$CD$31,$CC$11:$CC$31)+SUM(U104:AB104)+$L$88) -> 0 | Q104: =IF(AD104="",0,N104*AD104) -> 0 | W104: =IF(Principale!$M$42<6,-2,IF(Principale!$M$42<10,-1,IF(Principale!$M$42>15,2,IF(Principale!$M$42>11,1,0)))) -> 0 | Y104: =BI104 -> 0 | AA104: =Principale!$BP$32 -> 0 | AD104: =IF(AF104=0,0,AF104*AH104*AJ104*AL104*AN104*AP104) -> 0 | AN104: =Principale!$BI$42 -> 1 | AP104: =IF(Principale!$BI$40<1,Principale!$BI$40+0.1,IF(Principale!$BI$40>1,Principale!$BI$40-0.1,Principale!$BI$40)) -> 1 | AS104: =SUM(AU104:BB104) -> 3 | AU104: =IF(Principale!$M$42<9,1,IF(Principale!$M$42>15,5,IF(Principale!$M$42>12,4,IF(Principale!$M$42>10,3,2)))) -> 2 | AW104: =IF(AJ104<0.8,1,IF(AJ104>1.2,5,IF(AJ104>1,4,IF(AJ104>0.8,3,2)))) -> 1 | BI104: =IF(SUM(BJ104:CA104)>2,2,SUM(BJ104:CA104)) -> 0 | BJ104: =IF(Q61<136,0,IF(LOOKUP(Q61,$CD$11:$CD$31,$CC$11:$CC$31)>5,2,IF(LOOKUP(Q61,$CD$11:$CD$31,$CC$11:$CC$31)>2,1,0))) -> 0 | BK104: =IF(Q64<136,0,IF(LOOKUP(Q64,$CD$11:$CD$31,$CC$11:$CC$31)>5,2,IF(LOOKUP(Q64,$CD$11:$CD$31,$CC$11:$CC$31)>2,1,0))) -> 0 | BL104: =IF(Q67<136,0,IF(LOOKUP(Q67,$CD$11:$CD$31,$CC$11:$CC$31)>5,2,IF(LOOKUP(Q67,$CD$11:$CD$31,$CC$11:$CC$31)>2,1,0))) -> 0 | BM104: =IF(Q68<136,0,IF(LOOKUP(Q68,$CD$11:$CD$31,$CC$11:$CC$31)>5,2,IF(LOOKUP(Q68,$CD$11:$CD$31,$CC$11:$CC$31)>2,1,0))) -> 0 | BN104: =IF(Q69<136,0,IF(LOOKUP(Q69,$CD$11:$CD$31,$CC$11:$CC$31)>5,2,IF(LOOKUP(Q69,$CD$11:$CD$31,$CC$11:$CC$31)>2,1,0))) -> 0 | BO104: =IF(Q70<136,0,IF(LOOKUP(Q70,$CD$11:$CD$31,$CC$11:$CC$31)>5,2,IF(LOOKUP(Q70,$CD$11:$CD$31,$CC$11:$CC$31)>2,1,0))) -> 0 | BP104: =IF(Q71<136,0,IF(LOOKUP(Q71,$CD$11:$CD$31,$CC$11:$CC$31)>5,2,IF(LOOKUP(Q71,$CD$11:$CD$31,$CC$11:$CC$31)>2,1,0))) -> 0 | BQ104: =IF(Q72<136,0,IF(LOOKUP(Q72,$CD$11:$CD$31,$CC$11:$CC$31)>5,2,IF(LOOKUP(Q72,$CD$11:$CD$31,$CC$11:$CC$31)>2,1,0))) -> 0 | BR104: =IF(Q73<136,0,IF(LOOKUP(Q73,$CD$11:$CD$31,$CC$11:$CC$31)>5,2,IF(LOOKUP(Q73,$CD$11:$CD$31,$CC$11:$CC$31)>2,1,0))) -> 0 | BS104: =IF(Q74<136,0,IF(LOOKUP(Q74,$CD$11:$CD$31,$CC$11:$CC$31)>5,2,IF(LOOKUP(Q74,$CD$11:$CD$31,$CC$11:$CC$31)>2,1,0))) -> 0 | BT104: =IF(Q75<136,0,IF(LOOKUP(Q75,$CD$11:$CD$31,$CC$11:$CC$31)>5,2,IF(LOOKUP(Q75,$CD$11:$CD$31,$CC$11:$CC$31)>2,1,0))) -> 0 | BU104: =IF(Q76<136,0,IF(LOOKUP(Q76,$CD$11:$CD$31,$CC$11:$CC$31)>5,2,IF(LOOKUP(Q76,$CD$11:$CD$31,$CC$11:$CC$31)>2,1,0))) -> 0 | BV104: =IF(Q77<136,0,IF(LOOKUP(Q77,$CD$11:$CD$31,$CC$11:$CC$31)>5,2,IF(LOOKUP(Q77,$CD$11:$CD$31,$CC$11:$CC$31)>2,1,0))) -> 0 | BW104: =IF(Q78<136,0,IF(LOOKUP(Q78,$CD$11:$CD$31,$CC$11:$CC$31)>5,2,IF(LOOKUP(Q78,$CD$11:$CD$31,$CC$11:$CC$31)>2,1,0))) -> 0
B105: Storia (L0, Add.) ( ) | L105: =IF(Q105<136,0+SUM(U105:AB105)+$L$88,LOOKUP(Q105,$CD$11:$CD$31,$CC$11:$CC$31)+SUM(U105:AB105)+$L$88) -> 0 | Q105: =IF(AD105="",0,N105*AD105) -> 0 | W105: =IF(Principale!$M$42<6,-2,IF(Principale!$M$42<10,-1,IF(Principale!$M$42>15,2,IF(Principale!$M$42>11,1,0)))) -> 0 | AA105: =Principale!$BP$32 -> 0 | AD105: =IF(AF105=0,0,AF105*AH105*AJ105*AL105*AN105*AP105) -> 0 | AN105: =Principale!$BI$42 -> 1 | AP105: =IF(Principale!$BI$40<1,Principale!$BI$40+0.1,IF(Principale!$BI$40>1,Principale!$BI$40-0.1,Principale!$BI$40)) -> 1 | AS105: =SUM(AU105:BB105) -> 3 | AU105: =IF(Principale!$M$42<9,1,IF(Principale!$M$42>15,5,IF(Principale!$M$42>12,4,IF(Principale!$M$42>10,3,2)))) -> 2 | AW105: =IF(AJ105<0.8,1,IF(AJ105>1.2,5,IF(AJ105>1,4,IF(AJ105>0.8,3,2)))) -> 1
B106: Storia (L0, Add.) ( ) | L106: =IF(Q106<136,0+SUM(U106:AB106)+$L$88,LOOKUP(Q106,$CD$11:$CD$31,$CC$11:$CC$31)+SUM(U106:AB106)+$L$88) -> 0 | Q106: =IF(AD106="",0,N106*AD106) -> 0 | W106: =IF(Principale!$M$42<6,-2,IF(Principale!$M$42<10,-1,IF(Principale!$M$42>15,2,IF(Principale!$M$42>11,1,0)))) -> 0 | AA106: =Principale!$BP$32 -> 0 | AD106: =IF(AF106=0,0,AF106*AH106*AJ106*AL106*AN106*AP106) -> 0 | AN106: =Principale!$BI$42 -> 1 | AP106: =IF(Principale!$BI$40<1,Principale!$BI$40+0.1,IF(Principale!$BI$40>1,Principale!$BI$40-0.1,Principale!$BI$40)) -> 1 | AS106: =SUM(AU106:BB106) -> 3 | AU106: =IF(Principale!$M$42<9,1,IF(Principale!$M$42>15,5,IF(Principale!$M$42>12,4,IF(Principale!$M$42>10,3,2)))) -> 2 | AW106: =IF(AJ106<0.8,1,IF(AJ106>1.2,5,IF(AJ106>1,4,IF(AJ106>0.8,3,2)))) -> 1
B107: Storia (L0, Add.) ( ) | L107: =IF(Q107<136,0+SUM(U107:AB107)+$L$88,LOOKUP(Q107,$CD$11:$CD$31,$CC$11:$CC$31)+SUM(U107:AB107)+$L$88) -> 0 | Q107: =IF(AD107="",0,N107*AD107) -> 0 | W107: =IF(Principale!$M$42<6,-2,IF(Principale!$M$42<10,-1,IF(Principale!$M$42>15,2,IF(Principale!$M$42>11,1,0)))) -> 0 | AA107: =Principale!$BP$32 -> 0 | AD107: =IF(AF107=0,0,AF107*AH107*AJ107*AL107*AN107*AP107) -> 0 | AN107: =Principale!$BI$42 -> 1 | AP107: =IF(Principale!$BI$40<1,Principale!$BI$40+0.1,IF(Principale!$BI$40>1,Principale!$BI$40-0.1,Principale!$BI$40)) -> 1 | AS107: =SUM(AU107:BB107) -> 3 | AU107: =IF(Principale!$M$42<9,1,IF(Principale!$M$42>15,5,IF(Principale!$M$42>12,4,IF(Principale!$M$42>10,3,2)))) -> 2 | AW107: =IF(AJ107<0.8,1,IF(AJ107>1.2,5,IF(AJ107>1,4,IF(AJ107>0.8,3,2)))) -> 1
B108: Natura (L0, Add.) | L108: =IF(Q108<136,0+SUM(U108:AB108)+$L$88,LOOKUP(Q108,$CD$11:$CD$31,$CC$11:$CC$31)+SUM(U108:AB108)+$L$88) -> 0 | Q108: =IF(AD108="",0,N108*AD108) -> 0 | W108: =IF(Principale!$M$42<6,-2,IF(Principale!$M$42<10,-1,IF(Principale!$M$42>15,2,IF(Principale!$M$42>11,1,0)))) -> 0 | Y108: =BI108 -> 0 | AA108: =Principale!$BP$32 -> 0 | AD108: =IF(AF108=0,0,AF108*AH108*AJ108*AL108*AN108*AP108) -> 0 | AN108: =Principale!$BI$42 -> 1 | AP108: =IF(Principale!$BI$40<1,Principale!$BI$40+0.1,IF(Principale!$BI$40>1,Principale!$BI$40-0.1,Principale!$BI$40)) -> 1 | AS108: =SUM(AU108:BB108) -> 3 | AU108: =IF(Principale!$M$42<9,1,IF(Principale!$M$42>15,5,IF(Principale!$M$42>12,4,IF(Principale!$M$42>10,3,2)))) -> 2 | AW108: =IF(AJ108<0.8,1,IF(AJ108>1.2,5,IF(AJ108>1,4,IF(AJ108>0.8,3,2)))) -> 1 | BI108: =IF(SUM(BJ108:CA108)>2,2,SUM(BJ108:CA108)) -> 0 | BJ108: =IF(Q120<136,0,IF(LOOKUP(Q120,$CD$11:$CD$31,$CC$11:$CC$31)>5,2,IF(LOOKUP(Q120,$CD$11:$CD$31,$CC$11:$CC$31)>2,1,0))) -> 0
B109: Trinità (L0) | L109: =IF(Q109<136,0+SUM(U109:AB109)+$L$88,LOOKUP(Q109,$CD$11:$CD$31,$CC$11:$CC$31)+SUM(U109:AB109)+$L$88) -> 0 | Q109: =IF(AD109="",0,N109*AD109) -> 0 | W109: =IF(Principale!$M$42<6,-2,IF(Principale!$M$42<10,-1,IF(Principale!$M$42>15,2,IF(Principale!$M$42>11,1,0)))) -> 0 | Y109: =BI109 -> 0 | AA109: =Principale!$BP$32 -> 0 | AD109: =IF(AF109=0,0,AF109*AH109*AJ109*AL109*AN109*AP109) -> 0 | AN109: =Principale!$BI$42 -> 1 | AP109: =IF(Principale!$BI$40<1,Principale!$BI$40+0.1,IF(Principale!$BI$40>1,Principale!$BI$40-0.1,Principale!$BI$40)) -> 1 | AS109: =SUM(AU109:BB109) -> 3 | AU109: =IF(Principale!$M$42<9,1,IF(Principale!$M$42>15,5,IF(Principale!$M$42>12,4,IF(Principale!$M$42>10,3,2)))) -> 2 | AW109: =IF(AJ109<0.8,1,IF(AJ109>1.2,5,IF(AJ109>1,4,IF(AJ109>0.8,3,2)))) -> 1 | BI109: =IF(SUM(BJ109:CA109)>2,2,SUM(BJ109:CA109)) -> 0 | BJ109: =IF(Q125<136,0,IF(LOOKUP(Q125,$CD$11:$CD$31,$CC$11:$CC$31)>5,2,IF(LOOKUP(Q125,$CD$11:$CD$31,$CC$11:$CC$31)>2,1,0))) -> 0 | BK109: =IF(Q126<136,0,IF(LOOKUP(Q126,$CD$11:$CD$31,$CC$11:$CC$31)>5,2,IF(LOOKUP(Q126,$CD$11:$CD$31,$CC$11:$CC$31)>2,1,0))) -> 0 | BL109: =IF(Q127<136,0,IF(LOOKUP(Q127,$CD$11:$CD$31,$CC$11:$CC$31)>5,2,IF(LOOKUP(Q127,$CD$11:$CD$31,$CC$11:$CC$31)>2,1,0))) -> 0 | BM109: =IF(Q128<136,0,IF(LOOKUP(Q128,$CD$11:$CD$31,$CC$11:$CC$31)>5,2,IF(LOOKUP(Q128,$CD$11:$CD$31,$CC$11:$CC$31)>2,1,0))) -> 0 | BN109: =IF(Q129<136,0,IF(LOOKUP(Q129,$CD$11:$CD$31,$CC$11:$CC$31)>5,2,IF(LOOKUP(Q129,$CD$11:$CD$31,$CC$11:$CC$31)>2,1,0))) -> 0
B111: DEDUZIONE (Itu, Int) | L111: =IF(Principale!$E$98=Abilità!B111,2,IF(Principale!$Q$98=Abilità!B111,2,IF(Principale!$AC$98=Abilità!B111,1,IF(Principale!$AO$98=Abilità!B111,1,0)))) -> 0 | N111: Bonus GA Innato
...

Sheet Equipaggiamento
B1: Equipaggiamento del personaggio
B3: Movimento base | I3: 9 | L3: PESO | N3: =SUM(AB12:AD88)+Principale!AB71+Principale!AR63+SUM(Principale!AU80:AV92) -> 0 | P3: Kg | R3: INDICE DI INGOMBRO (ING) | Z3: =Principale!$M$32+FLOOR((Principale!$M$46)/2,1)+Principale!BP42 -> 15 | AC3: CARICO | AF3: =IF(N3>AW7,"Eccessivo",IF(N3>AQ7,"Massimo",IF(N3>AK7,"Medio 5",IF(N3>AE7,"Medio 4",IF(N3>Y7,"Medio 3",IF(N3>S7,"Medio 2",IF(N3>M7,"Medio 1","Leggero"))))))) -> Leggero | AJ3: PENALITÀ PROVE/MOV. | AQ3: =IF(N3>AQ7,AY7,IF(N3>AK7,AS7,IF(N3>AE7,AM7,IF(N3>Y7,AG7,IF(N3>S7,AA7,IF(N3>M7,U7,0)))))) -> 0 | AS3: / | AT3: =IF(N3>AW7,-1*BA3,IF(N3>AQ7,-1*(BA3-BA7),IF(N3>AK7,-1*(BA3-AU7),IF(N3>AE7,-1*(BA3-AO7),IF(N3>Y7,-1*(BA3-AI7),IF(N3>S7,-1*(BA3-AC7),IF(N3>M7,-1*(BA3-W7),0))))))) -> 0 | AW3: MOVIMENTO | BA3: =I3+FLOOR(Principale!M36/2,1) -> 14
M5: LEGGERO | S5: MEDIO 1 | Y5: MEDIO 2 | AE5: MEDIO 3 | AK5: MEDIO 4 | AQ5: MEDIO 5 | AW5: MASSIMO
M6: Limite | O6: P. Prove | Q6: Mov. | S6: Limite | U6: P. Prove | W6: Mov. | Y6: Limite | AA6: P. Prove | AC6: Mov. | AE6: Limite | AG6: P. Prove | AI6: Mov. | AK6: Limite | AM6: P. Prove | AO6: Mov. | AQ6: Limite | AS6: P. Prove | AU6: Mov. | AW6: Limite | AY6: P. Prove | BA6: Mov.
B7: LIMITI DI CARICO E PENALITÀ | M7: =VLOOKUP($Z$3,BJ12:BY42,3) -> 13 | O7: 0 | Q7: =VLOOKUP($BA$3,CA12:CP40,3) -> 14 | S7: =VLOOKUP($Z$3,BJ12:BY42,5) -> 19.7 | U7: -1 | W7: =VLOOKUP($BA$3,CA12:CP40,5) -> 13 | Y7: =VLOOKUP($Z$3,BJ12:BY42,7) -> 26 | AA7: -2 | AC7: =VLOOKUP($BA$3,CA12:CP40,7) -> 10 | AE7: =VLOOKUP($Z$3,BJ12:BY42,9) -> 34.2 | AG7: -3 | AI7: =VLOOKUP($BA$3,CA12:CP40,9) -> 8 | AK7: =VLOOKUP($Z$3,BJ12:BY42,11) -> 43.3 | AM7: -4 | AO7: =VLOOKUP($BA$3,CA12:CP40,11) -> 6 | AQ7: =VLOOKUP($Z$3,BJ12:BY42,13) -> 55.1 | AS7: -6 | AU7: =VLOOKUP($BA$3,CA12:CP40,13) -> 4 | AW7: =VLOOKUP($Z$3,BJ12:BY42,15) -> 65 | AY7: -8 | BA7: =VLOOKUP($BA$3,CA12:CP40,15) -> 2
B9: OGGETTO | S9: N° | U9: Contenitore | Y9: Peso | BJ9: ING | BL9: Carico | CA9: MOV | CC9: Carico
Y10: SINGOLO | AB10: TOTALE | BL10: Leg | BN10: M1 | BP10: M2 | BR10: M3 | BT10: M4 | BV10: M5 | BX10: Max | CC10: Leg | CE10: M1 | CG10: M2 | CI10: M3 | CK10: M4 | CM10: M5 | CO10: Max
AB12: =IF(S12="",0,IF(S12=0,0,Y12*S12)) -> 0 | AF12: Monete e gemme | BJ12: 8 | BL12: 3 | BN12: 4.5 | BP12: 6 | BR12: 7.9 | BT12: 10 | BV12: 12.7 | BX12: 15 | CA12: 10 | CC12: 10 | CE12: 9 | CG12: 7 | CI12: 6 | CK12: 4 | CM12: 3 | CO12: 2
BJ13: 9 | BL13: 4 | BN13: 6 | BP13: 8 | BR13: 10.5 | BT13: 13.3 | BV13: 17 | BX13: 20 | CA13: 11 | CC13: 11 | CE13: 10 | CG13: 8 | CI13: 7 | CK13: 5 | CM13: 3 | CO13: 2
AB14: =IF(S14="",0,IF(S14=0,0,Y14*S14)) -> 0 | BJ14: 10 | BL14: 5 | BN14: 7.6 | BP14: 10 | BR14: 13.2 | BT14: 16.7 | BV14: 21.2 | BX14: 25 | CA14: 12 | CC14: 12 | CE14: 11 | CG14: 9 | CI14: 7 | CK14: 5 | CM14: 4 | CO14: 2
BJ15: 11 | BL15: 6.6 | BN15: 10 | BP15: 13.2 | BR15: 17.4 | BT15: 22 | BV15: 28 | BX15: 33 | CA15: 13 | CC15: 13 | CE15: 12 | CG15: 10 | CI15: 8 | CK15: 6 | CM15: 4 | CO15: 2
AB16: =IF(S16="",0,IF(S16=0,0,Y16*S16)) -> 0 | AF16: Corona (Co) | AL16: Denario (De) | AR16: Scudo (Sc) | AX16: Soldo (So) | BJ16: 12 | BL16: 8.2 | BN16: 12.4 | BP16: 16.4 | BR16: 21.6 | BT16: 27.3 | BV16: 34.7 | BX16: 41 | CA16: 14 | CC16: 14 | CE16: 13 | CG16: 10 | CI16: 8 | CK16: 6 | CM16: 4 | CO16: 2
BJ17: 13 | BL17: 9.8 | BN17: 14.8 | BP17: 19.6 | BR17: 25.8 | BT17: 32.7 | BV17: 41.5 | BX17: 49 | CA17: 15 | CC17: 15 | CE17: 13 | CG17: 11 | CI17: 9 | CK17: 7 | CM17: 4 | CO17: 2
AB18: =IF(S18="",0,IF(S18=0,0,Y18*S18)) -> 0 | BJ18: 14 | BL18: 11.4 | BN18: 17.3 | BP18: 22.8 | BR18: 30 | BT18: 38 | BV18: 48.3 | BX18: 57 | CA18: 16 | CC18: 16 | CE18: 14 | CG18: 12 | CI18: 10 | CK18: 7 | CM18: 5 | CO18: 2
BJ19: 15 | BL19: 13 | BN19: 19.7 | BP19: 26 | BR19: 34.2 | BT19: 43.3 | BV19: 55.1 | BX19: 65 | CA19: 17 | CC19: 17 | CE19: 15 | CG19: 13 | CI19: 10 | CK19: 8 | CM19: 5 | CO19: 3
AB20: =IF(S20="",0,IF(S20=0,0,Y20*S20)) -> 0 | BJ20: 16 | BL20: 14.6 | BN20: 22.1 | BP20: 29.2 | BR20: 38.4 | BT20: 48.7 | BV20: 61.9 | BX20: 73 | CA20: 18 | CC20: 18 | CE20: 16 | CG20: 13 | CI20: 11 | CK20: 8 | CM20: 5 | CO20: 3
BJ21: 17 | BL21: 16.2 | BN21: 24.5 | BP21: 32.4 | BR21: 42.6 | BT21: 54 | BV21: 68.6 | BX21: 81 | CA21: 19 | CC21: 19 | CE21: 17 | CG21: 14 | CI21: 11 | CK21: 9 | CM21: 6 | CO21: 3
AB22: =IF(S22="",0,IF(S22=0,0,Y22*S22)) -> 0 | BJ22: 18 | BL22: 17.8 | BN22: 27 | BP22: 35.6 | BR22: 46.8 | BT22: 59.3 | BV22: 75.4 | BX22: 89 | CA22: 20 | CC22: 20 | CE22: 18 | CG22: 15 | CI22: 12 | CK22: 9 | CM22: 6 | CO22: 3
BJ23: 19 | BL23: 19.4 | BN23: 29.4 | BP23: 38.8 | BR23: 51.1 | BT23: 64.7 | BV23: 82.2 | BX23: 97 | CA23: 21 | CC23: 21 | CE23: 19 | CG23: 16 | CI23: 13 | CK23: 9 | CM23: 6 | CO23: 3
AB24: =IF(S24="",0,IF(S24=0,0,Y24*S24)) -> 0 | AF24: 1 Corona = 10 Denarii = 200 Scudi = 2000 Soldi | BJ24: 20 | BL24: 21.2 | BN24: 32.1 | BP24: 42.4 | BR24: 55.8 | BT24: 70.7 | BV24: 89.8 | BX24: 106 | CA24: 22 | CC24: 22 | CE24: 20 | CG24: 16 | CI24: 13 | CK24: 10 | CM24: 7 | CO24: 3
BJ25: 21 | BL25: 23 | BN25: 34.8 | BP25: 46 | BR25: 60.5 | BT25: 76.7 | BV25: 97.5 | BX25: 115 | CA25: 23 | CC25: 23 | CE25: 21 | CG25: 17 | CI25: 14 | CK25: 10 | CM25: 7 | CO25: 3
AB26: =IF(S26="",0,IF(S26=0,0,Y26*S26)) -> 0 | AF26: Sigle contenitori | BJ26: 22 | BL26: 24.6 | BN26: 37.3 | BP26: 49.2 | BR26: 64.7 | BT26: 82 | BV26: 104.2 | BX26: 123 | CA26: 24 | CC26: 24 | CE26: 22 | CG26: 18 | CI26: 14 | CK26: 11 | CM26: 7 | CO26: 4
BJ27: 23 | BL27: 26.6 | BN27: 40.3 | BP27: 53.2 | BR27: 70 | BT27: 88.7 | BV27: 112.7 | BX27: 133 | CA27: 25 | CC27: 25 | CE27: 22 | CG27: 19 | CI27: 15 | CK27: 11 | CM27: 7 | CO27: 4
AB28: =IF(S28="",0,IF(S28=0,0,Y28*S28)) -> 0 | BJ28: 24 | BL28: 28.4 | BN28: 43 | BP28: 56.8 | BR28: 74.7 | BT28: 94.7 | BV28: 120.3 | BX28: 142 | CA28: 26 | CC28: 26 | CE28: 23 | CG28: 19 | CI28: 16 | CK28: 12 | CM28: 8 | CO28: 4
BJ29: 25 | BL29: 30.2 | BN29: 45.8 | BP29: 60.4 | BR29: 79.5 | BT29: 100.7 | BV29: 128 | BX29: 151 | CA29: 27 | CC29: 27 | CE29: 24 | CG29: 20 | CI29: 16 | CK29: 12 | CM29: 8 | CO29: 4
AB30: =IF(S30="",0,IF(S30=0,0,Y30*S30)) -> 0 | AF30: Zaino | AL30: Z | AN30: Borsa da cintura | AT30: C | AV30: Bandoliera | BB30: B | BJ30: 26 | BL30: 32 | BN30: 48.5 | BP30: 64 | BR30: 84.2 | BT30: 106.7 | BV30: 135.6 | BX30: 160 | CA30: 28 | CC30: 28 | CE30: 25 | CG30: 21 | CI30: 17 | CK30: 13 | CM30: 8 | CO30: 4
BJ31: 27 | BL31: 34 | BN31: 51.5 | BP31: 68 | BR31: 89.5 | BT31: 113.3 | BV31: 144.1 | BX31: 170 | CA31: 29 | CC31: 29 | CE31: 26 | CG31: 22 | CI31: 17 | CK31: 13 | CM31: 9 | CO31: 4
AB32: =IF(S32="",0,IF(S32=0,0,Y32*S32)) -> 0 | AF32: Sacchi | AL32: S | AN32: Borsa cavallo | AT32: V | AV32: Cintura delle pozioni | BB32: P | BJ32: 28 | BL32: 36 | BN32: 54.5 | BP32: 72 | BR32: 94.7 | BT32: 120 | BV32: 152.5 | BX32: 180 | CA32: 30 | CC32: 30 | CE32: 27 | CG32: 22 | CI32: 18 | CK32: 13 | CM32: 9 | CO32: 4
BJ33: 29 | BL33: 38 | BN33: 57.6 | BP33: 76 | BR33: 100 | BT33: 126.7 | BV33: 161 | BX33: 190 | CA33: 31 | CC33: 31 | CE33: 28 | CG33: 23 | CI33: 19 | CK33: 14 | CM33: 9 | CO33: 5
AB34: =IF(S34="",0,IF(S34=0,0,Y34*S34)) -> 0 | BJ34: 30 | BL34: 40 | BN34: 60.6 | BP34: 80 | BR34: 105.3 | BT34: 133.3 | BV34: 169.5 | BX34: 200 | CA34: 32 | CC34: 32 | CE34: 29 | CG34: 24 | CI34: 19 | CK34: 14 | CM34: 10 | CO34: 5
BJ35: 31 | BL35: 42.4 | BN35: 64.2 | BP35: 84.8 | BR35: 111.6 | BT35: 141.3 | BV35: 179.7 | BX35: 212 | CA35: 33 | CC35: 33 | CE35: 30 | CG35: 25 | CI35: 20 | CK35: 15 | CM35: 10 | CO35: 5
AB36: =IF(S36="",0,IF(S36=0,0,Y36*S36)) -> 0 | BJ36: 32 | BL36: 44.8 | BN36: 67.9 | BP36: 89.6 | BR36: 117.9 | BT36: 149.3 | BV36: 189.8 | BX36: 224 | CA36: 34 | CC36: 34 | CE36: 31 | CG36: 25 | CI36: 20 | CK36: 15 | CM36: 10 | CO36: 5
BJ37: 33 | BL37: 47.2 | BN37: 71.5 | BP37: 94.4 | BR37: 124.2 | BT37: 157.3 | BV37: 200 | BX37: 236 | CA37: 35 | CC37: 35 | CE37: 31 | CG37: 26 | CI37: 21 | CK37: 16 | CM37: 10 | CO37: 5
AB38: =IF(S38="",0,IF(S38=0,0,Y38*S38)) -> 0 | BJ38: 34 | BL38: 49.6 | BN38: 75.2 | BP38: 99.2 | BR38: 130.5 | BT38: 165.3 | BV38: 210.2 | BX38: 248 | CA38: 36 | CC38: 36 | CE38: 32 | CG38: 27 | CI38: 22 | CK38: 16 | CM38: 11 | CO38: 5
BJ39: 35 | BL39: 52 | BN39: 78.8 | BP39: 104 | BR39: 136.8 | BT39: 173.3 | BV39: 220.3 | BX39: 260 | CA39: 37 | CC39: 37 | CE39: 33 | CG39: 28 | CI39: 22 | CK39: 17 | CM39: 11 | CO39: 6
AB40: =IF(S40="",0,IF(S40=0,0,Y40*S40)) -> 0 | BJ40: 36 | BL40: 55 | BN40: 83.3 | BP40: 110 | BR40: 144.7 | BT40: 183.3 | BV40: 233.1 | BX40: 275 | CA40: 38 | CC40: 38 | CE40: 34 | CG40: 28 | CI40: 23 | CK40: 17 | CM40: 11 | CO40: 6
BJ41: 37 | BL41: 58 | BN41: 87.9 | BP41: 116 | BR41: 152.6 | BT41: 193.3 | BV41: 245.8 | BX41: 290
AB42: =IF(S42="",0,IF(S42=0,0,Y42*S42)) -> 0 | BJ42: 38 | BL42: 61 | BN42: 92.4 | BP42: 122 | BR42: 160.5 | BT42: 203.3 | BV42: 258.5 | BX42: 305
AB44: =IF(S44="",0,IF(S44=0,0,Y44*S44)) -> 0
AB46: =IF(S46="",0,IF(S46=0,0,Y46*S46)) -> 0
AB48: =IF(S48="",0,IF(S48=0,0,Y48*S48)) -> 0
AB50: =IF(S50="",0,IF(S50=0,0,Y50*S50)) -> 0
AB52: =IF(S52="",0,IF(S52=0,0,Y52*S52)) -> 0
AB54: =IF(S54="",0,IF(S54=0,0,Y54*S54)) -> 0
AB56: =IF(S56="",0,IF(S56=0,0,Y56*S56)) -> 0
AB58: =IF(S58="",0,IF(S58=0,0,Y58*S58)) -> 0
AB60: =IF(S60="",0,IF(S60=0,0,Y60*S60)) -> 0
AB62: =IF(S62="",0,IF(S62=0,0,Y62*S62)) -> 0
AB64: =IF(S64="",0,IF(S64=0,0,Y64*S64)) -> 0
AB66: =IF(S66="",0,IF(S66=0,0,Y66*S66)) -> 0
AB68: =IF(S68="",0,IF(S68=0,0,Y68*S68)) -> 0 | AF68: Ricette
AB70: =IF(S70="",0,IF(S70=0,0,Y70*S70)) -> 0
AB72: =IF(S72="",0,IF(S72=0,0,Y72*S72)) -> 0 | AF72: NOME RICETTA | AR72: Abilità di artigianato richiesta | AX72: Tempi di lavoro | BA72: CD
AB74: =IF(S74="",0,IF(S74=0,0,Y74*S74)) -> 0
AB76: =IF(S76="",0,IF(S76=0,0,Y76*S76)) -> 0
AB78: =IF(S78="",0,IF(S78=0,0,Y78*S78)) -> 0
AB80: =IF(S80="",0,IF(S80=0,0,Y80*S80)) -> 0
AB82: =IF(S82="",0,IF(S82=0,0,Y82*S82)) -> 0
AB84: =IF(S84="",0,IF(S84=0,0,Y84*S84)) -> 0
AB86: =IF(S86="",0,IF(S86=0,0,Y86*S86)) -> 0
AB88: =IF(S88="",0,IF(S88=0,0,Y88*S88)) -> 0
AB90: =IF(S90="",0,IF(S90=0,0,Y90*S90)) -> 0
AB92: =IF(S92="",0,IF(S92=0,0,Y92*S92)) -> 0
AB94: =IF(S94="",0,IF(S94=0,0,Y94*S94)) -> 0
AB96: =IF(S96="",0,IF(S96=0,0,Y96*S96)) -> 0
... AB114: =IF(S114="",0,IF(S114=0,0,Y114*S114)) -> 0

Sheet Abilità (stampa)
B1: Capacità del personaggio
B3: ABILITÀ | L3: Livello abilità | O3: ABILITÀ | Y3: Livello abilità | AB3: ABILITÀ | AL3: Livello abilità | AO3: ABILITÀ | AY3: Livello abilità
B6: ARMI AD ASTA (For, Rif) | O6: ARTIGIANATO RUNICO (Man, Mem) | AB6: DEDUZIONE (Itu, Int) | AO6: MAGIA DELL'ORDINE (Spi, Int)
B7: Alabarda (L0, Add.) | L7: =Abilità!L11 -> 0 | O7: Artigianato dell'Alterazione (Add.) | Y7: =Abilità!L67 -> 0 | AB7: Ascoltare (L0) | AL7: =Abilità!L112 -> 0 | AO7: Magia dell'Alterazione (Add.) | AY7: =Abilità!L155 -> 0
B8: Bastone ferrato (L0) | L8: =Abilità!L12 -> 0 | O8: Artigianato degli Animali (Add.) | Y8: =Abilità!L68 -> 0 | AB8: Cercare (L0) | AL8: =Abilità!L113 -> 0 | AO8: Magia degli Animali (Add.) | AY8: =Abilità!L156 -> 0
B9: Falce (L0) | L9: =Abilità!L13 -> 0 | O9: Artigianato della Divinazione (Add.) | Y9: =Abilità!L69 -> 0 | AB9: Osservare (L0) | AL9: =Abilità!L114 -> 0 | AO9: Magia della Divinazione (Add.) | AY9: =Abilità!L157 -> 0
B10: Lancia da cavaliere (L0) | L10: =Abilità!L14 -> 0 | O10: Artigianato degli Elementi (Add.) | Y10: =Abilità!L70 -> 0 | AB10: Trovare trappole (L0) | AL10: =Abilità!L115 -> 0 | AO10: Magia degli Elementi (Add.) | AY10: =Abilità!L158 -> 0
B11: Picca (Add.) | L11: =Abilità!L15 -> 0 | O11: Artigianato della Guerra (Add.) | Y11: =Abilità!L71 -> 0 | AB11: Valutare (L0) | AL11: =Abilità!L116 -> 0 | AO11: Magia della Guerra (Add.) | AY11: =Abilità!L159 -> 0
B12: Tridente (L0) | L12: =Abilità!L16 -> 0 | O12: Artigianato della Morte (Add.) | Y12: =Abilità!L72 -> 0 | AB12: ESPLORATORE (Mem, Itu) | AO12: Magia della Morte (Add.) | AY12: =Abilità!L160 -> 0
B13: ARMI CONTUNDENTI (For, Man) | O13: Artigianato della Natura (Add.) | Y13: =Abilità!L73 -> 0 | AB13: Animalista (L0, Add.) | AL13: =Abilità!L119 -> 0 | AO13: Magia della Natura (Add.) | AY13: =Abilità!L161 -> 0
B14: Contundenti piccole (L0) | L14: =Abilità!L19 -> 0 | O14: Artigianato della Ombre (Add.) | Y14: =Abilità!L74 -> 0 | AB14: Naturalista (L0, Add.) | AL14: =Abilità!L120 -> 0 | AO14: Magia delle Ombre (Add.) | AY14: =Abilità!L162 -> 0
B15: Contundenti medie (L0) | L15: =Abilità!L20 -> 0 | O15: Artigianato della Protezione (Add.) | Y15: =Abilità!L75 -> 0 | AB15: Orientamento (L0) | AL15: =Abilità!L121 -> 0 | AO15: Magia della Protezione (Add.) | AY15: =Abilità!L163 -> 0
B16: Contundenti grandi (L0) | L16: =Abilità!L21 -> 0 | O16: Artigianato dello Spirito (Add.) | Y16: =Abilità!L76 -> 0 | AB16: Seguire tracce (L0) | AL16: =Abilità!L122 -> 0 | AO16: Magia dello Spirito (Add.) | AY16: =Abilità!L164 -> 0
B17: ARMI DA LANCIO (Agi, Man) | O17: Artigianato della Vita (Add.) | Y17: =Abilità!L77 -> 0 | AB17: FEDE NELLA TRINITÀ (Car, Spi) | AO17: Magia della Vita (Add.) | AY17: =Abilità!L165 -> 0
B18: Bolas (L0) | L18: =Abilità!L24 -> 0 | O18: Artigianato Universale (Add.) | Y18: =Abilità!L78 -> 0 | AB18: Elemento acqua (Add.) | AL18: =Abilità!L125 -> 0 | AO18: MAGIA DEMONIACA (Spi, Int)
B19: Boomerang | L19: =Abilità!L25 -> 0 | O19: CAPACITÀ FISICHE (For, Cos) | AB19: Elemento fuoco (Add.) | AL19: =Abilità!L126 -> 0 | AO19: Magia Dimensionale (Add.) | AY19: =Abilità!L168 -> 0
B20: Dardi (L0) | L20: =Abilità!L26 -> 0 | O20: Acrobazia* (Agi, For) (L0) | Y20: =Abilità!L81 -> 0 | AB20: Elemento legno (Add.) | AL20: =Abilità!L127 -> 0 | AO20: Magia della Distruzione (Add.) | AY20: =Abilità!L169 -> 0
B21: Generico (L0) | L21: =Abilità!L27 -> 0 | O21: Equilibrio* (Agi, For) (L0) | Y21: =Abilità!L82 -> 0 | AB21: Elemento metallo (Add.) | AL21: =Abilità!L128 -> 0 | AO21: Magia dell'Evocazione (Add.) | AY21: =Abilità!L170 -> 0
B22: Giavellotto (L0) | L22: =Abilità!L28 -> 0 | O22: Lotta* (L0) | Y22: =Abilità!L83 -> 0 | AB22: Elemento terra (Add.) | AL22: =Abilità!L129 -> 0 | AO22: Magia del Fuoco (Add.) | AY22: =Abilità!L171 -> 0
B23: Shuriken (Add.) | L23: =Abilità!L29 -> 0 | O23: Nuotare* (L0) | Y23: =Abilità!L84 -> 0 | AB23: FURTIVITÀ (Agi, Rif) | AO23: MAGIA DI GAIA (Emp, Int)
B24: ARMI DA TIRO (For, Agi) | O24: Saltare* (L0) | Y24: =Abilità!L85 -> 0 | AB24: Falsificare (Man, Int) (L0) | AL24: =Abilità!L132 -> 0 | AO24: Magia dell'Illusione (Add.) | AY24: =Abilità!L174 -> 0
B25: Archi | L25: =Abilità!L32 -> 0 | O25: Scalare* (L0) | Y25: =Abilità!L86 -> 0 | AB25: Manolesta* (L0) | AL25: =Abilità!L133 -> 0 | AO25: Magia delle Maledizioni (Add.) | AY25: =Abilità!L175 -> 0
B26: Balestre (Man, Rif) (L0) | L26: =Abilità!L33 -> 0 | O26: CONOSCENZE (Mem, Int) | AB26: Manomettere congegni (Man, Itu) (L0) | AL26: =Abilità!L134 -> 0 | AO26: Magia della Mente (Add.) | AY26: =Abilità!L176 -> 0
B27: Cerbottana (L0) | L27: =Abilità!L34 -> 0 | O27: Animali (L0, Add.) | Y27: =Abilità!L89 -> 0 | AB27: Muoversi silenziosamente* (L0) | AL27: =Abilità!L135 -> 0 | AO27: Magia della Necromanzia (Add.) | AY27: =Abilità!L177 -> 0
B28: Fionda (L0) | L28: =Abilità!L35 -> 0 | O28: Dimensioni (L0, Add.) | Y28: =Abilità!L90 -> 0 | AB28: Nascondersi* (L0) | AL28: =Abilità!L136 -> 0 | AO28: Magia del Potere (Add.) | AY28: =Abilità!L178 -> 0
B29: ARMI ESOTICHE (Man, For) | O29: Geografia (L0, Add.) ( ) | Y29: =Abilità!L91 -> 0 | AB29: Scassinare (Man, Itu) (L0) | AL29: =Abilità!L137 -> 0 | AO29: MAGIA RUNICA (Spi, Mem)
B30: Catena chiodata (L0) | L30: =Abilità!L38 -> 0 | O30: Geografia (L0, Add.) ( ) | Y30: =Abilità!L92 -> 0 | AB30: INVENTIVA (Int, Itu) | AO30: Trappole Magiche (Add.) | AY30: =Abilità!L181 -> 0
B31: Frusta (Add.) | L31: =Abilità!L39 -> 0 | O31: Geografia (L0, Add.) ( ) | Y31: =Abilità!L93 -> 0 | AB31: Inventare armature (L0) | AL31: =Abilità!L140 -> 0 | AO31: Magia della Terra (Add.) | AY31: =Abilità!L182 -> 0
B32: Mano artigliata (L0) | L32: =Abilità!L40 -> 0 | O32: Locali (L0, Add.) ( ) | Y32: =Abilità!L94 -> 0 | AB32: Inventare armi (L0) | AL32: =Abilità!L141 -> 0 | AO32: Magia della Difesa (Add.) | AY32: =Abilità!L183 -> 0
B33: Mazzafrusto (L0) | L33: =Abilità!L41 -> 0 | O33: Locali (L0, Add.) ( ) | Y33: =Abilità!L95 -> 0 | AB33: Inventare Magie dell'Ordine (L0) | AL33: =Abilità!L142 -> 0 | AO33: Magia della Sapere (Add.) | AY33: =Abilità!L184 -> 0
B34: Rete (L0) | L34: =Abilità!L42 -> 0 | O34: Locali (L0, Add.) ( ) | Y34: =Abilità!L96 -> 0 | AB34: Inventare Magie Demoniache (L0) | AL34: =Abilità!L143 -> 0 | AO34: Rune ithildin (Add.) | AY34: =Abilità!L185 -> 0
B35: Scudo chiodato (For, Man) (L0) | L35: =Abilità!L43 -> 0 | O35: Magia dell'Ordine (L0, Add.) | Y35: =Abilità!L97 -> 0 | AB35: Inventare Magie di Gaia (L0) | AL35: =Abilità!L144 -> 0 | AO35: MESTIERI (Int, Man)
B36: ARMI TAGLIENTI (For, Man) | O36: Magia demoniaca (L0) | Y36: =Abilità!L98 -> 0 | AB36: Inventare Magie Runiche (L0) | AL36: =Abilità!L145 -> 0 | AO36: Addestrare animali (Itu, Int) (L0) | AY36: =Abilità!L188 -> 0
B37: Perforanti (Agi, Rif) (L0) | L37: =Abilità!L46 -> 0 | O37: Magia di Gaia (L0) | Y37: =Abilità!L99 -> 0 | AB37: Inventare oggetti in legno (L0) | AL37: =Abilità!L146 -> 0 | AO37: Agricoltore (L0) | AY37: =Abilità!L189 -> 0
B38: Pugnali (L0) | L38: =Abilità!L47 -> 0 | O38: Magia runica (L0) | Y38: =Abilità!L100 -> 0 | AB38: Inventare oggetti in metallo (L0) | AL38: =Abilità!L147 -> 0 | AO38: Cavalcare* (Agi, Rif) (L0) | AY38: =Abilità!L190 -> 0
B39: Spade (L0) | L39: =Abilità!L48 -> 0 | O39: Mostri (L0, Add.) ( ) | Y39: =Abilità!L101 -> 0 | AB39: Inventare oggetti in pietra (L0) | AL39: =Abilità!L148 -> 0 | AO39: Chirurgo* (Add.) | AY39: =Abilità!L191 -> 0
B40: Spadoni (L0) | L40: =Abilità!L49 -> 0 | O40: Mostri (L0, Add.) ( ) | Y40: =Abilità!L102 -> 0 | AB40: Inventare oggetti in tessuto (L0) | AL40: =Abilità!L149 -> 0 | AO40: Giocoliere * (Man, Itu) (L0) | AY40: =Abilità!L192 -> 0
B41: ASCE (For, Man) | O41: Mostri (L0, Add.) ( ) | Y41: =Abilità!L103 -> 0 | AB41: Inventare Pietre Runiche (L0) | AL41: =Abilità!L150 -> 0 | AO41: Guaritore (L0, Add.) | AY41: =Abilità!L193 -> 0
B42: Asce medie (L0) | L42: =Abilità!L52 -> 0 | O42: Pietre e metalli (L0, Add.) | Y42: =Abilità!L104 -> 0 | AB42: Inventare preparati alchemici (L0) | AL42: =Abilità!L151 -> 0 | AO42: Marinaio* (Man, Int) (L0) | AY42: =Abilità!L194 -> 0
B43: Asce grandi (L0) | L43: =Abilità!L53 -> 0 | O43: Storia (L0, Add.) ( ) | Y43: =Abilità!L105 -> 0 | AB43: Inventare veleni (L0) | AL43: =Abilità!L152 -> 0 | AO43: Musicista (Add.) ( ) | AY43: =Abilità!L195 -> 0
B44: ARTIGIANATO (Man, Mem) | O44: Storia (L0, Add.) ( ) | Y44: =Abilità!L106 -> 0 | AO44: Musicista (Add.) ( ) | AY44: =Abilità!L196 -> 0
B45: Alchimia (Add.) | L45: =Abilità!L56 -> 0 | O45: Storia (L0, Add.) ( ) | Y45: =Abilità!L107 -> 0 | AO45: Musicista (Add.) ( ) | AY45: =Abilità!L197 -> 0
B46: Creare trappole (L0, Add.) | L46: =Abilità!L57 -> 0 | O46: Natura (L0, Add.) | Y46: =Abilità!L108 -> 0 | AO46: Pastore (L0) | AY46: =Abilità!L198 -> 0
B47: Creare veleni (Add.) | L47: =Abilità!L58 -> 0 | O47: Trinità (L0) | Y47: =Abilità!L109 -> 0 | AO47: Scrivano (L0) | AY47: =Abilità!L199 -> 0
B48: Forgiare armature (L0, Add.) | L48: =Abilità!L59 -> 0 | AO48: Traduttore (Int, Itu) (Add.) | AY48: =Abilità!L200 -> 0
B49: Forgiare armi (L0, Add.) | L49: =Abilità!L60 -> 0
B50: Lavorare i metalli (L0, Add.) | L50: =Abilità!L61 -> 0 | AO50: SOCIALIZZAZIONE (Car, Itu)
B51: Lavorare i tessuti (L0, Add.) | L51: =Abilità!L62 -> 0 | AO51: Camuffare (L0) | AY51: =Abilità!L203 -> 0
B52: Lavorare il legno (L0, Add.) | L52: =Abilità!L63 -> 0 | AO52: Comprendere intenzioni (Itu, Int) (L0) | AY52: =Abilità!L204 -> 0
B53: Lavorare la pietra (L0, Add.) | L53: =Abilità!L64 -> 0 | AO53: Condottiero (L0) | AY53: =Abilità!L205 -> 0
AO54: Ingannare (L0) | AY54: =Abilità!L206 -> 0
AO56: SPECIALE
AO57: Manipolare sogni (Itu, Mem) (Add.) | AY57: =Abilità!L209 -> 0
AO58: Distruttore demoniaco (Spi, Cos) | AY58: =Abilità!L210 -> 0
B61: Qualità | V61: Lingue conosciute | AF61: Effetti di stato
W63: LINGUA | AC63: GRADO
B64: 1 | C64: =IF(Abilità!C216="","",Abilità!C216) | M64: =IF(Abilità!M216="","",Abilità!M216) | V64: 1 | W64: =Abilità!W216 -> Quenya | AC64: =Abilità!AC216 -> 2 | AF64: 1 | AG64: Affaticato | AN64: =Abilità!AP216 -> NO | AQ64: 8 | AR64: Scosso | AY64: =Abilità!BC216 -> NO
B66: 2 | C66: =IF(Abilità!C218="","",Abilità!C218) | M66: =IF(Abilità!M218="","",Abilità!M218) | V66: 2 | W66: =IF(Abilità!W218="","",Abilità!W218) | AC66: =IF(Abilità!AC218="","",Abilità!AC218) -> 0 | AF66: 2 | AG66: Stremato | AN66: =Abilità!AP218 -> NO | AQ66: 9 | AR66: Impaurito | AY66: =Abilità!BC218 -> NO
B68: 3 | C68: =IF(Abilità!C220="","",Abilità!C220) | M68: =IF(Abilità!M220="","",Abilità!M220) | V68: 3 | W68: =IF(Abilità!W220="","",Abilità!W220) | AC68: =IF(Abilità!AC220="","",Abilità!AC220) -> 0 | AF68: 3 | AG68: Addormentato | AN68: =Abilità!AP220 -> NO | AQ68: 10 | AR68: Terrorizzato | AY68: =Abilità!BC220 -> NO
B70: 4 | C70: =IF(Abilità!C222="","",Abilità!C222) | M70: =IF(Abilità!M222="","",Abilità!M222) | V70: 4 | W70: =IF(Abilità!W222="","",Abilità!W222) | AC70: =IF(Abilità!AC222="","",Abilità!AC222) -> 0 | AF70: 4 | AG70: Cieco | AN70: =Abilità!AP222 -> NO | AQ70: 11 | AR70: Confuso | AY70: =Abilità!BC222 -> NO
B72: 5 | C72: =IF(Abilità!C224="","",Abilità!C224) | M72: =IF(Abilità!M224="","",Abilità!M224) | V72: 5 | W72: =IF(Abilità!W224="","",Abilità!W224) | AC72: =IF(Abilità!AC224="","",Abilità!AC224) -> 0 | AF72: 5 | AG72: Privo di sensi | AN72: =Abilità!AP224 -> NO | AQ72: 12
B74: 6 | C74: =IF(Abilità!C226="","",Abilità!C226) | M74: =IF(Abilità!M226="","",Abilità!M226) | V74: 6 | W74: =IF(Abilità!W226="","",Abilità!W226) | AC74: =IF(Abilità!AC226="","",Abilità!AC226) -> 0 | AF74: 6 | AG74: Sordo | AN74: =Abilità!AP226 -> NO | AQ74: 13
B76: 7 | C76: =IF(Abilità!C228="","",Abilità!C228) | M76: =IF(Abilità!M228="","",Abilità!M228) | V76: 7 | W76: =IF(Abilità!W228="","",Abilità!W228) | AC76: =IF(Abilità!AC228="","",Abilità!AC228) -> 0 | AF76: 7 | AG76: Stordito | AN76: =Abilità!AP228 -> NO | AQ76: 14
B78: 0 | C78: =IF(Abilità!C230="","",Abilità!C230) | M78: =IF(Abilità!M230="","",Abilità!M230)

Sheet C.Razza
K1: Teriano | M1: Reaniano | O1: Valariano | Q1: O. di superficie | S1: O. del sottosuolo | U1: Purosangue | W1: Seconda-stirpe | Y1: ### | AA1: Olba | AC1: Lassemista | AE1: Lótë | AG1: Atan | AI1: Nárë | AK1: ### | AM1: ### | AO1: PERSONALIZZATO
A2: ABILITÀ | K2: UMANO | Q2: OMINUS | U2: MEZZO DEMONE | Y2: DROW | AA2: SILVANO | AG2: DAMPIRI | AK2: ASURA | AM2: MEZZO UMANO | AO2: ###
A5: ARMI AD ASTA (For, Rif)
A6: Alabarda (L0, Add.) | K6: 1 | M6: 0.8 | O6: 1.2 | Q6: 0.8 | S6: 0.8 | U6: 1.1 | W6: 1.1 | Y6: 1.1 | AA6: 1.1 | AC6: 1 | AE6: 1 | AG6: 1 | AI6: 1.1 | AK6: 1.1 | AM6: 0.9
A7: Bastone ferrato (L0) | K7: 1 | M7: 0.8 | O7: 1.1 | Q7: 0.8 | S7: 0.8 | U7: 1.1 | W7: 1.1 | Y7: 1 | AA7: 1.1 | AC7: 1 | AE7: 1.2 | AG7: 1 | AI7: 1.1 | AK7: 1.1 | AM7: 1.1
A8: Falce (L0) | K8: 1 | M8: 0.8 | O8: 1.1 | Q8: 0.8 | S8: 0.8 | U8: 1.1 | W8: 1.1 | Y8: 1 | AA8: 0.7 | AC8: 0.7 | AE8: 0.7 | AG8: 1.2 | AI8: 1.1 | AK8: 1.1 | AM8: 1.2
A9: Lancia da cavaliere (L0) | K9: 1 | M9: 0.8 | O9: 1.1 | Q9: 0.8 | S9: 0.8 | U9: 0.9 | W9: 0.9 | Y9: 1 | AA9: 1.1 | AC9: 1 | AE9: 1 | AG9: 1 | AI9: 1.1 | AK9: 1.1 | AM9: 1.1
A10: Picca (Add.) | K10: 1 | M10: 0.8 | O10: 1.1 | Q10: 0.8 | S10: 0.8 | U10: 1.1 | W10: 1.1 | Y10: 1 | AA10: 1.1 | AC10: 1 | AE10: 1 | AG10: 1 | AI10: 0.9 | AK10: 1.1 | AM10: 1.1
A11: Tridente (L0) | K11: 1 | M11: 0.8 | O11: 1.1 | Q11: 0.8 | S11: 0.8 | U11: 1.1 | W11: 1.1 | Y11: 1 | AA11: 1.1 | AC11: 1 | AE11: 1 | AG11: 1.1 | AI11: 1.1 | AK11: 1.1 | AM11: 1.1
A13: ARMI CONTUNDENTI (For, Man)
A14: Contundenti piccole (L0) | K14: 1 | M14: 1.2 | O14: 0.7 | Q14: 1.1 | S14: 1.1 | U14: 1.1 | W14: 1 | Y14: 0.7 | AA14: 1 | AC14: 1.1 | AE14: 1 | AG14: 1.1 | AI14: 1.1 | AK14: 0.8 | AM14: 0.8
A15: Contundenti medie (L0) | K15: 1 | M15: 1.2 | O15: 0.7 | Q15: 1 | S15: 1.1 | U15: 1.1 | W15: 1 | Y15: 0.7 | AA15: 1 | AC15: 1.1 | AE15: 1 | AG15: 0.8 | AI15: 0.8 | AK15: 0.8 | AM15: 1
A16: Contundenti grandi (L0) | K16: 0.8 | M16: 1.2 | O16: 0.7 | Q16: 1 | S16: 1.1 | U16: 1.1 | W16: 1 | Y16: 0.7 | AA16: 1.1 | AC16: 1.3 | AE16: 1.2 | AG16: 0.8 | AI16: 0.8 | AK16: 0.8 | AM16: 0.8
A18: ARMI DA LANCIO (Agi, Man)
A19: Bolas (L0) | K19: 0.9 | M19: 1.1 | O19: 0.8 | Q19: 0.9 | S19: 0.9 | U19: 1.2 | W19: 1.2 | Y19: 0.9 | AA19: 1.1 | AC19: 1.2 | AE19: 1.1 | AG19: 1.1 | AI19: 1 | AK19: 1.1 | AM19: 1.1
A20: Boomerang | K20: 0.9 | M20: 1 | O20: 0.7 | Q20: 0.9 | S20: 0.9 | U20: 1.2 | W20: 1.2 | Y20: 0.9 | AA20: 1.1 | AC20: 1.2 | AE20: 1.2 | AG20: 1.1 | AI20: 1 | AK20: 0.9 | AM20: 1.1
A21: Dardi (L0) | K21: 0.9 | M21: 1 | O21: 0.8 | Q21: 0.9 | S21: 0.9 | U21: 1.2 | W21: 1.2 | Y21: 0.9 | AA21: 1.1 | AC21: 1.2 | AE21: 1.1 | AG21: 1.1 | AI21: 1 | AK21: 0.9 | AM21: 1.1
A22: Generico (L0) | K22: 1 | M22: 1 | O22: 0.8 | Q22: 0.9 | S22: 0.9 | U22: 1.3 | W22: 1.3 | Y22: 0.9 | AA22: 1.3 | AC22: 1.2 | AE22: 1.1 | AG22: 1.1 | AI22: 1 | AK22: 0.9 | AM22: 1.1
A23: Giavellotto (L0) | K23: 0.9 | M23: 1 | O23: 0.8 | Q23: 0.9 | S23: 0.9 | U23: 1.2 | W23: 1.2 | Y23: 0.9 | AA23: 1.1 | AC23: 1.2 | AE23: 1.1 | AG23: 1.1 | AI23: 1 | AK23: 1 | AM23: 1.1
A24: Shuriken (Add.) | K24: 0.9 | M24: 1 | O24: 1.1 | Q24: 0.9 | S24: 0.9 | U24: 1.2 | W24: 1.2 | Y24: 0.9 | AA24: 1.1 | AC24: 1.2 | AE24: 1.1 | AG24: 1.1 | AI24: 1 | AK24: 0.9 | AM24: 1.1
A26: ARMI DA TIRO (For, Agi)
A27: Archi | K27: 1.1 | M27: 0.9 | O27: 1.2 | Q27: 1.1 | S27: 1.1 | U27: 0.9 | W27: 0.9 | Y27: 1.3 | AA27: 0.8 | AC27: 0.8 | AE27: 0.8 | AG27: 1.2 | AI27: 1.3 | AK27: 0.8 | AM27: 0.8
A28: Balestre (Man, Rif) (L0) | K28: 1.1 | M28: 0.9 | O28: 1.2 | Q28: 1.2 | S28: 1.2 | U28: 0.9 | W28: 0.9 | Y28: 1.2 | AA28: 0.8 | AC28: 0.8 | AE28: 0.8 | AG28: 1.2 | AI28: 1.2 | AK28: 1.1 | AM28: 0.8
A29: Cerbottana (L0) | K29: 1.1 | M29: 0.9 | O29: 0.8 | Q29: 1.1 | S29: 1.1 | U29: 0.9 | W29: 0.9 | Y29: 1.2 | AA29: 0.8 | AC29: 0.8 | AE29: 0.8 | AG29: 1.2 | AI29: 1.2 | AK29: 0.8 | AM29: 0.8
A30: Fionda (L0) | K30: 1.1 | M30: 0.9 | O30: 1.2 | Q30: 1.1 | S30: 1.1 | U30: 0.9 | W30: 0.9 | Y30: 1.2 | AA30: 1.1 | AC30: 1.1 | AE30: 1.1 | AG30: 1.2 | AI30: 1.2 | AK30: 0.8 | AM30: 0.8
A32: ARMI ESOTICHE (Man, For)
A33: Catena chiodata (L0) | K33: 0.8 | M33: 1.1 | O33: 0.9 | Q33: 1.1 | S33: 1.1 | U33: 1.1 | W33: 1.1 | Y33: 0.8 | AA33: 0.8 | AC33: 1 | AE33: 1 | AG33: 1.1 | AI33: 1 | AK33: 1.1 | AM33: 1
A34: Frusta (Add.) | K34: 0.8 | M34: 1.1 | O34: 0.9 | Q34: 1.1 | S34: 1.1 | U34: 1.2 | W34: 1.2 | Y34: 0.8 | AA34: 0.8 | AC34: 1 | AE34: 1 | AG34: 1.3 | AI34: 1.2 | AK34: 1.1 | AM34: 1.1
A35: Mano artigliata (L0) | K35: 0.8 | M35: 1.1 | O35: 0.9 | Q35: 0.8 | S35: 0.8 | U35: 1.1 | W35: 1.1 | Y35: 0.8 | AA35: 0.8 | AC35: 1 | AE35: 1 | AG35: 1.3 | AI35: 1.2 | AK35: 0.9 | AM35: 1
A36: Mazzafrusto (L0) | K36: 0.8 | M36: 1.1 | O36: 1 | Q36: 1.1 | S36: 1.1 | U36: 1.1 | W36: 1.1 | Y36: 0.8 | AA36: 0.8 | AC36: 1 | AE36: 1 | AG36: 1.3 | AI36: 1.2 | AK36: 1.1 | AM36: 1
A37: Rete (L0) | K37: 0.8 | M37: 0.8 | O37: 0.9 | Q37: 1.1 | S37: 1.1 | U37: 1.1 | W37: 1.1 | Y37: 0.8 | AA37: 0.8 | AC37: 1 | AE37: 1 | AG37: 1.3 | AI37: 1.2 | AK37: 1.1 | AM37: 1.2
A38: Scudo chiodato (For, Man) (L0) | K38: 0.8 | M38: 1.1 | O38: 0.9 | Q38: 0.9 | S38: 0.9 | U38: 1.1 | W38: 1.1 | Y38: 0.8 | AA38: 0.8 | AC38: 1 | AE38: 1 | AG38: 1.3 | AI38: 1.2 | AK38: 1.2 | AM38: 1
A40: ARMI TAGLIENTI (For, Man)
A41: Perforanti (Agi, Rif) (L0) | K41: 1.2 | M41: 1 | O41: 1.1 | Q41: 1 | S41: 1 | U41: 1 | W41: 1.1 | Y41: 1.1 | AA41: 0.7 | AC41: 0.7 | AE41: 0.7 | AG41: 1.2 | AI41: 1.1 | AK41: 1 | AM41: 0.8
A42: Pugnali (L0) | K42: 1.2 | M42: 1 | O42: 0.7 | Q42: 1 | S42: 1 | U42: 1 | W42: 1.1 | Y42: 1.1 | AA42: 0.7 | AC42: 0.7 | AE42: 0.7 | AG42: 1.1 | AI42: 1.1 | AK42: 0.8 | AM42: 1
A43: Spade (L0) | K43: 1.2 | M43: 1 | O43: 1.1 | Q43: 1 | S43: 1 | U43: 1 | W43: 1.1 | Y43: 1.2 | AA43: 0.7 | AC43: 0.7 | AE43: 0.7 | AG43: 1.1 | AI43: 1.2 | AK43: 0.8 | AM43: 0.8
A44: Spadoni (L0) | K44: 1.2 | M44: 1.1 | O44: 1.1 | Q44: 0.8 | S44: 0.8 | U44: 1 | W44: 1.1 | Y44: 1.1 | AA44: 0.7 | AC44: 0.7 | AE44: 0.7 | AG44: 1.1 | AI44: 1.1 | AK44: 0.8 | AM44: 0.8
A46: ASCE (For, Man)
A47: Asce medie (L0) | K47: 0.9 | M47: 1.2 | O47: 0.8 | Q47: 1.1 | S47: 1 | U47: 1.2 | W47: 1.2 | Y47: 0.7 | AA47: 0.7 | AC47: 0.7 | AE47: 0.7 | AG47: 0.8 | AI47: 0.8 | AK47: 1.1 | AM47: 1.1
A48: Asce grandi (L0) | K48: 0.9 | M48: 1.2 | O48: 0.8 | Q48: 1.1 | S48: 1 | U48: 1.2 | W48: 1.2 | Y48: 0.7 | AA48: 0.7 | AC48: 0.7 | AE48: 0.7 | AG48: 0.8 | AI48: 0.8 | AK48: 1.1 | AM48: 1.1
A50: ARTIGIANATO (Man, Mem)
A51: Alchimia (Add.) | K51: 1 | M51: 1.1 | O51: 1.2 | Q51: 1.2 | S51: 1.2 | U51: 1.1 | W51: 1 | Y51: 1.1 | AA51: 1.3 | AC51: 1.1 | AE51: 1.2 | AG51: 0.8 | AI51: 1.1 | AK51: 1.2 | AM51: 1.3
A52: Creare trappole (L0, Add.) | K52: 1 | M52: 1 | O52: 1.2 | Q52: 0.9 | S52: 1.2 | U52: 0.9 | W52: 1 | Y52: 1.1 | AA52: 1.2 | AC52: 1 | AE52: 1.1 | AG52: 1 | AI52: 1.1 | AK52: 1.2 | AM52: 1.1
A53: Creare veleni (Add.) | K53: 1 | M53: 1 | O53: 1.2 | Q53: 1.2 | S53: 1.3 | U53: 1.2 | W53: 1 | Y53: 1.1 | AA53: 1.3 | AC53: 1 | AE53: 1.3 | AG53: 1.1 | AI53: 1.1 | AK53: 1.2 | AM53: 1.2
A54: Forgiare armature (L0, Add.) | K54: 1.1 | M54: 1 | O54: 1.2 | Q54: 1.2 | S54: 1.2 | U54: 0.9 | W54: 1 | Y54: 1.1 | AA54: 1.2 | AC54: 1 | AE54: 1.1 | AG54: 1 | AI54: 1.1 | AK54: 1.2 | AM54: 0.9
A55: Forgiare armi (L0, Add.) | K55: 1.1 | M55: 1 | O55: 1.3 | Q55: 1.2 | S55: 1.2 | U55: 0.9 | W55: 1 | Y55: 1.2 | AA55: 1.2 | AC55: 1 | AE55: 1.1 | AG55: 1.2 | AI55: 1.2 | AK55: 1.2 | AM55: 1.1
A56: Lavorare i metalli (L0, Add.) | K56: 1 | M56: 1.2 | O56: 1.2 | Q56: 1.2 | S56: 1.2 | U56: 0.9 | W56: 1 | Y56: 1.2 | AA56: 0.7 | AC56: 0.7 | AE56: 0.7 | AG56: 1 | AI56: 1.1 | AK56: 1.2 | AM56: 1.1
A57: Lavorare i tessuti (L0, Add.) | K57: 1 | M57: 1 | O57: 1.2 | Q57: 1.2 | S57: 1 | U57: 0.9 | W57: 1 | Y57: 1.1 | AA57: 1.2 | AC57: 1 | AE57: 1.1 | AG57: 1.1 | AI57: 0.9 | AK57: 0.8 | AM57: 1.1
A58: Lavorare il legno (L0, Add.) | K58: 1 | M58: 1 | O58: 0.8 | Q58: 1.1 | S58: 1.2 | U58: 0.9 | W58: 1 | Y58: 1.1 | AA58: 1.3 | AC58: 1.2 | AE58: 1.1 | AG58: 1 | AI58: 1.1 | AK58: 1 | AM58: 1.1
A59: Lavorare la pietra (L0, Add.) | K59: 1 | M59: 1.3 | O59: 1.3 | Q59: 1.2 | S59: 1.2 | U59: 0.9 | W59: 1 | Y59: 1.1 | AA59: 1.2 | AC59: 1 | AE59: 1.1 | AG59: 1 | AI59: 1.1 | AK59: 1.2 | AM59: 1.1
A61: ARTIGIANATO RUNICO (Man, Mem)
A62: Artigianato dell'Alterazione (Add.) | K62: 1.1 | M62: 0.9 | O62: 1 | Q62: 1 | S62: 1 | U62: 0.7 | W62: 0.7 | Y62: 0.9 | AA62: 1.1 | AC62: 0.9 | AE62: 1 | AG62: 0.8 | AI62: 0.8 | AK62: 1.2 | AM62: 0.7
A63: Artigianato degli Animali (Add.) | K63: 1.1 | M63: 0.9 | O63: 1 | Q63: 1 | S63: 1 | U63: 0.7 | W63: 0.7 | Y63: 0.9 | AA63: 1.1 | AC63: 0.9 | AE63: 1 | AG63: 0.8 | AI63: 0.8 | AK63: 1.2 | AM63: 0.7
A64: Artigianato della Divinazione (Add.) | K64: 1.1 | M64: 0.9 | O64: 1 | Q64: 1 | S64: 1 | U64: 0.7 | W64: 0.7 | Y64: 0.9 | AA64: 1.1 | AC64: 0.9 | AE64: 1 | AG64: 0.8 | AI64: 0.8 | AK64: 1.2 | AM64: 0.7
A65: Artigianato degli Elementi (Add.) | K65: 1.1 | M65: 0.9 | O65: 1 | Q65: 1 | S65: 1 | U65: 0.7 | W65: 0.7 | Y65: 0.9 | AA65: 1.1 | AC65: 0.9 | AE65: 1 | AG65: 0.8 | AI65: 0.8 | AK65: 1.2 | AM65: 0.7
A66: Artigianato della Guerra (Add.) | K66: 1.1 | M66: 0.9 | O66: 1 | Q66: 1 | S66: 1 | U66: 0.7 | W66: 0.7 | Y66: 0.9 | AA66: 1.1 | AC66: 0.9 | AE66: 1 | AG66: 0.8 | AI66: 0.8 | AK66: 1.2 | AM66: 0.7
A67: Artigianato della Morte (Add.) | K67: 1.1 | M67: 0.9 | O67: 1 | Q67: 1 | S67: 1 | U67: 0.7 | W67: 0.7 | Y67: 0.9 | AA67: 1.1 | AC67: 0.9 | AE67: 1 | AG67: 0.8 | AI67: 0.8 | AK67: 1.2 | AM67: 0.7
A68: Artigianato della Natura (Add.) | K68: 1.1 | M68: 0.9 | O68: 1 | Q68: 1 | S68: 1 | U68: 0.7 | W68: 0.7 | Y68: 0.9 | AA68: 1.1 | AC68: 0.9 | AE68: 1 | AG68: 0.8 | AI68: 0.8 | AK68: 1.2 | AM68: 0.7
A69: Artigianato della Ombre (Add.) | K69: 1.1 | M69: 0.9 | O69: 1 | Q69: 1 | S69: 1 | U69: 0.7 | W69: 0.7 | Y69: 0.9 | AA69: 1.1 | AC69: 0.9 | AE69: 1 | AG69: 0.8 | AI69: 0.8 | AK69: 1.2 | AM69: 0.7
A70: Artigianato della Protezione (Add.) | K70: 1.1 | M70: 0.9 | O70: 1 | Q70: 1 | S70: 1 | U70: 0.7 | W70: 0.7 | Y70: 0.9 | AA70: 1.1 | AC70: 0.9 | AE70: 1 | AG70: 0.8 | AI70: 0.8 | AK70: 1.2 | AM70: 0.7
A71: Artigianato dello Spirito (Add.) | K71: 1.1 | M71: 0.9 | O71: 1 | Q71: 1 | S71: 1 | U71: 0.7 | W71: 0.7 | Y71: 0.9 | AA71: 1.1 | AC71: 0.9 | AE71: 1 | AG71: 0.8 | AI71: 0.8 | AK71: 1.2 | AM71: 0.7
A72: Artigianato della Vita (Add.) | K72: 1.1 | M72: 0.9 | O72: 1 | Q72: 1 | S72: 1 | U72: 0.7 | W72: 0.7 | Y72: 0.9 | AA72: 1.1 | AC72: 0.9 | AE72: 1 | AG72: 0.8 | AI72: 0.8 | AK72: 1.2 | AM72: 0.7
A73: Artigianato Universale (Add.) | K73: 1.1 | M73: 0.9 | O73: 1 | Q73: 1 | S73: 1 | U73: 0.7 | W73: 0.7 | Y73: 0.9 | AA73: 1.1 | AC73: 0.9 | AE73: 1 | AG73: 0.8 | AI73: 0.8 | AK73: 1.2 | AM73: 0.7
A75: CAPACITÀ FISICHE (For, Cos)
A76: Acrobazia* (Agi, For) (L0) | K76: 1 | M76: 1 | O76: 1.1 | Q76: 0.9 | S76: 0.9 | U76: 1.2 | W76: 1.1 | Y76: 1.2 | AA76: 0.8 | AC76: 0.8 | AE76: 1.2 | AG76: 1.2 | AI76: 1.3 | AK76: 0.7 | AM76: 1.2
A77: Equilibrio* (Agi, For) (L0) | K77: 1 | M77: 1.2 | O77: 1.2 | Q77: 1.2 | S77: 1.2 | U77: 1.2 | W77: 1.1 | Y77: 1.2 | AA77: 1.1 | AC77: 1.2 | AE77: 1.1 | AG77: 1.3 | AI77: 1.3 | AK77: 1.1 | AM77: 1.2
A78: Lotta* (L0) | K78: 1 | M78: 1.2 | O78: 0.9 | Q78: 0.9 | S78: 0.9 | U78: 1.3 | W78: 1.2 | Y78: 1 | AA78: 1.2 | AC78: 1.2 | AE78: 1.1 | AG78: 1.2 | AI78: 1.2 | AK78: 0.7 | AM78: 1.3
A79: Nuotare* (L0) | K79: 1 | M79: 0.8 | O79: 0.9 | Q79: 0.9 | S79: 0.9 | U79: 1.2 | W79: 1.1 | Y79: 1 | AA79: 1.1 | AC79: 1.2 | AE79: 1.1 | AG79: 0.8 | AI79: 0.8 | AK79: 0.7 | AM79: 1.2
A80: Saltare* (L0) | K80: 1 | M80: 1.2 | O80: 0.9 | Q80: 0.9 | S80: 0.9 | U80: 1.2 | W80: 1.1 | Y80: 1 | AA80: 1.1 | AC80: 1.2 | AE80: 1.1 | AG80: 1.2 | AI80: 1.2 | AK80: 0.7 | AM80: 1.2
A81: Scalare* (L0) | K81: 1 | M81: 1.3 | O81: 0.9 | Q81: 1.1 | S81: 1.1 | U81: 1.2 | W81: 1.1 | Y81: 1 | AA81: 1.1 | AC81: 1.2 | AE81: 1.1 | AG81: 1.2 | AI81: 1.2 | AK81: 1.2 | AM81: 1.2
A83: CONOSCENZE (Mem, Int)
A84: Animali (L0, Add.) | K84: 1.1 | M84: 1 | O84: 1.2 | Q84: 1.2 | S84: 1.2 | U84: 0.9 | W84: 0.9 | Y84: 1.2 | AA84: 1.1 | AC84: 1.2 | AE84: 1.1 | AG84: 1.1 | AI84: 1.2 | AK84: 1.3 | AM84: 0.9
A85: Dimensioni (L0, Add.) | K85: 1 | M85: 1 | O85: 1 | Q85: 1.2 | S85: 1.2 | U85: 1.1 | W85: 0.9 | Y85: 1.2 | AA85: 0.8 | AC85: 1.2 | AE85: 1.1 | AG85: 1.1 | AI85: 1.2 | AK85: 1.3 | AM85: 0.9
A86: Geografia (L0, Add.) ( ) | K86: 1.1 | M86: 1 | O86: 1.2 | Q86: 1.2 | S86: 1.2 | U86: 0.9 | W86: 0.9 | Y86: 1.2 | AA86: 0.7 | AC86: 1.2 | AE86: 1.1 | AG86: 1.1 | AI86: 1.2 | AK86: 1.3 | AM86: 0.9
A87: Geografia (L0, Add.) ( ) | K87: 1.1 | M87: 1 | O87: 1.2 | Q87: 1.2 | S87: 1.2 | U87: 0.9 | W87: 0.9 | Y87: 1.2 | AA87: 0.7 | AC87: 1.2 | AE87: 1.1 | AG87: 1.1 | AI87: 1.2 | AK87: 1.3 | AM87: 0.9
A88: Geografia (L0, Add.) ( ) | K88: 1.1 | M88: 1 | O88: 1.2 | Q88: 1.2 | S88: 1.2 | U88: 0.9 | W88: 0.9 | Y88: 1.2 | AA88: 0.7 | AC88: 1.2 | AE88: 1.1 | AG88: 1.1 | AI88: 1.2 | AK88: 1.3 | AM88: 0.9
A89: Locali (L0, Add.) ( ) | K89: 1.1 | M89: 1,2* | O89: 1.2 | Q89: 1.2 | S89: 1.2 | U89: 0.9 | W89: 1,2* | Y89: 1.2 | AA89: 1,3* | AC89: 1.2 | AE89: 1.1 | AG89: 1.1 | AI89: 1.2 | AK89: 1.3 | AM89: 0.9
A90: Locali (L0, Add.) ( ) | K90: 1.1 | M90: 1 | O90: 1.2 | Q90: 1.2 | S90: 1.2 | U90: 0.9 | W90: 0.9 | Y90: 1.2 | AA90: 1.1 | AC90: 1.2 | AE90: 1.1 | AG90: 1.1 | AI90: 1.2 | AK90: 1.3 | AM90: 0.9
A91: Locali (L0, Add.) ( ) | K91: 1.1 | M91: 1 | O91: 1.2 | Q91: 1.2 | S91: 1.2 | U91: 0.9 | W91: 0.9 | Y91: 1.2 | AA91: 1.1 | AC91: 1.2 | AE91: 1.1 | AG91: 1.1 | AI91: 1.2 | AK91: 1.3 | AM91: 0.9
A92: Magia dell'Ordine (L0, Add.) | K92: 1.2 | M92: 0.7 | O92: 1.2 | Q92: 0.7 | S92: 0.7 | U92: 0.9 | W92: 0.9 | Y92: 0.9 | AA92: 1.1 | AC92: 1.2 | AE92: 1.1 | AG92: 1.1 | AI92: 0.7 | AK92: 0.8 | AM92: 0.9
A93: Magia demoniaca (L0) | K93: 0.8 | M93: 0.7 | O93: 1.2 | Q93: 1.2 | S93: 1.2 | U93: 1.2 | W93: 1.2 | Y93: 1 | AA93: 0.7 | AC93: 0.7 | AE93: 0.7 | AG93: 0.7 | AI93: 0.7 | AK93: 1.3 | AM93: 1.2
A94: Magia di Gaia (L0) | K94: 1.1 | M94: 0.7 | O94: 1.2 | Q94: 1.3 | S94: 1.3 | U94: 0.9 | W94: 0.9 | Y94: 1.2 | AA94: 1.1 | AC94: 1.2 | AE94: 1.1 | AG94: 1 | AI94: 1.2 | AK94: 1.3 | AM94: 0.9
A95: Magia runica (L0) | K95: 0.7 | M95: 1 | O95: 1.2 | Q95: 1.2 | S95: 1.2 | U95: 0.9 | W95: 0.9 | Y95: 1.2 | AA95: 1.1 | AC95: 1.2 | AE95: 1.1 | AG95: 0.7 | AI95: 1.2 | AK95: 1.3 | AM95: 0.9
A96: Mostri (L0, Add.) ( ) | K96: 1.2 | M96: 1 | O96: 0.7 | Q96: 1.2 | S96: 1.2 | U96: 1.2 | W96: 1.2 | Y96: 1.2 | AA96: 1.1 | AC96: 1.2 | AE96: 1.1 | AG96: 1.2 | AI96: 1.2 | AK96: 0.9 | AM96: 0.9
A97: Mostri (L0, Add.) ( ) | K97: 1.2 | M97: 1 | O97: 0.7 | Q97: 1.2 | S97: 1.2 | U97: 1.2 | W97: 1.2 | Y97: 1.2 | AA97: 1.1 | AC97: 1.2 | AE97: 1.1 | AG97: 1.2 | AI97: 1.2 | AK97: 0.9 | AM97: 0.9
A98: Mostri (L0, Add.) ( ) | K98: 1.2 | M98: 1 | O98: 0.7 | Q98: 1.2 | S98: 1.2 | U98: 1.2 | W98: 1.2 | Y98: 1.2 | AA98: 1.1 | AC98: 1.2 | AE98: 1.1 | AG98: 1.2 | AI98: 1.2 | AK98: 0.9 | AM98: 0.9
A99: Pietre e metalli (L0, Add.) | K99: 1.1 | M99: 1.3 | O99: 1.2 | Q99: 1.2 | S99: 1.2 | U99: 0.9 | W99: 0.9 | Y99: 1.2 | AA99: 1.1 | AC99: 1.2 | AE99: 1.1 | AG99: 1.1 | AI99: 1.2 | AK99: 1.3 | AM99: 0.9
A100: Storia (L0, Add.) ( ) | K100: 0.8 | M100: 1 | O100: 1.2 | Q100: 1.2 | S100: 1.2 | U100: 0.9 | W100: 0.9 | Y100: 1.2 | AA100: 1.1 | AC100: 1.2 | AE100: 1.1 | AG100: 1.1 | AI100: 1.2 | AK100: 1.3 | AM100: 0.9
A101: Storia (L0, Add.) ( ) | K101: 0.8 | M101: 1 | O101: 1.2 | Q101: 1.2 | S101: 1.2 | U101: 0.9 | W101: 0.9 | Y101: 1.2 | AA101: 1.1 | AC101: 1.2 | AE101: 1.1 | AG101: 1.1 | AI101: 1.2 | AK101: 1.3 | AM101: 0.9
... A104: Trinità (L0) | K104: 1.1 | M104: 1 | O104: 1.2 | Q104: 1.2 | S104: 1.2 | U104: 0.9 | W104: 0.9 | Y104: 1.2 | AA104: 1.1 | AC104: 1.2 | AE104: 1.1 | AG104: 0.9 | AI104: 0.7 | AK104: 1.3 | AM104: 0.9
A106: DEDUZIONE (Itu, Int)
A107: Ascoltare (L0) | K107: 0.9 | M107: 1.1 | O107: 1.2 | Q107: 1.2 | S107: 1.2 | U107: 1.1 | W107: 1.1 | Y107: 1.2 | AA107: 1.1 | AC107: 1.1 | AE107: 1 | AG107: 1.2 | AI107: 1.2 | AK107: 0.8 | AM107: 1.1
A108: Cercare (L0) | K108: 0.9 | M108: 1.1 | O108: 1.2 | Q108: 1.2 | S108: 1.2 | U108: 1.1 | W108: 1.1 | Y108: 1.2 | AA108: 1.1 | AC108: 1.1 | AE108: 1.2 | AG108: 1.1 | AI108: 1.2 | AK108: 0.8 | AM108: 1.1
A109: Osservare (L0) | K109: 0.9 | M109: 1.1 | O109: 1.2 | Q109: 1.2 | S109: 1.2 | U109: 1.1 | W109: 1.1 | Y109: 1.2 | AA109: 1.1 | AC109: 1.1 | AE109: 1 | AG109: 1.2 | AI109: 1.2 | AK109: 0.8 | AM109: 1.1
A110: Trovare trappole (L0) | K110: 0.9 | M110: 1.1 | O110: 1 | Q110: 1.2 | S110: 1.2 | U110: 1.2 | W110: 1.1 | Y110: 1.2 | AA110: 1.1 | AC110: 1.1 | AE110: 1 | AG110: 1.1 | AI110: 1.2 | AK110: 1 | AM110: 1.2
A111: Valutare (L0) | K111: 0.9 | M111: 1.2 | O111: 1.3 | Q111: 1.2 | S111: 1.2 | U111: 1.1 | W111: 1.3 | Y111: 1 | AA111: 1.1 | AC111: 1.1 | AE111: 0.8 | AG111: 1.1 | AI111: 1.2 | AK111: 1.1 | AM111: 1.1
A113: ESPLORATORE (Mem, Itu)
A114: Animalista (L0, Add.) | K114: 1.1 | M114: 1.2 | O114: 0.7 | Q114: 0.9 | S114: 1 | U114: 0.8 | W114: 1.1 | Y114: 1.1 | AA114: 1 | AC114: 1.1 | AE114: 1.2 | AG114: 0.7 | AI114: 0.8 | AK114: 0.9 | AM114: 1.2
A115: Naturalista (L0, Add.) | K115: 1.1 | M115: 1.2 | O115: 0.7 | Q115: 0.9 | S115: 1 | U115: 0.8 | W115: 1.1 | Y115: 1.1 | AA115: 1 | AC115: 1.1 | AE115: 1.2 | AG115: 0.7 | AI115: 0.8 | AK115: 0.9 | AM115: 1.2
A116: Orientamento (L0) | K116: 1.1 | M116: 1.2 | O116: 0.7 | Q116: 0.9 | S116: 1.2 | U116: 1 | W116: 1.1 | Y116: 1.1 | AA116: 1 | AC116: 1.1 | AE116: 1.2 | AG116: 0.7 | AI116: 0.8 | AK116: 0.9 | AM116: 1.2
...

Sheet C.Luogo
K1: Regno di Heren (G) | M1: Heren della Luce | O1: Tortuga | Q1: Bosco di Lorimel | S1: Palude di Kalisto | U1: Reania (G) | W1: Cho Oyu | Y1: Lindeloft | AA1: Mustagh | AC1: Bosco dei Sussurri | AE1: Foresta delle Nuvole | AG1: Regno di Ke'Mal (Inferiore) (G) | AI1: Regno di Ke'Mal (Superiore) (G) | AK1: Alcar | AM1: Acquitrino Hwarin | AO1: Foresta Sarna | AQ1: Torre Lëo (STUDI) | AS1: Terre Selvagge (G) | AU1: Melian | AW1: Regno di Tirinto (G) | AY1: Ducato di Toussaint | BA1: Regno Shu (G) | BC1: Giungla Naga | BE1: Giungla Rossa | BG1: Giungla Sad Al Nazi | BI1: Giungla Sad Al Nazi (Silvani di Ambarónë) | BK1: Regno Wei (G) | BM1: Aladfar | BO1: Shelyak | BQ1: Regno Wu (G) | BS1: Casa del Viaggiatore (G) | BU1: Lande Libere (G) | BW1: Sheratan | BY1: Kadain | CA1: Eleudica (G) | CC1: Aelin-Uial (G) Zona drow | CE1: Aelin-Uial (G) Zona mezzo-demoni | CG1: Elrond | CI1: Deserto delle Ruote (G) | CK1: Isola di Anodur (G) | CM1: Isola del Fuoco (G) | CO1: PERSONALIZZATO
A2: ABILITÀ | K2: REGNO DI HEREN | U2: REANIA | AG2: REGNO DI KE'MAL | AS2: TERRE SELVAGGE | AW2: REGNO DI TIRINTO | BA2: REGNO SHU | BK2: REGNO WEI | BQ2: REGNO WU | BS2: CASA VIAGG. | BU2: LANDE LIBERE | CA2: ELEUD | CC2: AELIN-UIAL | CI2: DES. RUOTE | CK2: ISOLA ANOD. | CM2: ISOLA FUOCO | CO2: ###
A5: ARMI AD ASTA (For, Rif)
A6: Alabarda (L0, Add.) | K6: 1 | M6: 1 | O6: 0.9 | Q6: 0.8 | S6: 1 | U6: 0.8 | W6: 1.1 | Y6: 1.1 | AA6: 1.1 | AC6: 0.7 | AE6: 0.8 | AG6: 1 | AI6: 0.9 | AK6: 1.1 | AM6: 0.9 | AO6: 0.8 | AQ6: 0.8 | AS6: 0.7 | AU6: 0.8 | AW6: 1.1 | AY6: 1.1 | BA6: 0.8 | BC6: 0.8 | BE6: 0.8 | BG6: 0.8 | BI6: 0.8 | BK6: 0.9 | BM6: 1.1 | BO6: 0.9 | BQ6: 1.1 | BS6: 1 | BU6: 0.8 | BW6: 1.1 | BY6: 0.9 | CA6: 0.8 | CC6: 1 | CE6: 1 | CG6: 1 | CI6: 0.7 | CK6: 1.2 | CM6: 0.7
A7: Bastone ferrato (L0) | K7: 1.2 | M7: 1.2 | O7: 0.9 | Q7: 1.2 | S7: 1 | U7: 0.9 | W7: 0.8 | Y7: 1.1 | AA7: 1.1 | AC7: 0.7 | AE7: 1.1 | AG7: 0.9 | AI7: 1.2 | AK7: 1.1 | AM7: 0.9 | AO7: 0.8 | AQ7: 1 | AS7: 0.7 | AU7: 0.8 | AW7: 0.8 | AY7: 1.1 | BA7: 1.2 | BC7: 1.2 | BE7: 1.2 | BG7: 1.2 | BI7: 1.3 | BK7: 0.9 | BM7: 1.1 | BO7: 0.9 | BQ7: 1.1 | BS7: 1.2 | BU7: 1.1 | BW7: 0.8 | BY7: 1.2 | CA7: 1.1 | CC7: 0.8 | CE7: 1 | CG7: 0.8 | CI7: 0.7 | CK7: 1.2 | CM7: 0.7
A8: Falce (L0) | K8: 1 | M8: 1 | O8: 0.9 | Q8: 1.1 | S8: 1 | U8: 0.8 | W8: 0.8 | Y8: 0.8 | AA8: 1.1 | AC8: 0.7 | AE8: 0.8 | AG8: 0.9 | AI8: 0.9 | AK8: 1.1 | AM8: 1 | AO8: 0.8 | AQ8: 0.8 | AS8: 0.7 | AU8: 0.8 | AW8: 0.8 | AY8: 1.1 | BA8: 1.1 | BC8: 0.8 | BE8: 1.1 | BG8: 1.1 | BI8: 0.8 | BK8: 0.9 | BM8: 1.1 | BO8: 0.9 | BQ8: 1.1 | BS8: 1.2 | BU8: 0.8 | BW8: 0.8 | BY8: 0.9 | CA8: 0.8 | CC8: 0.8 | CE8: 1 | CG8: 0.8 | CI8: 0.8 | CK8: 1.2 | CM8: 1.2
A9: Lancia da cavaliere (L0) | K9: 1 | M9: 1 | O9: 0.9 | Q9: 1.1 | S9: 0.7 | U9: 0.8 | W9: 0.8 | Y9: 1.1 | AA9: 1.1 | AC9: 0.7 | AE9: 0.8 | AG9: 0.9 | AI9: 0.9 | AK9: 1.1 | AM9: 0.9 | AO9: 0.8 | AQ9: 0.8 | AS9: 0.7 | AU9: 0.8 | AW9: 0.8 | AY9: 1.3 | BA9: 0.8 | BC9: 0.8 | BE9: 0.8 | BG9: 0.8 | BI9: 0.8 | BK9: 0.7 | BM9: 1.1 | BO9: 0.7 | BQ9: 0.9 | BS9: 0.7 | BU9: 0.8 | BW9: 0.8 | BY9: 0.9 | CA9: 0.8 | CC9: 0.8 | CE9: 0.8 | CG9: 0.8 | CI9: 0.7 | CK9: 1.2 | CM9: 0.7
A10: Picca (Add.) | K10: 1.1 | M10: 1.1 | O10: 0.9 | Q10: 1.1 | S10: 0.7 | U10: 0.8 | W10: 0.8 | Y10: 1.1 | AA10: 0.8 | AC10: 0.7 | AE10: 0.8 | AG10: 0.9 | AI10: 0.9 | AK10: 1.1 | AM10: 1.2 | AO10: 0.8 | AQ10: 0.8 | AS10: 0.7 | AU10: 0.8 | AW10: 0.8 | AY10: 1.1 | BA10: 0.8 | BC10: 0.8 | BE10: 0.8 | BG10: 0.8 | BI10: 0.8 | BK10: 0.9 | BM10: 0.8 | BO10: 0.9 | BQ10: 0.8 | BS10: 1 | BU10: 0.8 | BW10: 0.8 | BY10: 0.9 | CA10: 0.8 | CC10: 0.8 | CE10: 1 | CG10: 0.8 | CI10: 0.7 | CK10: 1.2 | CM10: 0.7
A11: Tridente (L0) | K11: 1 | M11: 1 | O11: 1.1 | Q11: 1.1 | S11: 1 | U11: 0.8 | W11: 0.8 | Y11: 0.8 | AA11: 0.9 | AC11: 0.7 | AE11: 0.8 | AG11: 0.9 | AI11: 0.9 | AK11: 1.1 | AM11: 0.9 | AO11: 0.8 | AQ11: 0.8 | AS11: 0.7 | AU11: 0.8 | AW11: 0.8 | AY11: 0.9 | BA11: 0.8 | BC11: 0.8 | BE11: 0.8 | BG11: 0.8 | BI11: 0.8 | BK11: 1.2 | BM11: 1.2 | BO11: 1.2 | BQ11: 1.1 | BS11: 1 | BU11: 0.8 | BW11: 0.8 | BY11: 0.9 | CA11: 0.8 | CC11: 0.8 | CE11: 0.8 | CG11: 0.8 | CI11: 0.7 | CK11: 1 | CM11: 1.1
A13: ARMI CONTUNDENTI (For, Man)
A14: Contundenti piccole (L0) | K14: 1.2 | M14: 1.1 | O14: 1.2 | Q14: 1.2 | S14: 1.1 | U14: 0.9 | W14: 0.9 | Y14: 1 | AA14: 0.9 | AC14: 1 | AE14: 1 | AG14: 0.7 | AI14: 1.1 | AK14: 0.7 | AM14: 1 | AO14: 1.2 | AQ14: 0.7 | AS14: 1.2 | AU14: 0.9 | AW14: 1.2 | AY14: 1.1 | BA14: 1.2 | BC14: 1.2 | BE14: 1.2 | BG14: 1.1 | BI14: 1.2 | BK14: 1.1 | BM14: 1.1 | BO14: 1 | BQ14: 0.9 | BS14: 0.8 | BU14: 0.9 | BW14: 0.9 | BY14: 1.2 | CA14: 0.9 | CC14: 0.9 | CE14: 1.2 | CG14: 0.7 | CI14: 1 | CK14: 0.8 | CM14: 1.1
A15: Contundenti medie (L0) | K15: 1.2 | M15: 1.1 | O15: 1.2 | Q15: 1.2 | S15: 1.1 | U15: 1.1 | W15: 1.1 | Y15: 1 | AA15: 1.1 | AC15: 1 | AE15: 1.2 | AG15: 0.7 | AI15: 1.1 | AK15: 0.7 | AM15: 1 | AO15: 1.2 | AQ15: 0.7 | AS15: 1.2 | AU15: 0.9 | AW15: 1.2 | AY15: 1.2 | BA15: 1.1 | BC15: 1.2 | BE15: 1.2 | BG15: 1.1 | BI15: 1.2 | BK15: 1.1 | BM15: 1.1 | BO15: 1 | BQ15: 0.9 | BS15: 0.8 | BU15: 1.1 | BW15: 1 | BY15: 1.2 | CA15: 1 | CC15: 0.9 | CE15: 1.2 | CG15: 0.7 | CI15: 1 | CK15: 0.8 | CM15: 1.1
A16: Contundenti grandi (L0) | K16: 1.2 | M16: 1.1 | O16: 1.2 | Q16: 1.2 | S16: 1.1 | U16: 1.1 | W16: 1.1 | Y16: 1 | AA16: 1.1 | AC16: 1 | AE16: 1.2 | AG16: 0.7 | AI16: 1.1 | AK16: 0.7 | AM16: 1 | AO16: 1.2 | AQ16: 0.7 | AS16: 0.9 | AU16: 0.9 | AW16: 1.2 | AY16: 1.1 | BA16: 1.1 | BC16: 1.2 | BE16: 1.2 | BG16: 1.1 | BI16: 1.2 | BK16: 0.8 | BM16: 1.1 | BO16: 0.8 | BQ16: 0.9 | BS16: 0.8 | BU16: 1.1 | BW16: 1 | BY16: 1.2 | CA16: 1 | CC16: 0.9 | CE16: 1 | CG16: 0.7 | CI16: 0.7 | CK16: 0.8 | CM16: 1.3
A18: ARMI DA LANCIO (Agi, Man)
A19: Bolas (L0) | K19: 1 | M19: 1 | O19: 1.2 | Q19: 1.1 | S19: 0.9 | U19: 0.8 | W19: 0.8 | Y19: 1.1 | AA19: 0.9 | AC19: 0.8 | AE19: 0.8 | AG19: 1 | AI19: 1.2 | AK19: 0.8 | AM19: 1.1 | AO19: 0.8 | AQ19: 0.7 | AS19: 1.1 | AU19: 0.8 | AW19: 1.1 | AY19: 0.9 | BA19: 1 | BC19: 1 | BE19: 0.9 | BG19: 1 | BI19: 1.2 | BK19: 1.2 | BM19: 0.9 | BO19: 0.8 | BQ19: 0.7 | BS19: 0.9 | BU19: 1.2 | BW19: 1.2 | BY19: 1 | CA19: 1.1 | CC19: 0.9 | CE19: 1.2 | CG19: 0.9 | CI19: 1.1 | CK19: 1 | CM19: 0.8
A20: Boomerang | K20: 1 | M20: 1 | O20: 1 | Q20: 1.1 | S20: 0.9 | U20: 0.8 | W20: 0.8 | Y20: 1.1 | AA20: 0.9 | AC20: 0.8 | AE20: 1.1 | AG20: 0.8 | AI20: 1.2 | AK20: 0.8 | AM20: 1.1 | AO20: 0.8 | AQ20: 0.7 | AS20: 1.1 | AU20: 0.8 | AW20: 0.8 | AY20: 0.9 | BA20: 1 | BC20: 1 | BE20: 0.9 | BG20: 1 | BI20: 1.2 | BK20: 1.1 | BM20: 0.9 | BO20: 1.1 | BQ20: 0.7 | BS20: 1.1 | BU20: 1 | BW20: 1.2 | BY20: 1 | CA20: 0.9 | CC20: 0.9 | CE20: 1.2 | CG20: 0.9 | CI20: 0.8 | CK20: 1 | CM20: 0.8
A21: Dardi (L0) | K21: 1 | M21: 1 | O21: 1.2 | Q21: 1.1 | S21: 0.9 | U21: 0.8 | W21: 0.8 | Y21: 1.1 | AA21: 0.9 | AC21: 0.8 | AE21: 0.8 | AG21: 0.8 | AI21: 0.9 | AK21: 0.8 | AM21: 1.1 | AO21: 0.8 | AQ21: 0.7 | AS21: 1.1 | AU21: 0.8 | AW21: 0.8 | AY21: 0.9 | BA21: 1.2 | BC21: 1.3 | BE21: 0.9 | BG21: 1.2 | BI21: 1.2 | BK21: 0.9 | BM21: 0.9 | BO21: 0.8 | BQ21: 0.7 | BS21: 0.9 | BU21: 1.2 | BW21: 1.2 | BY21: 1 | CA21: 1.1 | CC21: 0.9 | CE21: 1.2 | CG21: 0.9 | CI21: 0.8 | CK21: 0.8 | CM21: 0.8
A22: Generico (L0) | K22: 1.1 | M22: 1.2 | O22: 1.2 | Q22: 1.1 | S22: 1.1 | U22: 1 | W22: 1 | Y22: 1 | AA22: 1.2 | AC22: 1.2 | AE22: 1.2 | AG22: 0.8 | AI22: 1.2 | AK22: 0.8 | AM22: 1.2 | AO22: 0.8 | AQ22: 0.7 | AS22: 1.1 | AU22: 0.8 | AW22: 0.8 | AY22: 0.9 | BA22: 1.1 | BC22: 1.1 | BE22: 1.1 | BG22: 1.1 | BI22: 1.2 | BK22: 1.2 | BM22: 0.9 | BO22: 0.8 | BQ22: 0.7 | BS22: 1 | BU22: 1.2 | BW22: 1.2 | BY22: 1 | CA22: 1.1 | CC22: 0.9 | CE22: 1.2 | CG22: 0.9 | CI22: 0.8 | CK22: 1.1 | CM22: 1.2
A23: Giavellotto (L0) | K23: 1 | M23: 1 | O23: 1.2 | Q23: 1.1 | S23: 0.9 | U23: 0.8 | W23: 0.8 | Y23: 1.1 | AA23: 0.9 | AC23: 0.8 | AE23: 0.8 | AG23: 0.8 | AI23: 1.2 | AK23: 0.8 | AM23: 1.2 | AO23: 1.1 | AQ23: 0.7 | AS23: 1.2 | AU23: 0.8 | AW23: 1.2 | AY23: 0.9 | BA23: 1 | BC23: 1 | BE23: 1.2 | BG23: 1 | BI23: 1.2 | BK23: 1.2 | BM23: 1.1 | BO23: 0.8 | BQ23: 0.7 | BS23: 0.9 | BU23: 1.2 | BW23: 1.2 | BY23: 1.2 | CA23: 1.1 | CC23: 0.9 | CE23: 1.2 | CG23: 0.9 | CI23: 1.2 | CK23: 1 | CM23: 0.8
A24: Shuriken (Add.) | K24: 0.8 | M24: 0.8 | O24: 0.8 | Q24: 0.8 | S24: 0.8 | U24: 0.8 | W24: 0.8 | Y24: 1.1 | AA24: 0.9 | AC24: 1.2 | AE24: 0.8 | AG24: 1.1 | AI24: 1.2 | AK24: 0.8 | AM24: 1.1 | AO24: 0.8 | AQ24: 0.7 | AS24: 0.7 | AU24: 0.8 | AW24: 0.8 | AY24: 0.9 | BA24: 1 | BC24: 1 | BE24: 0.9 | BG24: 1 | BI24: 0.7 | BK24: 1.2 | BM24: 0.9 | BO24: 0.8 | BQ24: 1.1 | BS24: 0.9 | BU24: 0.7 | BW24: 0.7 | BY24: 0.7 | CA24: 0.7 | CC24: 0.9 | CE24: 1.2 | CG24: 0.9 | CI24: 0.8 | CK24: 1 | CM24: 0.8
A26: ARMI DA TIRO (For, Agi)
A27: Archi | K27: 0.9 | M27: 0.9 | O27: 0.8 | Q27: 0.8 | S27: 0.9 | U27: 1.2 | W27: 1.2 | Y27: 1.1 | AA27: 1 | AC27: 1.3 | AE27: 1.3 | AG27: 1.3 | AI27: 1.2 | AK27: 1.3 | AM27: 0.8 | AO27: 1.2 | AQ27: 1.1 | AS27: 1.2 | AU27: 1.2 | AW27: 1.2 | AY27: 1.1 | BA27: 0.9 | BC27: 0.9 | BE27: 1.1 | BG27: 0.9 | BI27: 0.8 | BK27: 0.7 | BM27: 1 | BO27: 1.2 | BQ27: 1.2 | BS27: 1.1 | BU27: 1.2 | BW27: 0.9 | BY27: 0.8 | CA27: 1.2 | CC27: 1.2 | CE27: 0.9 | CG27: 1.3 | CI27: 1.1 | CK27: 1.1 | CM27: 0.8
A28: Balestre (Man, Rif) (L0) | K28: 0.9 | M28: 1.2 | O28: 0.8 | Q28: 0.8 | S28: 0.9 | U28: 1.2 | W28: 1.2 | Y28: 1.1 | AA28: 0.9 | AC28: 1.2 | AE28: 0.7 | AG28: 1.2 | AI28: 1 | AK28: 1.2 | AM28: 0.8 | AO28: 1.2 | AQ28: 0.8 | AS28: 0.8 | AU28: 1.2 | AW28: 1.2 | AY28: 1.2 | BA28: 0.9 | BC28: 0.9 | BE28: 0.9 | BG28: 0.9 | BI28: 0.8 | BK28: 0.7 | BM28: 1.2 | BO28: 1.2 | BQ28: 1.1 | BS28: 1 | BU28: 0.9 | BW28: 1.2 | BY28: 0.8 | CA28: 1 | CC28: 1.2 | CE28: 0.9 | CG28: 1.2 | CI28: 0.8 | CK28: 1.1 | CM28: 0.8
A29: Cerbottana (L0) | K29: 1.2 | M29: 0.9 | O29: 0.8 | Q29: 1.1 | S29: 1.3 | U29: 1.2 | W29: 1.2 | Y29: 1.1 | AA29: 0.9 | AC29: 1.2 | AE29: 1.3 | AG29: 1.2 | AI29: 1 | AK29: 1.2 | AM29: 0.8 | AO29: 1.2 | AQ29: 0.8 | AS29: 1.2 | AU29: 1.2 | AW29: 1.1 | AY29: 1.1 | BA29: 1.1 | BC29: 1.3 | BE29: 0.9 | BG29: 1.2 | BI29: 0.8 | BK29: 0.7 | BM29: 1 | BO29: 0.7 | BQ29: 1.1 | BS29: 1 | BU29: 0.9 | BW29: 0.9 | BY29: 0.8 | CA29: 1 | CC29: 1.2 | CE29: 0.9 | CG29: 1.2 | CI29: 1.1 | CK29: 0.9 | CM29: 0.8
A30: Fionda (L0) | K30: 1.1 | M30: 0.9 | O30: 0.8 | Q30: 1.2 | S30: 1.1 | U30: 1.2 | W30: 1.2 | Y30: 1.1 | AA30: 0.9 | AC30: 1.2 | AE30: 1.3 | AG30: 0.7 | AI30: 1.1 | AK30: 0.7 | AM30: 1 | AO30: 1.2 | AQ30: 0.8 | AS30: 1.2 | AU30: 0.8 | AW30: 1.1 | AY30: 1.1 | BA30: 1.2 | BC30: 1.2 | BE30: 1.2 | BG30: 1.2 | BI30: 1.2 | BK30: 1.2 | BM30: 1 | BO30: 1.2 | BQ30: 1.1 | BS30: 1 | BU30: 0.9 | BW30: 0.9 | BY30: 1.1 | CA30: 1 | CC30: 1.2 | CE30: 0.9 | CG30: 1.2 | CI30: 1.1 | CK30: 1.1 | CM30: 1.1
A32: ARMI ESOTICHE (Man, For)
A33: Catena chiodata (L0) | K33: 0.8 | M33: 0.8 | O33: 0.8 | Q33: 0.8 | S33: 1 | U33: 1.1 | W33: 1 | Y33: 0.9 | AA33: 1.1 | AC33: 0.9 | AE33: 0.7 | AG33: 0.9 | AI33: 1.2 | AK33: 0.8 | AM33: 0.8 | AO33: 1 | AQ33: 0.7 | AS33: 1.1 | AU33: 0.9 | AW33: 1.1 | AY33: 0.9 | BA33: 1.1 | BC33: 1.1 | BE33: 1.1 | BG33: 1 | BI33: 0.8 | BK33: 1.1 | BM33: 1.1 | BO33: 1 | BQ33: 1 | BS33: 0.8 | BU33: 0.7 | BW33: 0.7 | BY33: 0.7 | CA33: 0.7 | CC33: 0.9 | CE33: 1.1 | CG33: 0.8 | CI33: 1.2 | CK33: 0.8 | CM33: 1.3
A34: Frusta (Add.) | K34: 0.8 | M34: 0.8 | O34: 0.8 | Q34: 0.8 | S34: 1.2 | U34: 1.1 | W34: 1 | Y34: 0.9 | AA34: 1.1 | AC34: 0.9 | AE34: 0.7 | AG34: 0.9 | AI34: 1.2 | AK34: 0.8 | AM34: 0.8 | AO34: 1 | AQ34: 0.7 | AS34: 1.1 | AU34: 0.9 | AW34: 1 | AY34: 0.9 | BA34: 1.1 | BC34: 1.2 | BE34: 1.1 | BG34: 1.1 | BI34: 1.1 | BK34: 1.1 | BM34: 1.1 | BO34: 1 | BQ34: 1.2 | BS34: 1.3 | BU34: 0.7 | BW34: 0.7 | BY34: 0.7 | CA34: 0.7 | CC34: 0.9 | CE34: 1.1 | CG34: 0.8 | CI34: 1.2 | CK34: 1.1 | CM34: 1.1
A35: Mano artigliata (L0) | K35: 0.8 | M35: 0.8 | O35: 0.8 | Q35: 0.8 | S35: 0.9 | U35: 1.1 | W35: 1 | Y35: 0.8 | AA35: 0.8 | AC35: 0.9 | AE35: 0.7 | AG35: 0.9 | AI35: 1.2 | AK35: 0.8 | AM35: 0.8 | AO35: 1 | AQ35: 0.7 | AS35: 1.1 | AU35: 0.7 | AW35: 1 | AY35: 0.9 | BA35: 0.9 | BC35: 1.1 | BE35: 0.8 | BG35: 1 | BI35: 0.8 | BK35: 1.1 | BM35: 1.1 | BO35: 1 | BQ35: 1.3 | BS35: 0.8 | BU35: 0.7 | BW35: 0.7 | BY35: 0.7 | CA35: 0.7 | CC35: 0.9 | CE35: 1.1 | CG35: 0.8 | CI35: 0.8 | CK35: 0.8 | CM35: 1.3
A36: Mazzafrusto (L0) | K36: 0.8 | M36: 0.8 | O36: 0.8 | Q36: 0.8 | S36: 0.9 | U36: 1.1 | W36: 1 | Y36: 1.2 | AA36: 1.1 | AC36: 0.9 | AE36: 0.7 | AG36: 0.9 | AI36: 1.2 | AK36: 0.8 | AM36: 0.8 | AO36: 1 | AQ36: 0.7 | AS36: 0.7 | AU36: 0.9 | AW36: 1.1 | AY36: 1.1 | BA36: 0.9 | BC36: 0.9 | BE36: 0.8 | BG36: 1 | BI36: 0.8 | BK36: 1.1 | BM36: 1.1 | BO36: 1 | BQ36: 1 | BS36: 0.8 | BU36: 0.7 | BW36: 0.7 | BY36: 0.7 | CA36: 1.1 | CC36: 0.9 | CE36: 1.1 | CG36: 0.8 | CI36: 1.2 | CK36: 0.8 | CM36: 1.3
A37: Rete (L0) | K37: 0.8 | M37: 1.1 | O37: 1.3 | Q37: 0.8 | S37: 0.9 | U37: 0.8 | W37: 0.8 | Y37: 0.9 | AA37: 1.1 | AC37: 0.9 | AE37: 1 | AG37: 0.9 | AI37: 1.2 | AK37: 0.8 | AM37: 0.8 | AO37: 1 | AQ37: 0.7 | AS37: 1.1 | AU37: 0.9 | AW37: 1 | AY37: 1.1 | BA37: 0.9 | BC37: 0.9 | BE37: 0.8 | BG37: 1 | BI37: 0.8 | BK37: 0.9 | BM37: 1.2 | BO37: 0.9 | BQ37: 1 | BS37: 1 | BU37: 0.7 | BW37: 1.2 | BY37: 0.7 | CA37: 0.7 | CC37: 0.9 | CE37: 1.1 | CG37: 0.8 | CI37: 1.2 | CK37: 1.1 | CM37: 1.1
A38: Scudo chiodato (For, Man) (L0) | K38: 0.8 | M38: 0.8 | O38: 0.8 | Q38: 0.8 | S38: 0.9 | U38: 0.7 | W38: 0.7 | Y38: 0.9 | AA38: 0.7 | AC38: 0.9 | AE38: 0.7 | AG38: 0.9 | AI38: 1.2 | AK38: 0.8 | AM38: 0.8 | AO38: 1 | AQ38: 0.7 | AS38: 0.9 | AU38: 1.2 | AW38: 1 | AY38: 0.9 | BA38: 0.9 | BC38: 0.9 | BE38: 0.8 | BG38: 1 | BI38: 0.8 | BK38: 0.7 | BM38: 1.1 | BO38: 1 | BQ38: 1 | BS38: 0.8 | BU38: 1.2 | BW38: 0.7 | BY38: 0.7 | CA38: 0.7 | CC38: 0.9 | CE38: 1.1 | CG38: 0.8 | CI38: 0.7 | CK38: 0.8 | CM38: 1.1
A40: ARMI TAGLIENTI (For, Man)
A41: Perforanti (Agi, Rif) (L0) | K41: 1.1 | M41: 1.2 | O41: 1.2 | Q41: 0.7 | S41: 1 | U41: 0.8 | W41: 0.8 | Y41: 1 | AA41: 0.8 | AC41: 1.2 | AE41: 1 | AG41: 1.2 | AI41: 0.8 | AK41: 0.9 | AM41: 0.9 | AO41: 0.8 | AQ41: 1.1 | AS41: 0.9 | AU41: 1.2 | AW41: 1.3 | AY41: 1.1 | BA41: 1 | BC41: 0.8 | BE41: 1 | BG41: 1.1 | BI41: 0.7 | BK41: 0.8 | BM41: 1.2 | BO41: 1.2 | BQ41: 1 | BS41: 1.1 | BU41: 1.2 | BW41: 1.2 | BY41: 1 | CA41: 1.2 | CC41: 1.2 | CE41: 0.8 | CG41: 1.2 | CI41: 1.1 | CK41: 1 | CM41: 0.7
A42: Pugnali (L0) | K42: 1.1 | M42: 1.2 | O42: 1.2 | Q42: 0.7 | S42: 1 | U42: 1 | W42: 1.2 | Y42: 1 | AA42: 1 | AC42: 1.2 | AE42: 1.1 | AG42: 1.2 | AI42: 1 | AK42: 0.9 | AM42: 0.9 | AO42: 0.8 | AQ42: 1.1 | AS42: 1.2 | AU42: 1.2 | AW42: 1.3 | AY42: 1.1 | BA42: 1 | BC42: 0.8 | BE42: 1 | BG42: 1.1 | BI42: 0.7 | BK42: 1.2 | BM42: 1.2 | BO42: 1.2 | BQ42: 1 | BS42: 1.1 | BU42: 0.7 | BW42: 1.2 | BY42: 1 | CA42: 1.1 | CC42: 1.2 | CE42: 1.1 | CG42: 1.2 | CI42: 1.3 | CK42: 1 | CM42: 1.1
A43: Spade (L0) | K43: 1.2 | M43: 1.2 | O43: 1.2 | Q43: 0.7 | S43: 1 | U43: 1 | W43: 1.2 | Y43: 1 | AA43: 1 | AC43: 1.2 | AE43: 1.1 | AG43: 1.2 | AI43: 1 | AK43: 1.2 | AM43: 0.9 | AO43: 0.8 | AQ43: 0.8 | AS43: 0.9 | AU43: 1.2 | AW43: 1.3 | AY43: 1.2 | BA43: 1 | BC43: 0.8 | BE43: 1 | BG43: 1.1 | BI43: 0.7 | BK43: 1.2 | BM43: 1.2 | BO43: 1.2 | BQ43: 1 | BS43: 1.1 | BU43: 1.2 | BW43: 1.2 | BY43: 1 | CA43: 1.2 | CC43: 1.2 | CE43: 0.8 | CG43: 1.2 | CI43: 1.1 | CK43: 0.8 | CM43: 1.1
A44: Spadoni (L0) | K44: 1.1 | M44: 1.1 | O44: 0.8 | Q44: 0.7 | S44: 1 | U44: 1 | W44: 1.2 | Y44: 1.2 | AA44: 1 | AC44: 1.2 | AE44: 1.1 | AG44: 0.8 | AI44: 1 | AK44: 0.9 | AM44: 0.9 | AO44: 0.8 | AQ44: 0.8 | AS44: 0.9 | AU44: 1.2 | AW44: 1.3 | AY44: 1.1 | BA44: 1 | BC44: 0.8 | BE44: 1 | BG44: 1.1 | BI44: 0.7 | BK44: 0.9 | BM44: 1.2 | BO44: 1.2 | BQ44: 1 | BS44: 1.1 | BU44: 1.2 | BW44: 1.2 | BY44: 0.8 | CA44: 1.1 | CC44: 1 | CE44: 0.8 | CG44: 1 | CI44: 1.1 | CK44: 1 | CM44: 1.3
A46: ASCE (For, Man)
A47: Asce medie (L0) | K47: 1.2 | M47: 0.9 | O47: 1.2 | Q47: 0.7 | S47: 1.2 | U47: 1.3 | W47: 1 | Y47: 1.1 | AA47: 1.3 | AC47: 0.7 | AE47: 0.8 | AG47: 0.7 | AI47: 0.9 | AK47: 0.7 | AM47: 1.1 | AO47: 0.7 | AQ47: 0.7 | AS47: 1 | AU47: 1.1 | AW47: 0.8 | AY47: 0.8 | BA47: 1.1 | BC47: 1.1 | BE47: 1.1 | BG47: 1.1 | BI47: 0.7 | BK47: 1.2 | BM47: 1 | BO47: 1.1 | BQ47: 0.8 | BS47: 1 | BU47: 0.9 | BW47: 0.8 | BY47: 1.2 | CA47: 1 | CC47: 0.7 | CE47: 1.2 | CG47: 0.7 | CI47: 0.7 | CK47: 1.1 | CM47: 1.1
A48: Asce grandi (L0) | K48: 1.2 | M48: 0.9 | O48: 1.2 | Q48: 0.7 | S48: 1.2 | U48: 1.3 | W48: 1 | Y48: 1.1 | AA48: 1.3 | AC48: 0.7 | AE48: 0.8 | AG48: 0.7 | AI48: 0.9 | AK48: 0.7 | AM48: 1.1 | AO48: 0.7 | AQ48: 0.7 | AS48: 1 | AU48: 1.1 | AW48: 0.8 | AY48: 0.8 | BA48: 0.8 | BC48: 1.1 | BE48: 0.8 | BG48: 0.9 | BI48: 0.7 | BK48: 1.2 | BM48: 1 | BO48: 1.1 | BQ48: 0.8 | BS48: 1 | BU48: 0.9 | BW48: 0.8 | BY48: 1.2 | CA48: 1 | CC48: 0.7 | CE48: 1.2 | CG48: 0.7 | CI48: 0.7 | CK48: 1.1 | CM48: 1.3
A50: ARTIGIANATO (Man, Mem)
A51: Alchimia (Add.) | K51: 1.1 | M51: 1 | O51: 0.9 | Q51: 1.3 | S51: 1.1 | U51: 0.8 | W51: 0.8 | Y51: 1.2 | AA51: 0.8 | AC51: 1.2 | AE51: 1.1 | AG51: 1.2 | AI51: 1.2 | AK51: 1.3 | AM51: 1.2 | AO51: 1.3 | AQ51: 1.2 | AS51: 1.1 | AU51: 0.8 | AW51: 1.2 | AY51: 1.2 | BA51: 1.1 | BC51: 1.2 | BE51: 1.2 | BG51: 1.2 | BI51: 1.3 | BK51: 0.9 | BM51: 0.9 | BO51: 1.1 | BQ51: 0.9 | BS51: 1.2 | BU51: 1.1 | BW51: 1.1 | BY51: 1.2 | CA51: 1.2 | CC51: 1.2 | CE51: 1 | CG51: 1.2 | CI51: 1.2 | CK51: 1.2 | CM51: 0.7
A52: Creare trappole (L0, Add.) | K52: 1.2 | M52: 1.2 | O52: 1.2 | Q52: 1.2 | S52: 1.2 | U52: 1 | W52: 1 | Y52: 1.2 | AA52: 1 | AC52: 1.3 | AE52: 1.3 | AG52: 1.2 | AI52: 0.8 | AK52: 0.8 | AM52: 1.1 | AO52: 1.2 | AQ52: 0.8 | AS52: 0.8 | AU52: 1.2 | AW52: 1.2 | AY52: 0.7 | BA52: 0.8 | BC52: 1.1 | BE52: 1 | BG52: 1 | BI52: 1.2 | BK52: 1.2 | BM52: 0.9 | BO52: 1.2 | BQ52: 1.1 | BS52: 1.2 | BU52: 0.8 | BW52: 1.2 | BY52: 1.1 | CA52: 1.1 | CC52: 1.2 | CE52: 1.2 | CG52: 1.2 | CI52: 0.8 | CK52: 0.9 | CM52: 1.1
A53: Creare veleni (Add.) | K53: 0.9 | M53: 0.9 | O53: 1.1 | Q53: 1.2 | S53: 0.8 | U53: 1 | W53: 1 | Y53: 0.9 | AA53: 1 | AC53: 0.9 | AE53: 1.2 | AG53: 1.3 | AI53: 1.2 | AK53: 1.3 | AM53: 1.1 | AO53: 1.2 | AQ53: 1.2 | AS53: 1.1 | AU53: 0.9 | AW53: 0.8 | AY53: 0.8 | BA53: 1.2 | BC53: 1.3 | BE53: 1.2 | BG53: 1.3 | BI53: 1.2 | BK53: 0.9 | BM53: 0.9 | BO53: 1.1 | BQ53: 0.8 | BS53: 0.7 | BU53: 1.1 | BW53: 1.2 | BY53: 1.1 | CA53: 1.1 | CC53: 1.2 | CE53: 1 | CG53: 1.2 | CI53: 0.7 | CK53: 0.9 | CM53: 1.2
A54: Forgiare armature (L0, Add.) | K54: 1.1 | M54: 1 | O54: 0.9 | Q54: 1.1 | S54: 0.8 | U54: 1.1 | W54: 1.1 | Y54: 1.2 | AA54: 1.1 | AC54: 1.1 | AE54: 1.1 | AG54: 1.2 | AI54: 0.8 | AK54: 1.3 | AM54: 1 | AO54: 1.2 | AQ54: 0.8 | AS54: 0.8 | AU54: 1.2 | AW54: 1.3 | AY54: 1.3 | BA54: 0.8 | BC54: 0.8 | BE54: 1 | BG54: 1 | BI54: 1.2 | BK54: 0.9 | BM54: 0.9 | BO54: 1.1 | BQ54: 1.1 | BS54: 1.3 | BU54: 1.1 | BW54: 1.2 | BY54: 1.1 | CA54: 1.1 | CC54: 1.2 | CE54: 1.1 | CG54: 1.3 | CI54: 1.2 | CK54: 0.9 | CM54: 0.7
A55: Forgiare armi (L0, Add.) | K55: 1.1 | M55: 1 | O55: 0.9 | Q55: 1.1 | S55: 0.8 | U55: 1.1 | W55: 1.1 | Y55: 1.1 | AA55: 1.1 | AC55: 1.2 | AE55: 1.1 | AG55: 1.3 | AI55: 0.8 | AK55: 1.3 | AM55: 1.1 | AO55: 0.9 | AQ55: 0.8 | AS55: 1.1 | AU55: 1.2 | AW55: 1.2 | AY55: 1.2 | BA55: 0.8 | BC55: 1.1 | BE55: 1 | BG55: 1 | BI55: 0.8 | BK55: 0.9 | BM55: 0.9 | BO55: 1.2 | BQ55: 1.1 | BS55: 1.2 | BU55: 1.2 | BW55: 1.3 | BY55: 1.2 | CA55: 1.1 | CC55: 1.2 | CE55: 1.2 | CG55: 1.2 | CI55: 1.2 | CK55: 0.9 | CM55: 1.2
A56: Lavorare i metalli (L0, Add.) | K56: 1.1 | M56: 1 | O56: 0.9 | Q56: 0.8 | S56: 0.8 | U56: 1 | W56: 1 | Y56: 1.2 | AA56: 1 | AC56: 1.1 | AE56: 1.1 | AG56: 1.2 | AI56: 1.1 | AK56: 1.3 | AM56: 0.7 | AO56: 1 | AQ56: 0.8 | AS56: 1.1 | AU56: 1.2 | AW56: 1.2 | AY56: 1.2 | BA56: 0.8 | BC56: 1.1 | BE56: 1 | BG56: 1 | BI56: 1.2 | BK56: 0.9 | BM56: 0.9 | BO56: 1.1 | BQ56: 1.1 | BS56: 1.2 | BU56: 1.1 | BW56: 1.2 | BY56: 1.1 | CA56: 1.1 | CC56: 1.2 | CE56: 1 | CG56: 1.1 | CI56: 1.2 | CK56: 1.2 | CM56: 1.1
A57: Lavorare i tessuti (L0, Add.) | K57: 1.1 | M57: 1 | O57: 0.9 | Q57: 1.1 | S57: 0.8 | U57: 1 | W57: 1 | Y57: 1.2 | AA57: 1 | AC57: 1.1 | AE57: 0.9 | AG57: 1.2 | AI57: 0.8 | AK57: 0.9 | AM57: 1.1 | AO57: 1.2 | AQ57: 0.8 | AS57: 1.1 | AU57: 1 | AW57: 1.2 | AY57: 1.2 | BA57: 0.8 | BC57: 1.1 | BE57: 1 | BG57: 1 | BI57: 1.2 | BK57: 1.2 | BM57: 1.2 | BO57: 1.1 | BQ57: 1.1 | BS57: 1.2 | BU57: 1.2 | BW57: 1.2 | BY57: 1.1 | CA57: 1.2 | CC57: 1 | CE57: 1 | CG57: 1.1 | CI57: 1.3 | CK57: 1.2 | CM57: 0.7
A58: Lavorare il legno (L0, Add.) | K58: 1.1 | M58: 1.2 | O58: 1.1 | Q58: 1.1 | S58: 1.2 | U58: 1 | W58: 1 | Y58: 1.2 | AA58: 1 | AC58: 1.1 | AE58: 1.2 | AG58: 1.2 | AI58: 1.2 | AK58: 1.3 | AM58: 1.1 | AO58: 0.7 | AQ58: 0.8 | AS58: 1.1 | AU58: 1.2 | AW58: 1.2 | AY58: 1.2 | BA58: 1.1 | BC58: 1.1 | BE58: 1.1 | BG58: 1.1 | BI58: 1.2 | BK58: 0.9 | BM58: 1.2 | BO58: 1.1 | BQ58: 1.1 | BS58: 1.2 | BU58: 1.1 | BW58: 1.2 | BY58: 1.1 | CA58: 1.1 | CC58: 1.2 | CE58: 1 | CG58: 1.2 | CI58: 0.7 | CK58: 0.9 | CM58: 0.7
A59: Lavorare la pietra (L0, Add.) | K59: 1.2 | M59: 1 | O59: 0.9 | Q59: 1.1 | S59: 0.8 | U59: 1.3 | W59: 1.3 | Y59: 1.1 | AA59: 1.3 | AC59: 1.1 | AE59: 1.1 | AG59: 0.7 | AI59: 0.8 | AK59: 0.7 | AM59: 1.1 | AO59: 1.2 | AQ59: 1 | AS59: 0.8 | AU59: 1.2 | AW59: 1.2 | AY59: 1.2 | BA59: 0.8 | BC59: 1.1 | BE59: 1 | BG59: 1 | BI59: 1.2 | BK59: 1.2 | BM59: 1.2 | BO59: 1.2 | BQ59: 1.3 | BS59: 1.2 | BU59: 1.2 | BW59: 1.3 | BY59: 1.2 | CA59: 1.2 | CC59: 1.1 | CE59: 1 | CG59: 1.2 | CI59: 1.2 | CK59: 0.9 | CM59: 0.7
A61: ARTIGIANATO RUNICO (Man, Mem)
A62: Artigianato dell'Alterazione (Add.) | K62: 1.2 | M62: 1.2 | O62: 0.7 | Q62: 1 | S62: 1 | U62: 0.9 | W62: 0.9 | Y62: 0.8 | AA62: 0.9 | AC62: 0.7 | AE62: 1 | AG62: 1 | AI62: 0.7 | AK62: 0.7 | AM62: 0.7 | AO62: 1 | AQ62: 1.1 | AS62: 0.8 | AU62: 0.7 | AW62: 0.7 | AY62: 0.7 | BA62: 1.1 | BC62: 1.1 | BE62: 0.9 | BG62: 0.8 | BI62: 1 | BK62: 0.7 | BM62: 0.7 | BO62: 0.7 | BQ62: 1.2 | BS62: 0.7 | BU62: 1 | BW62: 1 | BY62: 0.9 | CA62: 1.1 | CC62: 1.1 | CE62: 0.7 | CG62: 1.1 | CI62: 0.8 | CK62: 1.2 | CM62: 0.7
A63: Artigianato degli Animali (Add.) | K63: 1.2 | M63: 1.2 | O63: 0.7 | Q63: 1 | S63: 1 | U63: 0.9 | W63: 0.9 | Y63: 0.8 | AA63: 0.9 | AC63: 0.7 | AE63: 1 | AG63: 1 | AI63: 0.7 | AK63: 0.7 | AM63: 0.7 | AO63: 1 | AQ63: 1.1 | AS63: 0.8 | AU63: 0.7 | AW63: 0.7 | AY63: 0.7 | BA63: 1.1 | BC63: 1.1 | BE63: 0.9 | BG63: 0.8 | BI63: 1 | BK63: 0.7 | BM63: 0.7 | BO63: 0.7 | BQ63: 1.2 | BS63: 0.7 | BU63: 1 | BW63: 1 | BY63: 0.9 | CA63: 1.1 | CC63: 1.1 | CE63: 0.7 | CG63: 1.1 | CI63: 0.8 | CK63: 1.2 | CM63: 0.7
A64: Artigianato della Divinazione (Add.) | K64: 1.2 | M64: 1.2 | O64: 0.7 | Q64: 1 | S64: 1 | U64: 0.9 | W64: 0.9 | Y64: 0.8 | AA64: 0.9 | AC64: 0.7 | AE64: 1 | AG64: 1 | AI64: 0.7 | AK64: 0.7 | AM64: 0.7 | AO64: 1 | AQ64: 1.1 | AS64: 0.8 | AU64: 0.7 | AW64: 0.7 | AY64: 0.7 | BA64: 1.1 | BC64: 1.1 | BE64: 0.9 | BG64: 0.8 | BI64: 1 | BK64: 0.7 | BM64: 0.7 | BO64: 0.7 | BQ64: 1.2 | BS64: 0.7 | BU64: 1 | BW64: 1 | BY64: 0.9 | CA64: 1.1 | CC64: 1.1 | CE64: 0.7 | CG64: 1.1 | CI64: 0.8 | CK64: 1.2 | CM64: 0.7
A65: Artigianato degli Elementi (Add.) | K65: 1.2 | M65: 1.2 | O65: 0.7 | Q65: 1 | S65: 1 | U65: 0.9 | W65: 0.9 | Y65: 0.8 | AA65: 0.9 | AC65: 0.7 | AE65: 1 | AG65: 1 | AI65: 0.7 | AK65: 0.7 | AM65: 0.7 | AO65: 1 | AQ65: 1.1 | AS65: 0.8 | AU65: 0.7 | AW65: 0.7 | AY65: 0.7 | BA65: 1.1 | BC65: 1.1 | BE65: 0.9 | BG65: 0.8 | BI65: 1 | BK65: 0.7 | BM65: 0.7 | BO65: 0.7 | BQ65: 1.2 | BS65: 0.7 | BU65: 1 | BW65: 1 | BY65: 0.9 | CA65: 1.1 | CC65: 1.1 | CE65: 0.7 | CG65: 1.1 | CI65: 0.8 | CK65: 1.2 | CM65: 0.7
A66: Artigianato della Guerra (Add.) | K66: 1.2 | M66: 1.2 | O66: 0.7 | Q66: 1 | S66: 1 | U66: 0.9 | W66: 0.9 | Y66: 0.8 | AA66: 0.9 | AC66: 0.7 | AE66: 1 | AG66: 1 | AI66: 0.7 | AK66: 0.7 | AM66: 0.7 | AO66: 1 | AQ66: 1.1 | AS66: 0.8 | AU66: 0.7 | AW66: 0.7 | AY66: 0.7 | BA66: 1.1 | BC66: 1.1 | BE66: 0.9 | BG66: 0.8 | BI66: 1 | BK66: 0.7 | BM66: 0.7 | BO66: 0.7 | BQ66: 1.2 | BS66: 0.7 | BU66: 1 | BW66: 1 | BY66: 0.9 | CA66: 1.1 | CC66: 1.1 | CE66: 0.7 | CG66: 1.1 | CI66: 0.8 | CK66: 1.2 | CM66: 0.7
A67: Artigianato della Morte (Add.) | K67: 1.2 | M67: 1.2 | O67: 0.7 | Q67: 1 | S67: 1 | U67: 0.9 | W67: 0.9 | Y67: 0.8 | AA67: 0.9 | AC67: 0.7 | AE67: 1 | AG67: 1 | AI67: 0.7 | AK67: 0.7 | AM67: 0.7 | AO67: 1 | AQ67: 1.1 | AS67: 0.8 | AU67: 0.7 | AW67: 0.7 | AY67: 0.7 | BA67: 1.1 | BC67: 1.1 | BE67: 0.9 | BG67: 0.8 | BI67: 1 | BK67: 0.7 | BM67: 0.7 | BO67: 0.7 | BQ67: 1.2 | BS67: 0.7 | BU67: 1 | BW67: 1 | BY67: 0.9 | CA67: 1.1 | CC67: 1.1 | CE67: 0.7 | CG67: 1.1 | CI67: 0.8 | CK67: 1.2 | CM67: 0.7
A68: Artigianato della Natura (Add.) | K68: 1.2 | M68: 1.2 | O68: 0.7 | Q68: 1.2 | S68: 1 | U68: 0.9 | W68: 0.9 | Y68: 0.8 | AA68: 0.9 | AC68: 0.7 | AE68: 1 | AG68: 1 | AI68: 0.7 | AK68: 0.7 | AM68: 0.7 | AO68: 1 | AQ68: 1.1 | AS68: 0.7 | AU68: 0.7 | AW68: 0.7 | AY68: 0.7 | BA68: 1.1 | BC68: 1.1 | BE68: 0.9 | BG68: 0.8 | BI68: 1 | BK68: 0.7 | BM68: 0.7 | BO68: 0.7 | BQ68: 1.2 | BS68: 0.7 | BU68: 1 | BW68: 1 | BY68: 0.9 | CA68: 1.1 | CC68: 1.1 | CE68: 0.7 | CG68: 1.1 | CI68: 0.8 | CK68: 1.2 | CM68: 0.7
A69: Artigianato della Ombre (Add.) | K69: 1.2 | M69: 1.2 | O69: 0.7 | Q69: 1 | S69: 1 | U69: 0.9 | W69: 0.9 | Y69: 0.8 | AA69: 0.9 | AC69: 0.7 | AE69: 1 | AG69: 1 | AI69: 0.7 | AK69: 0.7 | AM69: 0.7 | AO69: 1 | AQ69: 1.1 | AS69: 0.8 | AU69: 0.7 | AW69: 0.7 | AY69: 0.7 | BA69: 1.1 | BC69: 1.1 | BE69: 0.9 | BG69: 0.8 | BI69: 1 | BK69: 0.7 | BM69: 0.7 | BO69: 0.7 | BQ69: 1.2 | BS69: 0.7 | BU69: 1 | BW69: 1 | BY69: 0.9 | CA69: 1.1 | CC69: 1.1 | CE69: 0.7 | CG69: 1.1 | CI69: 0.8 | CK69: 1.2 | CM69: 0.7
A70: Artigianato della Protezione (Add.) | K70: 1.2 | M70: 1.2 | O70: 0.7 | Q70: 1 | S70: 1 | U70: 0.9 | W70: 0.9 | Y70: 0.8 | AA70: 0.9 | AC70: 0.7 | AE70: 1 | AG70: 1 | AI70: 0.7 | AK70: 0.7 | AM70: 0.7 | AO70: 1 | AQ70: 1.1 | AS70: 0.8 | AU70: 0.7 | AW70: 0.7 | AY70: 0.7 | BA70: 1.1 | BC70: 1.1 | BE70: 0.9 | BG70: 0.8 | BI70: 1 | BK70: 0.7 | BM70: 0.7 | BO70: 0.7 | BQ70: 1.2 | BS70: 0.7 | BU70: 1 | BW70: 1 | BY70: 0.9 | CA70: 1.1 | CC70: 1.1 | CE70: 0.7 | CG70: 1.1 | CI70: 0.8 | CK70: 1.2 | CM70: 0.7
A71: Artigianato dello Spirito (Add.) | K71: 1.2 | M71: 1.2 | O71: 0.7 | Q71: 1 | S71: 1 | U71: 0.9 | W71: 0.9 | Y71: 0.8 | AA71: 0.9 | AC71: 0.7 | AE71: 1 | AG71: 1 | AI71: 0.7 | AK71: 0.7 | AM71: 0.7 | AO71: 1 | AQ71: 1.1 | AS71: 0.8 | AU71: 0.7 | AW71: 0.7 | AY71: 0.7 | BA71: 1.1 | BC71: 1.1 | BE71: 0.9 | BG71: 0.8 | BI71: 1 | BK71: 0.7 | BM71: 0.7 | BO71: 0.7 | BQ71: 1.2 | BS71: 0.7 | BU71: 1 | BW71: 1 | BY71: 0.9 | CA71: 1.1 | CC71: 1.1 | CE71: 0.7 | CG71: 1.1 | CI71: 0.8 | CK71: 1.2 | CM71: 0.7
A72: Artigianato della Vita (Add.) | K72: 1.2 | M72: 1.2 | O72: 0.7 | Q72: 1 | S72: 1 | U72: 0.9 | W72: 0.9 | Y72: 0.8 | AA72: 0.9 | AC72: 0.7 | AE72: 1 | AG72: 1 | AI72: 0.7 | AK72: 0.7 | AM72: 0.7 | AO72: 1 | AQ72: 1.1 | AS72: 0.8 | AU72: 0.7 | AW72: 0.7 | AY72: 0.7 | BA72: 1.1 | BC72: 1.1 | BE72: 0.9 | BG72: 0.8 | BI72: 1 | BK72: 0.7 | BM72: 0.7 | BO72: 0.7 | BQ72: 1.2 | BS72: 0.7 | BU72: 1 | BW72: 1 | BY72: 0.9 | CA72: 1.1 | CC72: 1.1 | CE72: 0.7 | CG72: 1.1 | CI72: 0.8 | CK72: 1.2 | CM72: 0.7
A73: Artigianato Universale (Add.) | K73: 1.2 | M73: 1.2 | O73: 0.7 | Q73: 1 | S73: 1 | U73: 0.9 | W73: 0.9 | Y73: 0.8 | AA73: 0.9 | AC73: 0.7 | AE73: 1 | AG73: 1 | AI73: 0.7 | AK73: 0.7 | AM73: 0.7 | AO73: 1 | AQ73: 1.1 | AS73: 0.8 | AU73: 0.7 | AW73: 0.7 | AY73: 0.7 | BA73: 1.2 | BC73: 1.2 | BE73: 0.9 | BG73: 0.8 | BI73: 1 | BK73: 0.7 | BM73: 0.7 | BO73: 0.7 | BQ73: 1.2 | BS73: 0.7 | BU73: 1 | BW73: 1 | BY73: 0.9 | CA73: 1.1 | CC73: 1.1 | CE73: 0.7 | CG73: 1.1 | CI73: 0.8 | CK73: 1.2 | CM73: 0.7
A75: CAPACITÀ FISICHE (For, Cos)
A76: Acrobazia* (Agi, For) (L0) | K76: 1.1 | M76: 1 | O76: 1.2 | Q76: 1.1 | S76: 1.1 | U76: 1.2 | W76: 1.1 | Y76: 1.1 | AA76: 1.2 | AC76: 1.3 | AE76: 1.2 | AG76: 1.2 | AI76: 1.1 | AK76: 1 | AM76: 1.2 | AO76: 1.2 | AQ76: 0.7 | AS76: 1.2 | AU76: 1.1 | AW76: 1 | AY76: 1 | BA76: 0.9 | BC76: 1.1 | BE76: 1.1 | BG76: 1.1 | BI76: 0.9 | BK76: 1.3 | BM76: 0.9 | BO76: 1.1 | BQ76: 1.1 | BS76: 1 | BU76: 0.9 | BW76: 0.8 | BY76: 1.1 | CA76: 0.9 | CC76: 1.1 | CE76: 1.2 | CG76: 1.2 | CI76: 1.3 | CK76: 1 | CM76: 0.9
A77: Equilibrio* (Agi, For) (L0) | K77: 1.1 | M77: 1 | O77: 1.2 | Q77: 1.1 | S77: 1.1 | U77: 1.2 | W77: 1.1 | Y77: 1.1 | AA77: 1.2 | AC77: 1.2 | AE77: 1.2 | AG77: 1.2 | AI77: 1.2 | AK77: 1 | AM77: 1.2 | AO77: 1.2 | AQ77: 1 | AS77: 1.2 | AU77: 1.1 | AW77: 1.1 | AY77: 1.2 | BA77: 0.9 | BC77: 1.1 | BE77: 1.1 | BG77: 1.1 | BI77: 1 | BK77: 1.3 | BM77: 0.9 | BO77: 1.1 | BQ77: 1 | BS77: 1.2 | BU77: 1.2 | BW77: 0.8 | BY77: 1.2 | CA77: 1.2 | CC77: 1.1 | CE77: 1.2 | CG77: 1.2 | CI77: 1 | CK77: 1 | CM77: 1.2
A78: Lotta* (L0) | K78: 1.1 | M78: 1 | O78: 1.2 | Q78: 1.2 | S78: 1.2 | U78: 1.3 | W78: 1.2 | Y78: 1.2 | AA78: 1.3 | AC78: 1.1 | AE78: 1.2 | AG78: 1 | AI78: 1.2 | AK78: 1 | AM78: 1.2 | AO78: 1.2 | AQ78: 0.7 | AS78: 1.2 | AU78: 1.1 | AW78: 1.1 | AY78: 1.2 | BA78: 1.2 | BC78: 1.3 | BE78: 1.2 | BG78: 1.2 | BI78: 1.2 | BK78: 1.3 | BM78: 1.1 | BO78: 1.2 | BQ78: 1 | BS78: 0.8 | BU78: 1.2 | BW78: 0.8 | BY78: 1.1 | CA78: 0.9 | CC78: 0.9 | CE78: 1.2 | CG78: 0.9 | CI78: 1.3 | CK78: 1 | CM78: 1.3
A79: Nuotare* (L0) | K79: 1.1 | M79: 1.2 | O79: 1.3 | Q79: 1.1 | S79: 1.1 | U79: 0.7 | W79: 0.7 | Y79: 1.1 | AA79: 0.7 | AC79: 1.1 | AE79: 0.8 | AG79: 1 | AI79: 1.2 | AK79: 0.7 | AM79: 1.2 | AO79: 1.2 | AQ79: 0.7 | AS79: 1.2 | AU79: 1.1 | AW79: 1.1 | AY79: 1.2 | BA79: 1 | BC79: 1.1 | BE79: 1.1 | BG79: 1.1 | BI79: 1.2 | BK79: 1.1 | BM79: 0.9 | BO79: 1.1 | BQ79: 1.2 | BS79: 1 | BU79: 1.2 | BW79: 0.8 | BY79: 1.1 | CA79: 1 | CC79: 0.9 | CE79: 1 | CG79: 0.9 | CI79: 0.7 | CK79: 1.1 | CM79: 1.2
A80: Saltare* (L0) | K80: 0.9 | M80: 1 | O80: 1.2 | Q80: 1.1 | S80: 1.1 | U80: 1.2 | W80: 1.1 | Y80: 1.1 | AA80: 1.2 | AC80: 1.1 | AE80: 1.2 | AG80: 1 | AI80: 1.3 | AK80: 1 | AM80: 1.2 | AO80: 1.2 | AQ80: 0.7 | AS80: 1.2 | AU80: 1.1 | AW80: 1.1 | AY80: 1.2 | BA80: 0.9 | BC80: 1.1 | BE80: 1.1 | BG80: 1.1 | BI80: 1.2 | BK80: 1.3 | BM80: 1.1 | BO80: 1.1 | BQ80: 1.2 | BS80: 1 | BU80: 1.2 | BW80: 0.8 | BY80: 1.1 | CA80: 1.2 | CC80: 0.9 | CE80: 1.2 | CG80: 0.9 | CI80: 1.3 | CK80: 1 | CM80: 1.2
A81: Scalare* (L0) | K81: 0.8 | M81: 0.8 | O81: 0.8 | Q81: 1.1 | S81: 1.1 | U81: 1.3 | W81: 1.2 | Y81: 1.1 | AA81: 1.3 | AC81: 1.1 | AE81: 1.2 | AG81: 1 | AI81: 1.2 | AK81: 1 | AM81: 0.9 | AO81: 1.2 | AQ81: 0.7 | AS81: 1.2 | AU81: 1.1 | AW81: 1.1 | AY81: 1.2 | BA81: 0.9 | BC81: 1.1 | BE81: 1.1 | BG81: 1.1 | BI81: 1.2 | BK81: 1 | BM81: 0.9 | BO81: 1 | BQ81: 1 | BS81: 1 | BU81: 0.8 | BW81: 0.8 | BY81: 1.1 | CA81: 1.2 | CC81: 0.9 | CE81: 0.8 | CG81: 0.9 | CI81: 1.3 | CK81: 1.2 | CM81: 1.2
A83: CONOSCENZE (Mem, Int)
A84: Animali (L0, Add.) | K84: 1 | M84: 1 | O84: 0.7 | Q84: 1.1 | S84: 1 | U84: 1.2 | W84: 1.2 | Y84: 1.2 | AA84: 1.2 | AC84: 1.2 | AE84: 0.8 | AG84: 1.2 | AI84: 1.1 | AK84: 1.2 | AM84: 1.1 | AO84: 1.2 | AQ84: 1.2 | AS84: 1.1 | AU84: 1.1 | AW84: 1.1 | AY84: 1.1 | BA84: 1 | BC84: 1.2 | BE84: 1.1 | BG84: 0.9 | BI84: 1.1 | BK84: 1.2 | BM84: 0.8 | BO84: 0.8 | BQ84: 1.2 | BS84: 1 | BU84: 1 | BW84: 0.9 | BY84: 0.8 | CA84: 1 | CC84: 1.2 | CE84: 1.1 | CG84: 1.2 | CI84: 1 | CK84: 1.1 | CM84: 0.8
A85: Dimensioni (L0, Add.) | K85: 0.8 | M85: 0.8 | O85: 0.7 | Q85: 0.8 | S85: 0.8 | U85: 0.9 | W85: 0.9 | Y85: 0.8 | AA85: 0.9 | AC85: 1 | AE85: 0.8 | AG85: 1.2 | AI85: 0.8 | AK85: 1.2 | AM85: 0.9 | AO85: 0.9 | AQ85: 1.2 | AS85: 0.7 | AU85: 0.8 | AW85: 1.1 | AY85: 1.1 | BA85: 0.8 | BC85: 0.8 | BE85: 0.9 | BG85: 0.7 | BI85: 1 | BK85: 0.7 | BM85: 0.8 | BO85: 0.8 | BQ85: 1.2 | BS85: 1.1 | BU85: 0.8 | BW85: 0.9 | BY85: 0.8 | CA85: 0.8 | CC85: 1 | CE85: 0.8 | CG85: 1.2 | CI85: 1 | CK85: 0.8 | CM85: 1.2
A86: Geografia (L0, Add.) ( ) | K86: 1 | M86: 1.3 | O86: 1.1 | Q86: 1.1 | S86: 1 | U86: 0.9 | W86: 0.9 | Y86: 1.2 | AA86: 0.9 | AC86: 1,2* | AE86: 0.8 | AG86: 1.2 | AI86: 0.8 | AK86: 1.2 | AM86: 0.9 | AO86: 0.9 | AQ86: 1.2 | AS86: 0.7 | AU86: 0.8 | AW86: 1.1 | AY86: 1.1 | BA86: 1 | BC86: 0.8 | BE86: 1.1 | BG86: 0.9 | BI86: 1,3* | BK86: 0.7 | BM86: 1.1 | BO86: 0.8 | BQ86: 1.2 | BS86: 1 | BU86: 0.8 | BW86: 1.1 | BY86: 0.8 | CA86: 0.8 | CC86: 1.2 | CE86: 0.8 | CG86: 1.2 | CI86: 1 | CK86: 0.8 | CM86: 1.1
A87: Geografia (L0, Add.) ( ) | K87: 1 | M87: 1.3 | O87: 1.1 | Q87: 1.1 | S87: 1 | U87: 0.9 | W87: 0.9 | Y87: 1.2 | AA87: 0.9 | AC87: 1 | AE87: 0.8 | AG87: 1.2 | AI87: 0.8 | AK87: 1.2 | AM87: 0.9 | AO87: 0.9 | AQ87: 1.2 | AS87: 0.7 | AU87: 0.8 | AW87: 1.1 | AY87: 1.1 | BA87: 1 | BC87: 0.8 | BE87: 1.1 | BG87: 0.9 | BI87: 1 | BK87: 0.7 | BM87: 1.1 | BO87: 0.8 | BQ87: 1.2 | BS87: 1 | BU87: 0.8 | BW87: 1.1 | BY87: 0.8 | CA87: 0.8 | CC87: 1.2 | CE87: 0.8 | CG87: 1.2 | CI87: 1 | CK87: 0.8 | CM87: 1.1
A88: Geografia (L0, Add.) ( ) | K88: 1 | M88: 1.3 | O88: 1.1 | Q88: 1.1 | S88: 1 | U88: 0.9 | W88: 0.9 | Y88: 1.2 | AA88: 0.9 | AC88: 1 | AE88: 0.8 | AG88: 1.2 | AI88: 0.8 | AK88: 1.2 | AM88: 0.9 | AO88: 0.9 | AQ88: 1.2 | AS88: 0.7 | AU88: 0.8 | AW88: 1.1 | AY88: 1.1 | BA88: 1 | BC88: 0.8 | BE88: 1.1 | BG88: 0.9 | BI88: 1 | BK88: 0.7 | BM88: 1.1 | BO88: 0.8 | BQ88: 1.2 | BS88: 1 | BU88: 0.8 | BW88: 1.1 | BY88: 0.8 | CA88: 0.8 | CC88: 1.2 | CE88: 0.8 | CG88: 1.2 | CI88: 1 | CK88: 0.8 | CM88: 1.1
A89: Locali (L0, Add.) ( ) | K89: 1 | M89: 1 | O89: 1,2* | Q89: 1 | S89: 1 | U89: 1,2* | W89: 1,2* | Y89: 1,2* | AA89: 1,2* | AC89: 1,3* | AE89: 1,3* | AG89: 1.2 | AI89: 0.8 | AK89: 1.2 | AM89: 0.9 | AO89: 0.9 | AQ89: 1.2 | AS89: 1.3 | AU89: 0.8 | AW89: 1.1 | AY89: 1.1 | BA89: 1 | BC89: 0.8 | BE89: 1.1 | BG89: 0.9 | BI89: 1 | BK89: 1.3 | BM89: 1,1* | BO89: 1,3* | BQ89: 1.2 | BS89: 1 | BU89: 0.8 | BW89: 0.9 | BY89: 0.8 | CA89: 1.1 | CC89: 1.2 | CE89: 1.2* | CG89: 1.2 | CI89: 1,3* | CK89: 0.8 | CM89: 1.1
A90: Locali (L0, Add.) ( ) | K90: 1 | M90: 1 | O90: 0.7 | Q90: 1 | S90: 1 | U90: 0.9 | W90: 0.9 | Y90: 0.8 | AA90: 0.9 | AC90: 1 | AE90: 0.8 | AG90: 1.2 | AI90: 0.8 | AK90: 1.2 | AM90: 0.9 | AO90: 0.9 | AQ90: 1.2 | AS90: 1.3 | AU90: 0.8 | AW90: 1.1 | AY90: 1.1 | BA90: 1 | BC90: 0.8 | BE90: 1.1 | BG90: 0.9 | BI90: 1 | BK90: 1.3 | BM90: 0.8 | BO90: 0.8 | BQ90: 1.2 | BS90: 1 | BU90: 0.8 | BW90: 0.9 | BY90: 0.8 | CA90: 1.1 | CC90: 1.2 | CE90: 0.8 | CG90: 1.2 | CI90: 1 | CK90: 0.8 | CM90: 1.1
A91: Locali (L0, Add.) ( ) | K91: 1 | M91: 1 | O91: 0.7 | Q91: 1 | S91: 1 | U91: 0.9 | W91: 0.9 | Y91: 0.8 | AA91: 0.9 | AC91: 1 | AE91: 0.8 | AG91: 1.2 | AI91: 0.8 | AK91: 1.2 | AM91: 0.9 | AO91: 0.9 | AQ91: 1.2 | AS91: 1.3 | AU91: 0.8 | AW91: 1.1 | AY91: 1.1 | BA91: 1 | BC91: 0.8 | BE91: 1.1 | BG91: 0.9 | BI91: 1 | BK91: 1.3 | BM91: 0.8 | BO91: 0.8 | BQ91: 1.2 | BS91: 1 | BU91: 0.8 | BW91: 0.9 | BY91: 0.8 | CA91: 1.1 | CC91: 1.2 | CE91: 0.8 | CG91: 1.2 | CI91: 1 | CK91: 0.8 | CM91: 1.1
A92: Magia dell'Ordine (L0, Add.) | K92: 1.2 | M92: 1.2 | O92: 0.7 | Q92: 1 | S92: 1 | U92: 0.7 | W92: 0.7 | Y92: 0.8 | AA92: 0.7 | AC92: 0.7 | AE92: 0.8 | AG92: 0.7 | AI92: 0.7 | AK92: 0.7 | AM92: 0.7 | AO92: 0.7 | AQ92: 0.7 | AS92: 0.7 | AU92: 0.8 | AW92: 0.7 | AY92: 0.7 | BA92: 0.7 | BC92: 0.8 | BE92: 1.1 | BG92: 0.7 | BI92: 0.7 | BK92: 0.7 | BM92: 0.8 | BO92: 0.8 | BQ92: 0.7 | BS92: 1 | BU92: 0.8 | BW92: 0.9 | BY92: 0.8 | CA92: 0.8 | CC92: 1.2 | CE92: 0.7 | CG92: 1.2 | CI92: 0.7 | CK92: 0.8 | CM92: 0.7
A93: Magia demoniaca (L0) | K93: 1 | M93: 1 | O93: 0.7 | Q93: 1 | S93: 1 | U93: 0.8 | W93: 1 | Y93: 0.8 | AA93: 0.8 | AC93: 0.7 | AE93: 0.8 | AG93: 0.8 | AI93: 0.7 | AK93: 0.9 | AM93: 0.7 | AO93: 0.8 | AQ93: 0.9 | AS93: 0.7 | AU93: 0.8 | AW93: 0.7 | AY93: 0.7 | BA93: 1.2 | BC93: 1.2 | BE93: 1.2 | BG93: 1.2 | BI93: 1 | BK93: 0.7 | BM93: 0.8 | BO93: 0.8 | BQ93: 0.7 | BS93: 1 | BU93: 0.8 | BW93: 0.9 | BY93: 0.8 | CA93: 0.8 | CC93: 1.2 | CE93: 0.8 | CG93: 0.7 | CI93: 0.7 | CK93: 0.8 | CM93: 1.3
A94: Magia di Gaia (L0) | K94: 1 | M94: 1 | O94: 0.7 | Q94: 1 | S94: 1 | U94: 0.9 | W94: 0.9 | Y94: 0.8 | AA94: 0.9 | AC94: 1.2 | AE94: 1.2 | AG94: 1.3 | AI94: 0.8 | AK94: 1.2 | AM94: 0.9 | AO94: 0.9 | AQ94: 1.3 | AS94: 0.7 | AU94: 0.8 | AW94: 0.7 | AY94: 0.7 | BA94: 1 | BC94: 0.8 | BE94: 1.1 | BG94: 0.9 | BI94: 1 | BK94: 1.1 | BM94: 1.1 | BO94: 1.1 | BQ94: 1.1 | BS94: 1 | BU94: 0.8 | BW94: 0.9 | BY94: 0.8 | CA94: 0.8 | CC94: 1.2 | CE94: 0.8 | CG94: 1.2 | CI94: 1 | CK94: 0.8 | CM94: 1.1
A95: Magia runica (L0) | K95: 0.7 | M95: 0.7 | O95: 0.7 | Q95: 1 | S95: 0.7 | U95: 0.9 | W95: 0.9 | Y95: 0.8 | AA95: 0.9 | AC95: 1 | AE95: 1 | AG95: 1.2 | AI95: 0.8 | AK95: 1.2 | AM95: 0.9 | AO95: 0.9 | AQ95: 1.1 | AS95: 0.7 | AU95: 0.8 | AW95: 0.7 | AY95: 0.7 | BA95: 1 | BC95: 1.1 | BE95: 1.1 | BG95: 0.9 | BI95: 1 | BK95: 0.7 | BM95: 0.8 | BO95: 0.8 | BQ95: 1.2 | BS95: 1 | BU95: 0.8 | BW95: 0.9 | BY95: 0.8 | CA95: 0.8 | CC95: 0.8 | CE95: 0.8 | CG95: 1.2 | CI95: 0.7 | CK95: 0.8 | CM95: 1.1
A96: Mostri (L0, Add.) ( ) | K96: 1 | M96: 1 | O96: 0.7 | Q96: 1 | S96: 1 | U96: 0.9 | W96: 0.9 | Y96: 0.8 | AA96: 0.9 | AC96: 1 | AE96: 0.8 | AG96: 1.2 | AI96: 0.8 | AK96: 1.2 | AM96: 0.9 | AO96: 0.9 | AQ96: 1.2 | AS96: 0.7 | AU96: 0.8 | AW96: 1.1 | AY96: 1.1 | BA96: 1.2 | BC96: 1,2* | BE96: 1.2 | BG96: 1.1 | BI96: 1.1 | BK96: 1.2 | BM96: 0.8 | BO96: 0.8 | BQ96: 1.2 | BS96: 0.8 | BU96: 1.1 | BW96: 0.9 | BY96: 1.1 | CA96: 1.1 | CC96: 1.2 | CE96: 1.2 | CG96: 1.2 | CI96: 1 | CK96: 0.8 | CM96: 1.2
A97: Mostri (L0, Add.) ( ) | K97: 1 | M97: 1 | O97: 0.7 | Q97: 1 | S97: 1 | U97: 0.9 | W97: 0.9 | Y97: 0.8 | AA97: 0.9 | AC97: 1 | AE97: 0.8 | AG97: 1.2 | AI97: 0.8 | AK97: 1.2 | AM97: 0.9 | AO97: 0.9 | AQ97: 1.2 | AS97: 0.7 | AU97: 0.8 | AW97: 1.1 | AY97: 1.1 | BA97: 1.2 | BC97: 0.8 | BE97: 1.2 | BG97: 1.1 | BI97: 1.1 | BK97: 1.2 | BM97: 0.8 | BO97: 0.8 | BQ97: 1.2 | BS97: 0.8 | BU97: 1.1 | BW97: 0.9 | BY97: 1.1 | CA97: 1.1 | CC97: 1.2 | CE97: 1.2 | CG97: 1.2 | CI97: 1 | CK97: 0.8 | CM97: 1.2
A98: Mostri (L0, Add.) ( ) | K98: 1 | M98: 1 | O98: 0.7 | Q98: 1 | S98: 1 | U98: 0.9 | W98: 0.9 | Y98: 0.8 | AA98: 0.9 | AC98: 1 | AE98: 0.8 | AG98: 1.2 | AI98: 0.8 | AK98: 1.2 | AM98: 0.9 | AO98: 0.9 | AQ98: 1.2 | AS98: 0.7 | AU98: 0.8 | AW98: 1.1 | AY98: 1.1 | BA98: 1.2 | BC98: 0.8 | BE98: 1.2 | BG98: 1.1 | BI98: 1.1 | BK98: 1.2 | BM98: 0.8 | BO98: 0.8 | BQ98: 1.2 | BS98: 0.8 | BU98: 1.1 | BW98: 0.9 | BY98: 1.1 | CA98: 1.1 | CC98: 1.2 | CE98: 1.2 | CG98: 1.2 | CI98: 1 | CK98: 0.8 | CM98: 1.2
A99: Pietre e metalli (L0, Add.) | K99: 1.1 | M99: 1 | O99: 0.7 | Q99: 1 | S99: 1 | U99: 1.2 | W99: 1.2 | Y99: 0.8 | AA99: 1.2 | AC99: 1 | AE99: 1.1 | AG99: 1.2 | AI99: 0.8 | AK99: 1.2 | AM99: 0.9 | AO99: 0.9 | AQ99: 1.2 | AS99: 0.7 | AU99: 0.8 | AW99: 1.2 | AY99: 1.2 | BA99: 1 | BC99: 0.8 | BE99: 1.1 | BG99: 0.9 | BI99: 1 | BK99: 0.7 | BM99: 1.2 | BO99: 1.2 | BQ99: 1.2 | BS99: 1 | BU99: 1.2 | BW99: 1.2 | BY99: 1.2 | CA99: 1.2 | CC99: 1.2 | CE99: 1 | CG99: 1.2 | CI99: 1 | CK99: 1.2 | CM99: 1.1
A100: Storia (L0, Add.) ( ) | K100: 1 | M100: 1 | O100: 0.7 | Q100: 1 | S100: 1 | U100: 0.9 | W100: 0.9 | Y100: 0.8 | AA100: 0.9 | AC100: 1 | AE100: 0.8 | AG100: 1.2 | AI100: 0.8 | AK100: 1.2 | AM100: 0.9 | AO100: 0.9 | AQ100: 1.2 | AS100: 0.7 | AU100: 0.8 | AW100: 1,3* | AY100: 1.1 | BA100: 1 | BC100: 0.8 | BE100: 1.1 | BG100: 0.9 | BI100: 1 | BK100: 0.7 | BM100: 1,1* | BO100: 1,3* | BQ100: 1.2 | BS100: 1 | BU100: 0.8 | BW100: 0.9 | BY100: 1,2* | CA100: 0.8 | CC100: 1.2 | CE100: 0.8 | CG100: 1,3* | CI100: 1 | CK100: 0.8 | CM100: 1.1
A101: Storia (L0, Add.) ( ) | K101: 1 | M101: 1 | O101: 0.7 | Q101: 1 | S101: 1 | U101: 0.9 | W101: 0.9 | Y101: 0.8 | AA101: 0.9 | AC101: 1 | AE101: 0.8 | AG101: 1.2 | AI101: 0.8 | AK101: 1.2 | AM101: 0.9 | AO101: 0.9 | AQ101: 1.2 | AS101: 0.7 | AU101: 0.8 | AW101: 1.1 | AY101: 1.1 | BA101: 1 | BC101: 0.8 | BE101: 1.1 | BG101: 0.9 | BI101: 1 | BK101: 0.7 | BM101: 0.8 | BO101: 0.8 | BQ101: 1.2 | BS101: 1.1 | BU101: 0.8 | BW101: 0.9 | BY101: 0.8 | CA101: 0.8 | CC101: 1.2 | CE101: 0.8 | CG101: 1.2 | CI101: 1 | CK101: 0.8 | CM101: 1.1
A102: Storia (L0, Add.) ( ) | K102: 1 | M102: 1 | O102: 0.7 | Q102: 1 | S102: 1 | U102: 0.9 | W102: 0.9 | Y102: 0.8 | AA102: 0.9 | AC102: 1 | AE102: 0.8 | AG102: 1.2 | AI102: 0.8 | AK102: 1.2 | AM102: 0.9 | AO102: 0.9 | AQ102: 1.2 | AS102: 0.7 | AU102: 0.8 | AW102: 1.1 | AY102: 1.1 | BA102: 1 | BC102: 0.8 | BE102: 1.1 | BG102: 0.9 | BI102: 1 | BK102: 0.7 | BM102: 0.8 | BO102: 0.8 | BQ102: 1.2 | BS102: 1.1 | BU102: 0.8 | BW102: 0.9 | BY102: 0.8 | CA102: 0.8 | CC102: 1.2 | CE102: 0.8 | CG102: 1.2 | CI102: 1 | CK102: 0.8 | CM102: 1.1
A103: Natura (L0, Add.) | K103: 1 | M103: 1 | O103: 0.7 | Q103: 1.2 | S103: 1.2 | U103: 0.9 | W103: 0.9 | Y103: 1.2 | AA103: 0.9 | AC103: 1.2 | AE103: 0.8 | AG103: 1.3 | AI103: 1.1 | AK103: 1.3 | AM103: 1.1 | AO103: 1.3 | AQ103: 1.2 | AS103: 1.2 | AU103: 1.2 | AW103: 1.1 | AY103: 1.3 | BA103: 1.1 | BC103: 1.3 | BE103: 1.1 | BG103: 1.3 | BI103: 1.3 | BK103: 1 | BM103: 1 | BO103: 1.1 | BQ103: 1.2 | BS103: 1.1 | BU103: 0.8 | BW103: 0.9 | BY103: 0.8 | CA103: 0.8 | CC103: 1.3 | CE103: 0.8 | CG103: 1.3 | CI103: 1 | CK103: 1.2 | CM103: 0.8
A104: Trinità (L0) | K104: 1 | M104: 1 | O104: 0.7 | Q104: 1 | S104: 0.9 | U104: 0.9 | W104: 0.9 | Y104: 0.8 | AA104: 0.9 | AC104: 1 | AE104: 0.8 | AG104: 0.7 | AI104: 0.8 | AK104: 0.7 | AM104: 0.9 | AO104: 0.7 | AQ104: 1.2 | AS104: 1.3 | AU104: 1.1 | AW104: 1.1 | AY104: 1.1 | BA104: 1 | BC104: 0.8 | BE104: 1.1 | BG104: 0.9 | BI104: 1 | BK104: 0.7 | BM104: 0.8 | BO104: 0.8 | BQ104: 0.7 | BS104: 1 | BU104: 1.1 | BW104: 1.1 | BY104: 1.1 | CA104: 0.8 | CC104: 0.7 | CE104: 0.8 | CG104: 0.7 | CI104: 1.1 | CK104: 0.7 | CM104: 1.1
A106: DEDUZIONE (Itu, Int)
A107: Ascoltare (L0) | K107: 1.1 | M107: 1.1 | O107: 1.1 | Q107: 1.2 | S107: 1 | U107: 1.1 | W107: 1.1 | Y107: 1.2 | AA107: 1.1 | AC107: 1.2 | AE107: 1.3 | AG107: 1.2 | AI107: 1.2 | AK107: 1.1 | AM107: 1.2 | AO107: 1.2 | AQ107: 1 | AS107: 0.9 | AU107: 1.1 | AW107: 1.2 | AY107: 1.2 | BA107: 1 | BC107: 1.1 | BE107: 1.1 | BG107: 1.1 | BI107: 1.3 | BK107: 1.2 | BM107: 1 | BO107: 1.2 | BQ107: 1.1 | BS107: 1.3 | BU107: 1.2 | BW107: 1 | BY107: 1.1 | CA107: 1.1 | CC107: 0.9 | CE107: 1.2 | CG107: 0.9 | CI107: 1.1 | CK107: 1 | CM107: 1.2
A108: Cercare (L0) | K108: 1.1 | M108: 1.1 | O108: 1.1 | Q108: 1.2 | S108: 1.2 | U108: 1 | W108: 1 | Y108: 1 | AA108: 1 | AC108: 1.2 | AE108: 1.3 | AG108: 1.3 | AI108: 1.2 | AK108: 1.1 | AM108: 1.2 | AO108: 1.3 | AQ108: 1.2 | AS108: 0.9 | AU108: 1.1 | AW108: 1.3 | AY108: 1.3 | BA108: 1 | BC108: 1.1 | BE108: 1.1 | BG108: 1.1 | BI108: 1.3 | BK108: 1 | BM108: 1 | BO108: 1 | BQ108: 1.2 | BS108: 1.3 | BU108: 1.2 | BW108: 1 | BY108: 1.3 | CA108: 1.1 | CC108: 0.9 | CE108: 1.2 | CG108: 0.9 | CI108: 1.1 | CK108: 1.2 | CM108: 1.2
A109: Osservare (L0) | K109: 1.1 | M109: 1.1 | O109: 1.1 | Q109: 1.2 | S109: 1.1 | U109: 1 | W109: 1 | Y109: 1.2 | AA109: 1 | AC109: 1.3 | AE109: 1.3 | AG109: 1.2 | AI109: 1.2 | AK109: 1.1 | AM109: 1.2 | AO109: 1.1 | AQ109: 1.3 | AS109: 0.9 | AU109: 1.1 | AW109: 1.2 | AY109: 1.2 | BA109: 1 | BC109: 1.1 | BE109: 1.1 | BG109: 1.1 | BI109: 1.3 | BK109: 1.2 | BM109: 1.2 | BO109: 1.2 | BQ109: 1.1 | BS109: 1.3 | BU109: 1.2 | BW109: 1 | BY109: 1.1 | CA109: 1.1 | CC109: 0.9 | CE109: 1.2 | CG109: 0.9 | CI109: 1.1 | CK109: 1.1 | CM109: 1.2
A110: Trovare trappole (L0) | K110: 1.2 | M110: 1.2 | O110: 1.1 | Q110: 1.2 | S110: 1 | U110: 1 | W110: 1 | Y110: 1 | AA110: 1 | AC110: 1.2 | AE110: 1.3 | AG110: 1.2 | AI110: 0.9 | AK110: 1.1 | AM110: 0.9 | AO110: 1.1 | AQ110: 1 | AS110: 0.9 | AU110: 1.1 | AW110: 1.3 | AY110: 1.3 | BA110: 1 | BC110: 1.1 | BE110: 1.1 | BG110: 1.2 | BI110: 1.3 | BK110: 1 | BM110: 1 | BO110: 1 | BQ110: 1.1 | BS110: 1.3 | BU110: 1.3 | BW110: 1 | BY110: 1.1 | CA110: 1.1 | CC110: 0.9 | CE110: 1.2 | CG110: 0.9 | CI110: 0.9 | CK110: 1 | CM110: 1.3
A111: Valutare (L0) | K111: 1.1 | M111: 1.2 | O111: 1.2 | Q111: 1.2 | S111: 1 | U111: 1 | W111: 1 | Y111: 1 | AA111: 1 | AC111: 1.2 | AE111: 1.3 | AG111: 1 | AI111: 1.1 | AK111: 1.3 | AM111: 1.1 | AO111: 0.9 | AQ111: 1 | AS111: 1 | AU111: 1.2 | AW111: 1.2 | AY111: 1.2 | BA111: 1 | BC111: 0.9 | BE111: 0.8 | BG111: 1.1 | BI111: 1 | BK111: 1 | BM111: 1.2 | BO111: 1 | BQ111: 1.1 | BS111: 1.3 | BU111: 1.2 | BW111: 1.1 | BY111: 1.1 | CA111: 1.3 | CC111: 1.1 | CE111: 1.2 | CG111: 1.2 | CI111: 0.9 | CK111: 1 | CM111: 1.2
A113: ESPLORATORE (Mem, Itu)
A114: Animalista (L0, Add.) | K114: 1.2 | M114: 0.9 | O114: 0.9 | Q114: 1.1 | S114: 0.9 | U114: 1.2 | W114: 1.1 | Y114: 1.3 | AA114: 1.1 | AC114: 1 | AE114: 1.2 | AG114: 0.8 | AI114: 1.3 | AK114: 0.8 | AM114: 1.2 | AO114: 1.3 | AQ114: 1 | AS114: 1.3 | AU114: 1.1 | AW114: 1 | AY114: 1 | BA114: 1 | BC114: 1.2 | BE114: 1.2 | BG114: 1.2 | BI114: 1.1 | BK114: 1.3 | BM114: 1.1 | BO114: 1.1 | BQ114: 0.8 | BS114: 0.9 | BU114: 0.8 | BW114: 0.7 | BY114: 1.2 | CA114: 0.8 | CC114: 0.8 | CE114: 1.1 | CG114: 0.7 | CI114: 1.2 | CK114: 1.2 | CM114: 0.8
...

Sheet C.Studi
K1: Acc. Torri dell'Ordine (Alterazione) | M1: Acc. Torri dell'Ordine (Animali) | O1: Acc. Torri dell'Ordine (Divinazione) | Q1: Acc. Torri dell'Ordine (Elementi) | S1: Acc. Torri dell'Ordine (Guerra) | U1: Acc. Torri dell'Ordine (Morte) | W1: Acc. Torri dell'Ordine (Natura) | Y1: Acc. Torri dell'Ordine (Ombre) | AA1: Acc. Torri dell'Ordine (Protezione) | AC1: Acc. Torri dell'Ordine (Spirito) | AE1: Acc. Torri dell'Ordine (Vita) | AG1: Accademia militare | AI1: Agricoltore | AK1: Artigiano runico | AM1: Cacciatore | AO1: Ladro di strada | AQ1: Selvaggio | AS1: Studente Circolo Druidico Silvano | AU1: Studente di magia | AW1: Studente di magia drow | AY1: PERSONALIZZATO
A2: ABILITÀ | K2: ACCADEMIA DELLE TORRI DELL'ORDINE | AG2: ### | AI2: ### | AK2: ### | AM2: ### | AO2: ### | AQ2: ### | AS2: ### | AU2: ### | AW2: ### | AY2: ###
A5: ARMI AD ASTA (For, Rif)
A6: Alabarda (L0, Add.) | K6: 0.8 | M6: 0.8 | O6: 0.9 | Q6: 1 | S6: 1.1 | U6: 0.9 | W6: 0.8 | Y6: 0.7 | AA6: 1.2 | AC6: 0.8 | AE6: 1.1 | AG6: 1.2 | AI6: 1.2 | AK6: 0.9 | AM6: 0.8 | AO6: 0.7 | AQ6: 0.7 | AS6: 1 | AU6: 0.7 | AW6: 0.8
A7: Bastone ferrato (L0) | K7: 0.8 | M7: 0.8 | O7: 0.9 | Q7: 1 | S7: 1.1 | U7: 0.9 | W7: 1 | Y7: 0.7 | AA7: 1.2 | AC7: 0.8 | AE7: 1.3 | AG7: 1.2 | AI7: 1.2 | AK7: 1.1 | AM7: 0.8 | AO7: 1 | AQ7: 1.1 | AS7: 1.1 | AU7: 1 | AW7: 0.9
A8: Falce (L0) | K8: 0.8 | M8: 0.8 | O8: 0.9 | Q8: 1 | S8: 1.1 | U8: 1.2 | W8: 0.8 | Y8: 0.7 | AA8: 1 | AC8: 0.8 | AE8: 1.1 | AG8: 1.2 | AI8: 1.2 | AK8: 0.9 | AM8: 0.8 | AO8: 0.7 | AQ8: 0.7 | AS8: 0.7 | AU8: 0.9 | AW8: 0.8
A9: Lancia da cavaliere (L0) | K9: 0.8 | M9: 0.8 | O9: 0.9 | Q9: 1 | S9: 1.1 | U9: 0.9 | W9: 0.8 | Y9: 0.7 | AA9: 1.2 | AC9: 0.8 | AE9: 1.1 | AG9: 1.2 | AI9: 0.7 | AK9: 0.9 | AM9: 0.8 | AO9: 0.7 | AQ9: 0.7 | AS9: 1 | AU9: 0.7 | AW9: 0.8
A10: Picca (Add.) | K10: 0.8 | M10: 0.8 | O10: 0.9 | Q10: 1 | S10: 1.1 | U10: 0.9 | W10: 0.8 | Y10: 0.7 | AA10: 1.2 | AC10: 0.8 | AE10: 1.1 | AG10: 1.2 | AI10: 1.2 | AK10: 0.9 | AM10: 0.8 | AO10: 0.7 | AQ10: 0.7 | AS10: 1 | AU10: 0.9 | AW10: 0.8
A11: Tridente (L0) | K11: 0.8 | M11: 0.8 | O11: 0.9 | Q11: 1 | S11: 1.1 | U11: 0.9 | W11: 0.8 | Y11: 0.7 | AA11: 1.2 | AC11: 0.8 | AE11: 1.1 | AG11: 1.2 | AI11: 1 | AK11: 0.9 | AM11: 0.8 | AO11: 0.7 | AQ11: 0.7 | AS11: 1 | AU11: 0.9 | AW11: 0.8
A13: ARMI CONTUNDENTI (For, Man)
A14: Contundenti piccole (L0) | K14: 1 | M14: 0.9 | O14: 0.7 | Q14: 0.9 | S14: 1.1 | U14: 0.7 | W14: 1.1 | Y14: 1.2 | AA14: 1 | AC14: 0.8 | AE14: 1.1 | AG14: 1.2 | AI14: 0.9 | AK14: 1 | AM14: 1 | AO14: 1.1 | AQ14: 1.2 | AS14: 1.2 | AU14: 1 | AW14: 1
A15: Contundenti medie (L0) | K15: 0.9 | M15: 0.9 | O15: 0.7 | Q15: 0.9 | S15: 1.1 | U15: 0.9 | W15: 1.1 | Y15: 0.9 | AA15: 1 | AC15: 0.8 | AE15: 0.9 | AG15: 1.2 | AI15: 1.1 | AK15: 1 | AM15: 1 | AO15: 1.1 | AQ15: 1.2 | AS15: 1.2 | AU15: 0.8 | AW15: 0.7
A16: Contundenti grandi (L0) | K16: 0.9 | M16: 0.9 | O16: 0.7 | Q16: 0.9 | S16: 1.1 | U16: 0.9 | W16: 1.1 | Y16: 0.9 | AA16: 0.7 | AC16: 0.8 | AE16: 0.9 | AG16: 1.2 | AI16: 0.9 | AK16: 0.8 | AM16: 1 | AO16: 1.1 | AQ16: 1.2 | AS16: 1.2 | AU16: 0.8 | AW16: 0.7
A18: ARMI DA LANCIO (Agi, Man)
A19: Bolas (L0) | K19: 0.9 | M19: 1 | O19: 1.2 | Q19: 0.9 | S19: 1.1 | U19: 1.1 | W19: 0.9 | Y19: 0.8 | AA19: 0.8 | AC19: 0.7 | AE19: 1 | AG19: 1.1 | AI19: 0.8 | AK19: 1 | AM19: 1 | AO19: 0.8 | AQ19: 1.2 | AS19: 1.1 | AU19: 0.9 | AW19: 0.8
A20: Boomerang | K20: 0.9 | M20: 1.2 | O20: 1.1 | Q20: 0.9 | S20: 1 | U20: 0.8 | W20: 0.9 | Y20: 0.8 | AA20: 0.8 | AC20: 0.7 | AE20: 0.8 | AG20: 1.1 | AI20: 0.8 | AK20: 0.8 | AM20: 1 | AO20: 0.8 | AQ20: 1.2 | AS20: 1.1 | AU20: 0.9 | AW20: 0.8
A21: Dardi (L0) | K21: 0.9 | M21: 1 | O21: 1.1 | Q21: 0.9 | S21: 1 | U21: 1.2 | W21: 0.9 | Y21: 0.8 | AA21: 0.8 | AC21: 0.7 | AE21: 0.8 | AG21: 1.1 | AI21: 0.8 | AK21: 1 | AM21: 1 | AO21: 0.8 | AQ21: 1.2 | AS21: 0.7 | AU21: 1.1 | AW21: 1.1
A22: Generico (L0) | K22: 1.1 | M22: 1 | O22: 1.1 | Q22: 1.2 | S22: 1 | U22: 1.1 | W22: 0.9 | Y22: 0.8 | AA22: 0.8 | AC22: 0.7 | AE22: 0.8 | AG22: 1.1 | AI22: 0.8 | AK22: 1 | AM22: 1 | AO22: 0.8 | AQ22: 1.2 | AS22: 1.1 | AU22: 0.9 | AW22: 0.8
A23: Giavellotto (L0) | K23: 0.9 | M23: 1 | O23: 1.1 | Q23: 0.9 | S23: 1.2 | U23: 1.1 | W23: 1.1 | Y23: 0.8 | AA23: 0.8 | AC23: 0.7 | AE23: 0.8 | AG23: 1.2 | AI23: 0.8 | AK23: 1 | AM23: 1 | AO23: 0.8 | AQ23: 1.2 | AS23: 1.1 | AU23: 0.9 | AW23: 0.8
A24: Shuriken (Add.) | K24: 0.9 | M24: 1 | O24: 1.1 | Q24: 0.9 | S24: 1 | U24: 1.1 | W24: 0.9 | Y24: 1.2 | AA24: 0.8 | AC24: 0.7 | AE24: 0.8 | AG24: 1.1 | AI24: 0.8 | AK24: 0.7 | AM24: 1 | AO24: 0.8 | AQ24: 0.7 | AS24: 0.7 | AU24: 0.9 | AW24: 0.8
A26: ARMI DA TIRO (For, Agi)
A27: Archi | K27: 0.8 | M27: 0.7 | O27: 1.2 | Q27: 0.9 | S27: 1.2 | U27: 0.9 | W27: 0.8 | Y27: 1 | AA27: 1.1 | AC27: 0.8 | AE27: 0.8 | AG27: 1.2 | AI27: 0.9 | AK27: 1.1 | AM27: 1.3 | AO27: 0.9 | AQ27: 0.7 | AS27: 0.8 | AU27: 0.7 | AW27: 1
A28: Balestre (Man, Rif) (L0) | K28: 0.8 | M28: 0.7 | O28: 1.2 | Q28: 0.9 | S28: 1.2 | U28: 0.9 | W28: 0.8 | Y28: 1.2 | AA28: 1.1 | AC28: 1 | AE28: 0.8 | AG28: 1.2 | AI28: 0.7 | AK28: 0.8 | AM28: 1.2 | AO28: 1.1 | AQ28: 0.7 | AS28: 0.8 | AU28: 1 | AW28: 0.9
A29: Cerbottana (L0) | K29: 0.8 | M29: 0.7 | O29: 1.1 | Q29: 0.9 | S29: 1.2 | U29: 0.9 | W29: 0.8 | Y29: 1 | AA29: 1.1 | AC29: 0.8 | AE29: 0.8 | AG29: 1.2 | AI29: 0.7 | AK29: 0.8 | AM29: 1.2 | AO29: 0.9 | AQ29: 1 | AS29: 0.8 | AU29: 0.7 | AW29: 0.9
A30: Fionda (L0) | K30: 0.8 | M30: 0.7 | O30: 1.1 | Q30: 1 | S30: 1.2 | U30: 0.9 | W30: 0.8 | Y30: 1 | AA30: 1.1 | AC30: 0.8 | AE30: 0.8 | AG30: 1.2 | AI30: 1 | AK30: 0.8 | AM30: 1.2 | AO30: 0.9 | AQ30: 0.7 | AS30: 1.1 | AU30: 0.7 | AW30: 0.9
A32: ARMI ESOTICHE (Man, For)
A33: Catena chiodata (L0) | K33: 1.1 | M33: 0.8 | O33: 0.7 | Q33: 1 | S33: 1.1 | U33: 0.8 | W33: 0.9 | Y33: 0.9 | AA33: 0.8 | AC33: 0.8 | AE33: 0.8 | AG33: 1.1 | AI33: 0.8 | AK33: 0.8 | AM33: 0.9 | AO33: 0.7 | AQ33: 0.7 | AS33: 0.7 | AU33: 0.8 | AW33: 0.8
A34: Frusta (Add.) | K34: 1.1 | M34: 0.8 | O34: 0.7 | Q34: 1.1 | S34: 1.1 | U34: 0.8 | W34: 0.9 | Y34: 0.9 | AA34: 0.8 | AC34: 0.8 | AE34: 0.8 | AG34: 1.1 | AI34: 1 | AK34: 0.8 | AM34: 1.1 | AO34: 0.7 | AQ34: 0.7 | AS34: 0.9 | AU34: 0.8 | AW34: 0.8
A35: Mano artigliata (L0) | K35: 0.8 | M35: 1.1 | O35: 0.7 | Q35: 1 | S35: 1.1 | U35: 0.8 | W35: 0.9 | Y35: 0.9 | AA35: 0.8 | AC35: 0.8 | AE35: 0.8 | AG35: 1.1 | AI35: 0.8 | AK35: 0.8 | AM35: 0.9 | AO35: 0.7 | AQ35: 0.7 | AS35: 0.7 | AU35: 0.8 | AW35: 0.8
A36: Mazzafrusto (L0) | K36: 1.1 | M36: 0.8 | O36: 0.7 | Q36: 1 | S36: 1.1 | U36: 0.8 | W36: 1.1 | Y36: 0.9 | AA36: 0.8 | AC36: 0.8 | AE36: 0.8 | AG36: 1.2 | AI36: 0.8 | AK36: 0.8 | AM36: 0.9 | AO36: 0.7 | AQ36: 0.7 | AS36: 0.7 | AU36: 0.8 | AW36: 0.8
A37: Rete (L0) | K37: 1.1 | M37: 1.1 | O37: 0.7 | Q37: 1 | S37: 1.1 | U37: 0.8 | W37: 0.9 | Y37: 1.1 | AA37: 0.8 | AC37: 0.8 | AE37: 1.2 | AG37: 1.1 | AI37: 1 | AK37: 0.8 | AM37: 1.2 | AO37: 0.7 | AQ37: 0.7 | AS37: 0.7 | AU37: 0.8 | AW37: 0.8
A38: Scudo chiodato (For, Man) (L0) | K38: 1.1 | M38: 0.8 | O38: 0.7 | Q38: 1 | S38: 1.1 | U38: 0.8 | W38: 0.7 | Y38: 0.9 | AA38: 1.1 | AC38: 0.8 | AE38: 0.8 | AG38: 1.1 | AI38: 0.8 | AK38: 0.8 | AM38: 0.9 | AO38: 0.7 | AQ38: 0.7 | AS38: 0.7 | AU38: 0.8 | AW38: 0.8
A40: ARMI TAGLIENTI (For, Man)
A41: Perforanti (Agi, Rif) (L0) | K41: 1 | M41: 0.8 | O41: 1 | Q41: 1.1 | S41: 1.2 | U41: 1 | W41: 0.9 | Y41: 0.9 | AA41: 0.9 | AC41: 1 | AE41: 1 | AG41: 1.2 | AI41: 0.9 | AK41: 1 | AM41: 1 | AO41: 1 | AQ41: 0.7 | AS41: 0.7 | AU41: 0.8 | AW41: 0.9
A42: Pugnali (L0) | K42: 0.8 | M42: 0.8 | O42: 0.8 | Q42: 1.1 | S42: 1.2 | U42: 0.8 | W42: 0.9 | Y42: 1.2 | AA42: 0.9 | AC42: 0.8 | AE42: 0.8 | AG42: 1.2 | AI42: 0.9 | AK42: 1.1 | AM42: 1.2 | AO42: 1.2 | AQ42: 0.7 | AS42: 0.7 | AU42: 1 | AW42: 1
A43: Spade (L0) | K43: 0.8 | M43: 0.8 | O43: 0.8 | Q43: 0.9 | S43: 1.2 | U43: 0.8 | W43: 1 | Y43: 0.9 | AA43: 1.2 | AC43: 0.8 | AE43: 0.8 | AG43: 1.2 | AI43: 1 | AK43: 1 | AM43: 1.1 | AO43: 1.1 | AQ43: 0.7 | AS43: 0.7 | AU43: 0.8 | AW43: 1
A44: Spadoni (L0) | K44: 0.8 | M44: 0.8 | O44: 0.8 | Q44: 0.9 | S44: 1.2 | U44: 0.8 | W44: 0.9 | Y44: 0.9 | AA44: 0.9 | AC44: 0.8 | AE44: 0.8 | AG44: 1.2 | AI44: 0.9 | AK44: 1 | AM44: 1 | AO44: 1 | AQ44: 0.7 | AS44: 0.7 | AU44: 0.8 | AW44: 0.9
A46: ASCE (For, Man)
A47: Asce medie (L0) | K47: 0.8 | M47: 0.9 | O47: 0.7 | Q47: 0.9 | S47: 1.1 | U47: 0.7 | W47: 0.7 | Y47: 0.7 | AA47: 0.8 | AC47: 0.8 | AE47: 0.7 | AG47: 1.1 | AI47: 1 | AK47: 0.9 | AM47: 1 | AO47: 0.8 | AQ47: 0.8 | AS47: 0.7 | AU47: 0.7 | AW47: 0.7
A48: Asce grandi (L0) | K48: 0.8 | M48: 0.9 | O48: 0.7 | Q48: 0.9 | S48: 1.1 | U48: 0.7 | W48: 0.7 | Y48: 0.7 | AA48: 0.8 | AC48: 0.8 | AE48: 0.7 | AG48: 1.1 | AI48: 1 | AK48: 0.9 | AM48: 1 | AO48: 0.8 | AQ48: 0.8 | AS48: 0.7 | AU48: 0.7 | AW48: 0.7
A50: ARTIGIANATO (Man, Mem)
A51: Alchimia (Add.) | K51: 1.1 | M51: 1 | O51: 1.1 | Q51: 1.1 | S51: 0.7 | U51: 1.2 | W51: 1.3 | Y51: 0.7 | AA51: 0.7 | AC51: 1.2 | AE51: 1.3 | AG51: 0.7 | AI51: 0.9 | AK51: 1.1 | AM51: 1.1 | AO51: 1 | AQ51: 0.7 | AS51: 1.1 | AU51: 1.3 | AW51: 1.3
A52: Creare trappole (L0, Add.) | K52: 0.7 | M52: 1.2 | O52: 0.7 | Q52: 0.7 | S52: 1 | U52: 1.1 | W52: 0.9 | Y52: 1.2 | AA52: 0.7 | AC52: 1 | AE52: 1 | AG52: 1.1 | AI52: 1.1 | AK52: 1.1 | AM52: 1.3 | AO52: 1.1 | AQ52: 1.1 | AS52: 0.8 | AU52: 1.1 | AW52: 1.1
A53: Creare veleni (Add.) | K53: 1.1 | M53: 1 | O53: 1 | Q53: 0.7 | S53: 0.7 | U53: 1.2 | W53: 1 | Y53: 1.1 | AA53: 0.7 | AC53: 1 | AE53: 1 | AG53: 0.7 | AI53: 0.8 | AK53: 1.1 | AM53: 1.1 | AO53: 1 | AQ53: 0.7 | AS53: 1.1 | AU53: 1.1 | AW53: 1.1
A54: Forgiare armature (L0, Add.) | K54: 0.7 | M54: 1 | O54: 0.7 | Q54: 0.7 | S54: 0.7 | U54: 1.1 | W54: 0.9 | Y54: 0.7 | AA54: 1.1 | AC54: 1 | AE54: 1 | AG54: 0.7 | AI54: 0.8 | AK54: 0.8 | AM54: 1.1 | AO54: 0.8 | AQ54: 0.8 | AS54: 0.8 | AU54: 0.8 | AW54: 0.7
A55: Forgiare armi (L0, Add.) | K55: 0.7 | M55: 1 | O55: 0.7 | Q55: 0.7 | S55: 1.2 | U55: 1.1 | W55: 0.9 | Y55: 0.7 | AA55: 0.7 | AC55: 1 | AE55: 1 | AG55: 0.7 | AI55: 0.8 | AK55: 0.8 | AM55: 1.1 | AO55: 0.8 | AQ55: 0.8 | AS55: 0.8 | AU55: 0.7 | AW55: 0.9
A56: Lavorare i metalli (L0, Add.) | K56: 0.7 | M56: 1 | O56: 0.7 | Q56: 0.7 | S56: 0.7 | U56: 1.1 | W56: 0.9 | Y56: 0.7 | AA56: 1 | AC56: 1 | AE56: 1 | AG56: 0.7 | AI56: 1.1 | AK56: 1.1 | AM56: 1.1 | AO56: 1 | AQ56: 1.1 | AS56: 0.8 | AU56: 1.1 | AW56: 1.1
A57: Lavorare i tessuti (L0, Add.) | K57: 1 | M57: 1.1 | O57: 0.7 | Q57: 0.7 | S57: 0.7 | U57: 1.1 | W57: 0.9 | Y57: 1.1 | AA57: 0.7 | AC57: 1 | AE57: 1 | AG57: 0.7 | AI57: 1.1 | AK57: 1.1 | AM57: 1.1 | AO57: 1 | AQ57: 1.1 | AS57: 0.8 | AU57: 1.1 | AW57: 1.1
A58: Lavorare il legno (L0, Add.) | K58: 0.7 | M58: 1 | O58: 0.7 | Q58: 0.7 | S58: 0.7 | U58: 1.1 | W58: 1.1 | Y58: 0.7 | AA58: 0.7 | AC58: 1 | AE58: 1 | AG58: 0.7 | AI58: 1.1 | AK58: 1.1 | AM58: 1.2 | AO58: 1 | AQ58: 1.1 | AS58: 0.8 | AU58: 1.1 | AW58: 1.1
A59: Lavorare la pietra (L0, Add.) | K59: 0.7 | M59: 1 | O59: 0.7 | Q59: 0.7 | S59: 0.7 | U59: 1.1 | W59: 0.9 | Y59: 0.7 | AA59: 0.7 | AC59: 1 | AE59: 1 | AG59: 1 | AI59: 1.1 | AK59: 1.3 | AM59: 1.1 | AO59: 1 | AQ59: 1.1 | AS59: 1.1 | AU59: 1.1 | AW59: 1.1
A61: ARTIGIANATO RUNICO (Man, Mem)
A62: Artigianato dell'Alterazione (Add.) | K62: 0.7 | M62: 0.7 | O62: 0.8 | Q62: 0.7 | S62: 0.7 | U62: 0.7 | W62: 0.7 | Y62: 0.7 | AA62: 0.7 | AC62: 0.7 | AE62: 0.7 | AG62: 0.7 | AI62: 1 | AK62: 1,1* | AM62: 0.8 | AO62: 0.7 | AQ62: 0.7 | AS62: 0.7 | AU62: 1 | AW62: 1
A63: Artigianato degli Animali (Add.) | K63: 0.7 | M63: 0.7 | O63: 0.8 | Q63: 0.7 | S63: 0.7 | U63: 0.7 | W63: 0.7 | Y63: 0.7 | AA63: 0.7 | AC63: 0.7 | AE63: 0.7 | AG63: 0.7 | AI63: 1 | AK63: 1,1* | AM63: 0.8 | AO63: 0.7 | AQ63: 0.7 | AS63: 0.7 | AU63: 1 | AW63: 1
A64: Artigianato della Divinazione (Add.) | K64: 0.7 | M64: 0.7 | O64: 0.8 | Q64: 0.7 | S64: 0.7 | U64: 0.7 | W64: 0.7 | Y64: 0.7 | AA64: 0.7 | AC64: 0.7 | AE64: 0.7 | AG64: 0.7 | AI64: 1 | AK64: 1,1* | AM64: 0.8 | AO64: 0.7 | AQ64: 0.7 | AS64: 0.7 | AU64: 1 | AW64: 1
A65: Artigianato degli Elementi (Add.) | K65: 0.7 | M65: 0.7 | O65: 0.8 | Q65: 0.7 | S65: 0.7 | U65: 0.7 | W65: 0.7 | Y65: 0.7 | AA65: 0.7 | AC65: 0.7 | AE65: 0.7 | AG65: 0.7 | AI65: 1 | AK65: 1,1* | AM65: 0.8 | AO65: 0.7 | AQ65: 0.7 | AS65: 0.7 | AU65: 1 | AW65: 1
A66: Artigianato della Guerra (Add.) | K66: 0.7 | M66: 0.7 | O66: 0.8 | Q66: 0.7 | S66: 0.7 | U66: 0.7 | W66: 0.7 | Y66: 0.7 | AA66: 0.7 | AC66: 0.7 | AE66: 0.7 | AG66: 0.7 | AI66: 1 | AK66: 1,1* | AM66: 0.8 | AO66: 0.7 | AQ66: 0.7 | AS66: 0.7 | AU66: 1 | AW66: 1
A67: Artigianato della Morte (Add.) | K67: 0.7 | M67: 0.7 | O67: 0.8 | Q67: 0.7 | S67: 0.7 | U67: 0.7 | W67: 0.7 | Y67: 0.7 | AA67: 0.7 | AC67: 0.7 | AE67: 0.7 | AG67: 0.7 | AI67: 1 | AK67: 1,1* | AM67: 0.8 | AO67: 0.7 | AQ67: 0.7 | AS67: 0.7 | AU67: 1 | AW67: 1
A68: Artigianato della Natura (Add.) | K68: 0.7 | M68: 0.7 | O68: 0.8 | Q68: 0.7 | S68: 0.7 | U68: 0.7 | W68: 0.7 | Y68: 0.7 | AA68: 0.7 | AC68: 0.7 | AE68: 0.7 | AG68: 0.7 | AI68: 1 | AK68: 1,1* | AM68: 0.8 | AO68: 0.7 | AQ68: 0.7 | AS68: 0.7 | AU68: 1 | AW68: 1
A69: Artigianato della Ombre (Add.) | K69: 0.7 | M69: 0.7 | O69: 0.8 | Q69: 0.7 | S69: 0.7 | U69: 0.7 | W69: 0.7 | Y69: 0.7 | AA69: 0.7 | AC69: 0.7 | AE69: 0.7 | AG69: 0.7 | AI69: 1 | AK69: 1,1* | AM69: 0.8 | AO69: 0.7 | AQ69: 0.7 | AS69: 0.7 | AU69: 1 | AW69: 1
A70: Artigianato della Protezione (Add.) | K70: 0.7 | M70: 0.7 | O70: 0.8 | Q70: 0.7 | S70: 0.7 | U70: 0.7 | W70: 0.7 | Y70: 0.7 | AA70: 0.7 | AC70: 0.7 | AE70: 0.7 | AG70: 0.7 | AI70: 1 | AK70: 1,1* | AM70: 0.8 | AO70: 0.7 | AQ70: 0.7 | AS70: 0.7 | AU70: 1 | AW70: 1
A71: Artigianato dello Spirito (Add.) | K71: 0.7 | M71: 0.7 | O71: 0.8 | Q71: 0.7 | S71: 0.7 | U71: 0.7 | W71: 0.7 | Y71: 0.7 | AA71: 0.7 | AC71: 0.7 | AE71: 0.7 | AG71: 0.7 | AI71: 1 | AK71: 1,1* | AM71: 0.8 | AO71: 0.7 | AQ71: 0.7 | AS71: 0.7 | AU71: 1 | AW71: 1
A72: Artigianato della Vita (Add.) | K72: 0.7 | M72: 0.7 | O72: 0.8 | Q72: 0.7 | S72: 0.7 | U72: 0.7 | W72: 0.7 | Y72: 0.7 | AA72: 0.7 | AC72: 0.7 | AE72: 0.7 | AG72: 0.7 | AI72: 1 | AK72: 1,1* | AM72: 0.8 | AO72: 0.7 | AQ72: 0.7 | AS72: 0.7 | AU72: 1 | AW72: 1
A73: Artigianato Universale (Add.) | K73: 0.7 | M73: 0.7 | O73: 0.8 | Q73: 0.7 | S73: 0.7 | U73: 0.7 | W73: 0.7 | Y73: 0.7 | AA73: 0.7 | AC73: 0.7 | AE73: 0.7 | AG73: 0.7 | AI73: 1 | AK73: 1,1* | AM73: 0.8 | AO73: 0.7 | AQ73: 0.7 | AS73: 0.7 | AU73: 1 | AW73: 1
A75: CAPACITÀ FISICHE (For, Cos)
A76: Acrobazia* (Agi, For) (L0) | K76: 1 | M76: 1.2 | O76: 1 | Q76: 1.2 | S76: 1 | U76: 1 | W76: 1 | Y76: 1.3 | AA76: 0.9 | AC76: 0.9 | AE76: 1 | AG76: 1 | AI76: 1 | AK76: 0.8 | AM76: 1.1 | AO76: 1.1 | AQ76: 1.3 | AS76: 0.8 | AU76: 0.8 | AW76: 0.9
A77: Equilibrio* (Agi, For) (L0) | K77: 1.1 | M77: 1.2 | O77: 1 | Q77: 1.1 | S77: 1 | U77: 1 | W77: 1.2 | Y77: 1.3 | AA77: 0.9 | AC77: 1.2 | AE77: 1 | AG77: 1.2 | AI77: 1 | AK77: 0.8 | AM77: 1.1 | AO77: 1.1 | AQ77: 1.2 | AS77: 1.1 | AU77: 1.1 | AW77: 1.2
A78: Lotta* (L0) | K78: 1 | M78: 1.3 | O78: 1 | Q78: 1.2 | S78: 1.2 | U78: 1 | W78: 1 | Y78: 1.1 | AA78: 1.1 | AC78: 0.7 | AE78: 1 | AG78: 1.2 | AI78: 1 | AK78: 0.8 | AM78: 1 | AO78: 0.9 | AQ78: 1.3 | AS78: 1.1 | AU78: 0.8 | AW78: 0.9
A79: Nuotare* (L0) | K79: 1 | M79: 1.2 | O79: 1 | Q79: 1.1 | S79: 1 | U79: 1 | W79: 1 | Y79: 1.1 | AA79: 1.1 | AC79: 0.9 | AE79: 1 | AG79: 1.1 | AI79: 1.1 | AK79: 0.8 | AM79: 1.1 | AO79: 0.8 | AQ79: 1.2 | AS79: 1.1 | AU79: 0.8 | AW79: 0.9
A80: Saltare* (L0) | K80: 1.2 | M80: 1.2 | O80: 1 | Q80: 1.1 | S80: 1 | U80: 1 | W80: 1.2 | Y80: 1.1 | AA80: 1.1 | AC80: 0.9 | AE80: 1.1 | AG80: 1.2 | AI80: 1 | AK80: 0.8 | AM80: 1.1 | AO80: 1.1 | AQ80: 1.2 | AS80: 0.7 | AU80: 0.8 | AW80: 0.9
A81: Scalare* (L0) | K81: 1 | M81: 1.2 | O81: 1 | Q81: 1.1 | S81: 1 | U81: 1 | W81: 1 | Y81: 1.1 | AA81: 1.1 | AC81: 0.9 | AE81: 1.1 | AG81: 1.1 | AI81: 1 | AK81: 0.8 | AM81: 1.2 | AO81: 1.1 | AQ81: 1.2 | AS81: 1.1 | AU81: 0.8 | AW81: 0.9
A83: CONOSCENZE (Mem, Int)
A84: Animali (L0, Add.) | K84: 1.2 | M84: 1.3 | O84: 1.2 | Q84: 0.8 | S84: 0.8 | U84: 1.2 | W84: 1.1 | Y84: 0.9 | AA84: 1 | AC84: 1.3 | AE84: 1.1 | AG84: 0.8 | AI84: 1.1 | AK84: 0.9 | AM84: 1.2 | AO84: 0.7 | AQ84: 1 | AS84: 1 | AU84: 1.2 | AW84: 1.2
A85: Dimensioni (L0, Add.) | K85: 1.2 | M85: 1.1 | O85: 1.2 | Q85: 1.1 | S85: 0.8 | U85: 1.2 | W85: 1.1 | Y85: 1 | AA85: 1.1 | AC85: 1.3 | AE85: 1.1 | AG85: 0.8 | AI85: 0.7 | AK85: 0.8 | AM85: 0.8 | AO85: 0.7 | AQ85: 0.7 | AS85: 1 | AU85: 1.2 | AW85: 1.2
A86: Geografia (L0, Add.) ( ) | K86: 1.2 | M86: 1.1 | O86: 1.2 | Q86: 1.1 | S86: 0.8 | U86: 0.8 | W86: 1.1 | Y86: 0.9 | AA86: 1.1 | AC86: 1.3 | AE86: 1.1 | AG86: 0.8 | AI86: 0.7 | AK86: 1.1 | AM86: 1.2 | AO86: 0.7 | AQ86: 0.7 | AS86: 1 | AU86: 1.2 | AW86: 1.2
A87: Geografia (L0, Add.) ( ) | K87: 1.2 | M87: 1.1 | O87: 1.2 | Q87: 1.1 | S87: 0.8 | U87: 0.8 | W87: 1.1 | Y87: 0.9 | AA87: 1.1 | AC87: 1.3 | AE87: 1.1 | AG87: 0.8 | AI87: 0.7 | AK87: 1.1 | AM87: 1.2 | AO87: 0.7 | AQ87: 0.7 | AS87: 1 | AU87: 1.2 | AW87: 1.2
A88: Geografia (L0, Add.) ( ) | K88: 1.2 | M88: 1.1 | O88: 1.2 | Q88: 1.1 | S88: 0.8 | U88: 0.8 | W88: 1.1 | Y88: 0.9 | AA88: 1.1 | AC88: 1.3 | AE88: 1.1 | AG88: 0.8 | AI88: 0.7 | AK88: 1.1 | AM88: 1.2 | AO88: 0.7 | AQ88: 0.7 | AS88: 1 | AU88: 1.2 | AW88: 1.2
A89: Locali (L0, Add.) ( ) | K89: 1.2 | M89: 1.1 | O89: 1.2 | Q89: 1.1 | S89: 0.8 | U89: 1.2 | W89: 1.1 | Y89: 1.2 | AA89: 1.1 | AC89: 1.3 | AE89: 1.1 | AG89: 1.1 | AI89: 0.7 | AK89: 1.1 | AM89: 0.8 | AO89: 1,2* | AQ89: 1,3* | AS89: 1 | AU89: 1.2 | AW89: 1.2
A90: Locali (L0, Add.) ( ) | K90: 1.2 | M90: 1.1 | O90: 1.2 | Q90: 1.1 | S90: 0.8 | U90: 1.2 | W90: 1.1 | Y90: 1.2 | AA90: 1.1 | AC90: 1.3 | AE90: 1.1 | AG90: 1.1 | AI90: 0.7 | AK90: 1.1 | AM90: 0.8 | AO90: 0.7 | AQ90: 0.7 | AS90: 1 | AU90: 1.2 | AW90: 1.2
A91: Locali (L0, Add.) ( ) | K91: 1.2 | M91: 1.1 | O91: 1.2 | Q91: 1.1 | S91: 0.8 | U91: 1.2 | W91: 1.1 | Y91: 1.2 | AA91: 1.1 | AC91: 1.3 | AE91: 1.1 | AG91: 1.1 | AI91: 0.7 | AK91: 1.1 | AM91: 0.8 | AO91: 0.7 | AQ91: 0.7 | AS91: 1 | AU91: 1.2 | AW91: 1.2
A92: Magia dell'Ordine (L0, Add.) | K92: 1.2 | M92: 1.1 | O92: 1.2 | Q92: 1.1 | S92: 1.1 | U92: 1.2 | W92: 1.1 | Y92: 1.2 | AA92: 1.2 | AC92: 1.3 | AE92: 1.2 | AG92: 0.7 | AI92: 0.7 | AK92: 1.2 | AM92: 0.8 | AO92: 0.7 | AQ92: 0.7 | AS92: 0.7 | AU92: 0.7 | AW92: 0.7
A93: Magia demoniaca (L0) | K93: 1.2 | M93: 1.1 | O93: 1.2 | Q93: 1.1 | S93: 0.8 | U93: 1.2 | W93: 1.1 | Y93: 0.9 | AA93: 1.1 | AC93: 1.3 | AE93: 1.1 | AG93: 0.7 | AI93: 0.7 | AK93: 0.7 | AM93: 0.8 | AO93: 0.7 | AQ93: 0.7 | AS93: 0.7 | AU93: 0.7 | AW93: 0.7
A94: Magia di Gaia (L0) | K94: 0.9 | M94: 1.1 | O94: 1.2 | Q94: 1.1 | S94: 0.8 | U94: 1.2 | W94: 1.1 | Y94: 0.9 | AA94: 1.1 | AC94: 1.3 | AE94: 1.1 | AG94: 0.7 | AI94: 0.7 | AK94: 0.8 | AM94: 0.8 | AO94: 0.7 | AQ94: 0.7 | AS94: 1 | AU94: 1.2 | AW94: 1.2
